BEGIN:VCALENDAR
VERSION:2.0
PRODID:-//Providence Place Senior Living - ECPv6.11.2.1//NONSGML v1.0//EN
CALSCALE:GREGORIAN
METHOD:PUBLISH
X-ORIGINAL-URL:https://provplace.com
X-WR-CALDESC:Events for Providence Place Senior Living
REFRESH-INTERVAL;VALUE=DURATION:PT1H
X-Robots-Tag:noindex
X-PUBLISHED-TTL:PT1H
BEGIN:VTIMEZONE
TZID:America/Chicago
BEGIN:DAYLIGHT
TZOFFSETFROM:-0600
TZOFFSETTO:-0500
TZNAME:CDT
DTSTART:20250309T080000
END:DAYLIGHT
BEGIN:STANDARD
TZOFFSETFROM:-0500
TZOFFSETTO:-0600
TZNAME:CST
DTSTART:20251102T070000
END:STANDARD
END:VTIMEZONE
BEGIN:VEVENT
DTSTART;TZID=America/Chicago:20251111T103000
DTEND;TZID=America/Chicago:20251111T110000
DTSTAMP:20260422T073521
CREATED:20251031T060717Z
LAST-MODIFIED:20251111T063717Z
UID:10002105-1762857000-1762858800@provplace.com
SUMMARY:USA Trivia Teams for Prizes
DESCRIPTION:
URL:https://provplace.com/event-calendar/patriotic-games-prizes/
LOCATION:3 N
CATEGORIES:Long Term Care
END:VEVENT
BEGIN:VEVENT
DTSTART;TZID=America/Chicago:20251110T093000
DTEND;TZID=America/Chicago:20251110T100000
DTSTAMP:20260422T073521
CREATED:20251024T060724Z
LAST-MODIFIED:20251110T063716Z
UID:10002021-1762767000-1762768800@provplace.com
SUMMARY:This Day in History
DESCRIPTION:
URL:https://provplace.com/event-calendar/this-day-in-history-2/
LOCATION:3 N
CATEGORIES:Long Term Care
END:VEVENT
BEGIN:VEVENT
DTSTART;TZID=America/Chicago:20251109T133000
DTEND;TZID=America/Chicago:20251109T140000
DTSTAMP:20260422T073521
CREATED:20251019T060721Z
LAST-MODIFIED:20251109T063718Z
UID:10001898-1762695000-1762696800@provplace.com
SUMMARY:Music Social
DESCRIPTION:
URL:https://provplace.com/event-calendar/music-social-19/
LOCATION:3 N
CATEGORIES:Long Term Care
END:VEVENT
BEGIN:VEVENT
DTSTART;TZID=America/Chicago:20251108T153000
DTEND;TZID=America/Chicago:20251108T160000
DTSTAMP:20260422T073521
CREATED:20251021T060719Z
LAST-MODIFIED:20251108T062219Z
UID:10001930-1762615800-1762617600@provplace.com
SUMMARY:Mocktails & Music
DESCRIPTION:
URL:https://provplace.com/event-calendar/mocktails-music/
LOCATION:3 N
CATEGORIES:Long Term Care
END:VEVENT
BEGIN:VEVENT
DTSTART;TZID=America/Chicago:20251107T093000
DTEND;TZID=America/Chicago:20251107T100000
DTSTAMP:20260422T073521
CREATED:20251021T060719Z
LAST-MODIFIED:20251107T062216Z
UID:10001928-1762507800-1762509600@provplace.com
SUMMARY:Bean Bag Toss
DESCRIPTION:
URL:https://provplace.com/event-calendar/balloon-ball-tai-chi/
LOCATION:3 N
CATEGORIES:Long Term Care
END:VEVENT
BEGIN:VEVENT
DTSTART;TZID=America/Chicago:20251102T133000
DTEND;TZID=America/Chicago:20251102T140000
DTSTAMP:20260422T073521
CREATED:20251019T060720Z
LAST-MODIFIED:20251102T060718Z
UID:10001896-1762090200-1762092000@provplace.com
SUMMARY:Music Social
DESCRIPTION:
URL:https://provplace.com/event-calendar/music-social-18/
LOCATION:3 N
CATEGORIES:Long Term Care
END:VEVENT
BEGIN:VEVENT
DTSTART;TZID=America/Chicago:20251027T093000
DTEND;TZID=America/Chicago:20251027T100000
DTSTAMP:20260422T073521
CREATED:20250928T043723Z
LAST-MODIFIED:20251027T060724Z
UID:10001731-1761557400-1761559200@provplace.com
SUMMARY:This Day in History
DESCRIPTION:
URL:https://provplace.com/event-calendar/what-am-i-16/
LOCATION:3 N
CATEGORIES:Long Term Care
END:VEVENT
BEGIN:VEVENT
DTSTART;TZID=America/Chicago:20251026T133000
DTEND;TZID=America/Chicago:20251026T140000
DTSTAMP:20260422T073521
CREATED:20251019T060718Z
LAST-MODIFIED:20251026T060718Z
UID:10001895-1761485400-1761487200@provplace.com
SUMMARY:Music Social
DESCRIPTION:
URL:https://provplace.com/event-calendar/music-social-17/
LOCATION:3 N
CATEGORIES:Long Term Care
END:VEVENT
BEGIN:VEVENT
DTSTART;TZID=America/Chicago:20251022T141500
DTEND;TZID=America/Chicago:20251022T144500
DTSTAMP:20260422T073521
CREATED:20250923T043928Z
LAST-MODIFIED:20251022T060723Z
UID:10001620-1761142500-1761144300@provplace.com
SUMMARY:Coloring Club: Horse Week!
DESCRIPTION:
URL:https://provplace.com/event-calendar/coloring-club-21/
LOCATION:3 N
CATEGORIES:Long Term Care
END:VEVENT
BEGIN:VEVENT
DTSTART;TZID=America/Chicago:20251020T093000
DTEND;TZID=America/Chicago:20251020T100000
DTSTAMP:20260422T073521
CREATED:20250924T043731Z
LAST-MODIFIED:20251020T060739Z
UID:10001661-1760952600-1760954400@provplace.com
SUMMARY:This Day in History
DESCRIPTION:
URL:https://provplace.com/event-calendar/what-am-i-14/
LOCATION:3 N
CATEGORIES:Long Term Care
END:VEVENT
BEGIN:VEVENT
DTSTART;TZID=America/Chicago:20251019T133000
DTEND;TZID=America/Chicago:20251019T140000
DTSTAMP:20260422T073521
CREATED:20251019T060716Z
LAST-MODIFIED:20251019T060718Z
UID:10001894-1760880600-1760882400@provplace.com
SUMMARY:Music Social
DESCRIPTION:
URL:https://provplace.com/event-calendar/music-social-16/
LOCATION:3 N
CATEGORIES:Long Term Care
END:VEVENT
BEGIN:VEVENT
DTSTART;TZID=America/Chicago:20251018T153000
DTEND;TZID=America/Chicago:20251018T160000
DTSTAMP:20260422T073521
CREATED:20250930T043721Z
LAST-MODIFIED:20251018T060747Z
UID:10001768-1760801400-1760803200@provplace.com
SUMMARY:Sing and Spin
DESCRIPTION:
URL:https://provplace.com/event-calendar/sing-and-spin-20/
LOCATION:3 N
CATEGORIES:Long Term Care
END:VEVENT
BEGIN:VEVENT
DTSTART;TZID=America/Chicago:20251014T143000
DTEND;TZID=America/Chicago:20251014T150000
DTSTAMP:20260422T073521
CREATED:20250923T043921Z
LAST-MODIFIED:20251014T055237Z
UID:10001616-1760452200-1760454000@provplace.com
SUMMARY:Gratitude Circle
DESCRIPTION:
URL:https://provplace.com/event-calendar/gratitude-circle-2/
LOCATION:3 N
CATEGORIES:Long Term Care
END:VEVENT
BEGIN:VEVENT
DTSTART;TZID=America/Chicago:20251013T093000
DTEND;TZID=America/Chicago:20251013T100000
DTSTAMP:20260422T073521
CREATED:20250924T043730Z
LAST-MODIFIED:20251013T055217Z
UID:10001658-1760347800-1760349600@provplace.com
SUMMARY:Indigenous Peoples' Day Jeopardy
DESCRIPTION:
URL:https://provplace.com/event-calendar/what-am-i-13/
LOCATION:3 N
CATEGORIES:Long Term Care
END:VEVENT
BEGIN:VEVENT
DTSTART;TZID=America/Chicago:20250926T093000
DTEND;TZID=America/Chicago:20250926T100000
DTSTAMP:20260422T073521
CREATED:20250828T032219Z
LAST-MODIFIED:20250926T043758Z
UID:10001386-1758879000-1758880800@provplace.com
SUMMARY:Bean Bag Toss
DESCRIPTION:
URL:https://provplace.com/event-calendar/bean-bag-toss-13/
LOCATION:3 N
CATEGORIES:Long Term Care
END:VEVENT
BEGIN:VEVENT
DTSTART;TZID=America/Chicago:20250919T093000
DTEND;TZID=America/Chicago:20250919T100000
DTSTAMP:20260422T073521
CREATED:20250821T032226Z
LAST-MODIFIED:20250919T043743Z
UID:10001304-1758274200-1758276000@provplace.com
SUMMARY:Noodle Ball!
DESCRIPTION:
URL:https://provplace.com/event-calendar/bocce-ball-3/
LOCATION:3 N
CATEGORIES:Long Term Care
END:VEVENT
BEGIN:VEVENT
DTSTART;TZID=America/Chicago:20250829T093000
DTEND;TZID=America/Chicago:20250829T100000
DTSTAMP:20260422T073521
CREATED:20250731T025224Z
LAST-MODIFIED:20250829T032233Z
UID:10001160-1756459800-1756461600@provplace.com
SUMMARY:Bowling!
DESCRIPTION:
URL:https://provplace.com/event-calendar/bowling-3/
LOCATION:3 N
CATEGORIES:Long Term Care
END:VEVENT
BEGIN:VEVENT
DTSTART;TZID=America/Chicago:20250725T093000
DTEND;TZID=America/Chicago:20250725T100000
DTSTAMP:20260422T073521
CREATED:20250626T012233Z
LAST-MODIFIED:20250725T023716Z
UID:10000772-1753435800-1753437600@provplace.com
SUMMARY:Noodle Ball
DESCRIPTION:
URL:https://provplace.com/event-calendar/noodle-ball/
LOCATION:3 N
CATEGORIES:Long Term Care
END:VEVENT
BEGIN:VEVENT
DTSTART;TZID=America/Chicago:20250722T143000
DTEND;TZID=America/Chicago:20250722T150000
DTSTAMP:20260422T073521
CREATED:20250626T012233Z
LAST-MODIFIED:20250722T023727Z
UID:10000770-1753194600-1753196400@provplace.com
SUMMARY:Ted Talk
DESCRIPTION:
URL:https://provplace.com/event-calendar/ted-talk-2/
LOCATION:3 N
CATEGORIES:Long Term Care
END:VEVENT
BEGIN:VEVENT
DTSTART;TZID=America/Chicago:20250718T093000
DTEND;TZID=America/Chicago:20250718T100000
DTSTAMP:20260422T073521
CREATED:20250625T012225Z
LAST-MODIFIED:20250718T020721Z
UID:10000729-1752831000-1752832800@provplace.com
SUMMARY:Bocce Ball
DESCRIPTION:
URL:https://provplace.com/event-calendar/bocce-ball-2/
LOCATION:3 N
CATEGORIES:Long Term Care
END:VEVENT
BEGIN:VEVENT
DTSTART;TZID=America/Chicago:20250711T093000
DTEND;TZID=America/Chicago:20250711T100000
DTSTAMP:20260422T073521
CREATED:20250625T012224Z
LAST-MODIFIED:20250711T013727Z
UID:10000727-1752226200-1752228000@provplace.com
SUMMARY:Bean Bag Toss
DESCRIPTION:
URL:https://provplace.com/event-calendar/bean-bag-toss-8/
LOCATION:3 N
CATEGORIES:Long Term Care
END:VEVENT
BEGIN:VEVENT
DTSTART;TZID=America/Chicago:20250710T140000
DTEND;TZID=America/Chicago:20250710T143000
DTSTAMP:20260422T073521
CREATED:20250710T013718Z
LAST-MODIFIED:20250710T013720Z
UID:10000899-1752156000-1752157800@provplace.com
SUMMARY:Virtual Learning Event
DESCRIPTION:
URL:https://provplace.com/event-calendar/virtual-learning-event/
LOCATION:3 N
CATEGORIES:Long Term Care
END:VEVENT
BEGIN:VEVENT
DTSTART;TZID=America/Chicago:20250708T143000
DTEND;TZID=America/Chicago:20250708T150000
DTSTAMP:20260422T073521
CREATED:20250626T012231Z
LAST-MODIFIED:20250708T013718Z
UID:10000762-1751985000-1751986800@provplace.com
SUMMARY:Great Art Explained: The Mona Lisa
DESCRIPTION:
URL:https://provplace.com/event-calendar/great-art-explained-the-mona-lisa/
LOCATION:3 N
CATEGORIES:Long Term Care
END:VEVENT
BEGIN:VEVENT
DTSTART;TZID=America/Chicago:20250626T143000
DTEND;TZID=America/Chicago:20250626T153000
DTSTAMP:20260422T073521
CREATED:20250527T230749Z
LAST-MODIFIED:20250626T012231Z
UID:10000454-1750948200-1750951800@provplace.com
SUMMARY:Painting Tiles
DESCRIPTION:
URL:https://provplace.com/event-calendar/painting-tiles-3/
LOCATION:3 N
CATEGORIES:Long Term Care
END:VEVENT
END:VCALENDAR