BEGIN:VCALENDAR
VERSION:2.0
PRODID:-//Providence Place Senior Living - ECPv6.11.2.1//NONSGML v1.0//EN
CALSCALE:GREGORIAN
METHOD:PUBLISH
X-ORIGINAL-URL:https://provplace.com
X-WR-CALDESC:Events for Providence Place Senior Living
REFRESH-INTERVAL;VALUE=DURATION:PT1H
X-Robots-Tag:noindex
X-PUBLISHED-TTL:PT1H
BEGIN:VTIMEZONE
TZID:America/Chicago
BEGIN:DAYLIGHT
TZOFFSETFROM:-0600
TZOFFSETTO:-0500
TZNAME:CDT
DTSTART:20260308T080000
END:DAYLIGHT
BEGIN:STANDARD
TZOFFSETFROM:-0500
TZOFFSETTO:-0600
TZNAME:CST
DTSTART:20261101T070000
END:STANDARD
END:VTIMEZONE
BEGIN:VEVENT
DTSTART;TZID=America/Chicago:20260519T143000
DTEND;TZID=America/Chicago:20260519T150000
DTSTAMP:20260421T111534
CREATED:20260420T081201Z
LAST-MODIFIED:20260421T082647Z
UID:10003811-1779201000-1779202800@provplace.com
SUMMARY:Chef's Talk
DESCRIPTION:
URL:https://provplace.com/event-calendar/chefs-talk-14/
LOCATION:2 North
CATEGORIES:Long Term Care
END:VEVENT
BEGIN:VEVENT
DTSTART;TZID=America/Chicago:20260519T143000
DTEND;TZID=America/Chicago:20260519T153000
DTSTAMP:20260421T111534
CREATED:20260420T081142Z
LAST-MODIFIED:20260421T082714Z
UID:10003814-1779201000-1779204600@provplace.com
SUMMARY:Flower Arranging
DESCRIPTION:
URL:https://provplace.com/event-calendar/flower-arranging-52/
LOCATION:Memory Care
CATEGORIES:Memory Care
END:VEVENT
BEGIN:VEVENT
DTSTART;TZID=America/Chicago:20260519T153000
DTEND;TZID=America/Chicago:20260519T160000
DTSTAMP:20260421T111534
CREATED:20260420T081202Z
LAST-MODIFIED:20260421T082647Z
UID:10003813-1779204600-1779206400@provplace.com
SUMMARY:Sip and Social
DESCRIPTION:
URL:https://provplace.com/event-calendar/sip-and-social-49/
LOCATION:3 North
CATEGORIES:Long Term Care
END:VEVENT
BEGIN:VEVENT
DTSTART;TZID=America/Chicago:20260520T093000
DTEND;TZID=America/Chicago:20260520T100000
DTSTAMP:20260421T111534
CREATED:20260421T082647Z
LAST-MODIFIED:20260421T082647Z
UID:10003817-1779269400-1779271200@provplace.com
SUMMARY:Book Club: The Afterlife of Billy Fingers
DESCRIPTION:
URL:https://provplace.com/event-calendar/book-club-the-afterlife-of-billy-fingers-3/
LOCATION:3 North
CATEGORIES:Long Term Care
END:VEVENT
BEGIN:VEVENT
DTSTART;TZID=America/Chicago:20260520T093000
DTEND;TZID=America/Chicago:20260520T100000
DTSTAMP:20260421T111534
CREATED:20260421T082714Z
LAST-MODIFIED:20260421T082714Z
UID:10003824-1779269400-1779271200@provplace.com
SUMMARY:Chaplain Chat
DESCRIPTION:
URL:https://provplace.com/event-calendar/chaplain-chat-162/
CATEGORIES:Memory Care
END:VEVENT
BEGIN:VEVENT
DTSTART;TZID=America/Chicago:20260520T103000
DTEND;TZID=America/Chicago:20260520T110000
DTSTAMP:20260421T111534
CREATED:20260421T082647Z
LAST-MODIFIED:20260421T082647Z
UID:10003818-1779273000-1779274800@provplace.com
SUMMARY:Chaplain Chat
DESCRIPTION:
URL:https://provplace.com/event-calendar/chaplain-chat-161/
LOCATION:Chapel
CATEGORIES:Long Term Care
END:VEVENT
BEGIN:VEVENT
DTSTART;TZID=America/Chicago:20260520T103000
DTEND;TZID=America/Chicago:20260520T113000
DTSTAMP:20260421T111534
CREATED:20260421T082715Z
LAST-MODIFIED:20260421T082715Z
UID:10003825-1779273000-1779276600@provplace.com
SUMMARY:Hangman
DESCRIPTION:
URL:https://provplace.com/event-calendar/hangman-61/
CATEGORIES:Memory Care
END:VEVENT
BEGIN:VEVENT
DTSTART;TZID=America/Chicago:20260520T110000
DTEND;TZID=America/Chicago:20260520T111500
DTSTAMP:20260421T111534
CREATED:20260421T082715Z
LAST-MODIFIED:20260421T082715Z
UID:10003826-1779274800-1779275700@provplace.com
SUMMARY:Walking Group
DESCRIPTION:
URL:https://provplace.com/event-calendar/walking-group-317/
LOCATION:2S
CATEGORIES:Memory Care
END:VEVENT
BEGIN:VEVENT
DTSTART;TZID=America/Chicago:20260520T133000
DTEND;TZID=America/Chicago:20260520T140000
DTSTAMP:20260421T111534
CREATED:20260421T082648Z
LAST-MODIFIED:20260421T082648Z
UID:10003819-1779283800-1779285600@provplace.com
SUMMARY:Exercise:Weights
DESCRIPTION:
URL:https://provplace.com/event-calendar/exerciseweights-31/
LOCATION:3 North
CATEGORIES:Long Term Care
END:VEVENT
BEGIN:VEVENT
DTSTART;TZID=America/Chicago:20260520T141500
DTEND;TZID=America/Chicago:20260520T144500
DTSTAMP:20260421T111534
CREATED:20260421T082648Z
LAST-MODIFIED:20260421T082648Z
UID:10003820-1779286500-1779288300@provplace.com
SUMMARY:Coloring Club
DESCRIPTION:
URL:https://provplace.com/event-calendar/coloring-club-67/
LOCATION:3 North
CATEGORIES:Long Term Care
END:VEVENT
BEGIN:VEVENT
DTSTART;TZID=America/Chicago:20260520T143000
DTEND;TZID=America/Chicago:20260520T150000
DTSTAMP:20260421T111534
CREATED:20260421T082715Z
LAST-MODIFIED:20260421T082715Z
UID:10003827-1779287400-1779289200@provplace.com
SUMMARY:Coloring Club
DESCRIPTION:
URL:https://provplace.com/event-calendar/coloring-club-68/
CATEGORIES:Memory Care
END:VEVENT
BEGIN:VEVENT
DTSTART;TZID=America/Chicago:20260520T150000
DTEND;TZID=America/Chicago:20260520T160000
DTSTAMP:20260421T111534
CREATED:20260421T082648Z
LAST-MODIFIED:20260421T082648Z
UID:10003821-1779289200-1779292800@provplace.com
SUMMARY:Meditation Group
DESCRIPTION:
URL:https://provplace.com/event-calendar/meditation-group-52/
LOCATION:Meditation Room
CATEGORIES:Long Term Care
END:VEVENT
BEGIN:VEVENT
DTSTART;TZID=America/Chicago:20260520T190000
DTEND;TZID=America/Chicago:20260520T210000
DTSTAMP:20260421T111534
CREATED:20260421T082649Z
LAST-MODIFIED:20260421T082649Z
UID:10003822-1779303600-1779310800@provplace.com
SUMMARY:Netflix Night
DESCRIPTION:
URL:https://provplace.com/event-calendar/netflix-night-79/
LOCATION:3 North
CATEGORIES:Long Term Care
END:VEVENT
END:VCALENDAR