BEGIN:VCALENDAR
VERSION:2.0
PRODID:-//Providence Place Senior Living - ECPv6.11.2.1//NONSGML v1.0//EN
CALSCALE:GREGORIAN
METHOD:PUBLISH
X-WR-CALNAME:Providence Place Senior Living
X-ORIGINAL-URL:https://provplace.com
X-WR-CALDESC:Events for Providence Place Senior Living
REFRESH-INTERVAL;VALUE=DURATION:PT1H
X-Robots-Tag:noindex
X-PUBLISHED-TTL:PT1H
BEGIN:VTIMEZONE
TZID:America/Chicago
BEGIN:DAYLIGHT
TZOFFSETFROM:-0600
TZOFFSETTO:-0500
TZNAME:CDT
DTSTART:20260308T080000
END:DAYLIGHT
BEGIN:STANDARD
TZOFFSETFROM:-0500
TZOFFSETTO:-0600
TZNAME:CST
DTSTART:20261101T070000
END:STANDARD
END:VTIMEZONE
BEGIN:VEVENT
DTSTART;TZID=America/Chicago:20260522T160000
DTEND;TZID=America/Chicago:20260522T163000
DTSTAMP:20260423T062553
CREATED:20260423T082646Z
LAST-MODIFIED:20260423T082646Z
UID:10003850-1779465600-1779467400@provplace.com
SUMMARY:Story Time
DESCRIPTION:
URL:https://provplace.com/event-calendar/story-time-18/
LOCATION:2S
CATEGORIES:Memory Care
END:VEVENT
BEGIN:VEVENT
DTSTART;TZID=America/Chicago:20260522T160000
DTEND;TZID=America/Chicago:20260522T163000
DTSTAMP:20260423T062553
CREATED:20260423T084135Z
LAST-MODIFIED:20260423T084135Z
UID:10003854-1779465600-1779467400@provplace.com
SUMMARY:Uno
DESCRIPTION:
URL:https://provplace.com/event-calendar/uno-50/
LOCATION:2 North
CATEGORIES:Long Term Care
END:VEVENT
BEGIN:VEVENT
DTSTART;TZID=America/Chicago:20260522T190000
DTEND;TZID=America/Chicago:20260522T200000
DTSTAMP:20260423T062553
CREATED:20260423T084136Z
LAST-MODIFIED:20260423T084136Z
UID:10003855-1779476400-1779480000@provplace.com
SUMMARY:Karaoke Night
DESCRIPTION:
URL:https://provplace.com/event-calendar/karaoke-night-54/
LOCATION:3 North
CATEGORIES:Long Term Care
END:VEVENT
END:VCALENDAR