BEGIN:VCALENDAR
VERSION:2.0
PRODID:-//Providence Place Senior Living - ECPv6.11.2.1//NONSGML v1.0//EN
CALSCALE:GREGORIAN
METHOD:PUBLISH
X-WR-CALNAME:Providence Place Senior Living
X-ORIGINAL-URL:https://provplace.com
X-WR-CALDESC:Events for Providence Place Senior Living
REFRESH-INTERVAL;VALUE=DURATION:PT1H
X-Robots-Tag:noindex
X-PUBLISHED-TTL:PT1H
BEGIN:VTIMEZONE
TZID:America/Chicago
BEGIN:DAYLIGHT
TZOFFSETFROM:-0600
TZOFFSETTO:-0500
TZNAME:CDT
DTSTART:20250309T080000
END:DAYLIGHT
BEGIN:STANDARD
TZOFFSETFROM:-0500
TZOFFSETTO:-0600
TZNAME:CST
DTSTART:20251102T070000
END:STANDARD
END:VTIMEZONE
BEGIN:VEVENT
DTSTART;TZID=America/Chicago:20251030T133000
DTEND;TZID=America/Chicago:20251030T143000
DTSTAMP:20260425T212117
CREATED:20251001T033724Z
LAST-MODIFIED:20251030T060719Z
UID:10001802-1761831000-1761834600@provplace.com
SUMMARY:Haunted Fall Colors Bus Tour
DESCRIPTION:
URL:https://provplace.com/event-calendar/haunted-fall-colors-bus-tour/
CATEGORIES:Long Term Care,Memory Care
END:VEVENT
BEGIN:VEVENT
DTSTART;TZID=America/Chicago:20251030T110000
DTEND;TZID=America/Chicago:20251030T111500
DTSTAMP:20260425T212117
CREATED:20251001T033724Z
LAST-MODIFIED:20251030T045219Z
UID:10001800-1761822000-1761822900@provplace.com
SUMMARY:Walking Group
DESCRIPTION:
URL:https://provplace.com/event-calendar/walking-group-141/
LOCATION:2S
CATEGORIES:Memory Care
END:VEVENT
BEGIN:VEVENT
DTSTART;TZID=America/Chicago:20251030T103000
DTEND;TZID=America/Chicago:20251030T110000
DTSTAMP:20260425T212117
CREATED:20251001T033723Z
LAST-MODIFIED:20251030T045219Z
UID:10001799-1761820200-1761822000@provplace.com
SUMMARY:Jeopardy!
DESCRIPTION:
URL:https://provplace.com/event-calendar/word-games-20/
CATEGORIES:Memory Care
END:VEVENT
BEGIN:VEVENT
DTSTART;TZID=America/Chicago:20251030T093000
DTEND;TZID=America/Chicago:20251030T100000
DTSTAMP:20260425T212117
CREATED:20251001T033723Z
LAST-MODIFIED:20251030T045219Z
UID:10001798-1761816600-1761818400@provplace.com
SUMMARY:Chaplain Chat
DESCRIPTION:
URL:https://provplace.com/event-calendar/chaplain-chat-96/
CATEGORIES:Memory Care
END:VEVENT
BEGIN:VEVENT
DTSTART;TZID=America/Chicago:20251029T180000
DTEND;TZID=America/Chicago:20251029T200000
DTSTAMP:20260425T212117
CREATED:20250930T033808Z
LAST-MODIFIED:20251029T043736Z
UID:10001753-1761760800-1761768000@provplace.com
SUMMARY:Movie Night
DESCRIPTION:
URL:https://provplace.com/event-calendar/movie-night-25/
CATEGORIES:Memory Care
END:VEVENT
BEGIN:VEVENT
DTSTART;TZID=America/Chicago:20251029T160000
DTEND;TZID=America/Chicago:20251029T170000
DTSTAMP:20260425T212117
CREATED:20250930T033808Z
LAST-MODIFIED:20251029T043736Z
UID:10001752-1761753600-1761757200@provplace.com
SUMMARY:Music Social
DESCRIPTION:
URL:https://provplace.com/event-calendar/music-social-13/
CATEGORIES:Memory Care
END:VEVENT
BEGIN:VEVENT
DTSTART;TZID=America/Chicago:20251029T143000
DTEND;TZID=America/Chicago:20251029T150000
DTSTAMP:20260425T212117
CREATED:20250930T033808Z
LAST-MODIFIED:20251029T043736Z
UID:10001751-1761748200-1761750000@provplace.com
SUMMARY:Coloring
DESCRIPTION:
URL:https://provplace.com/event-calendar/coloring-5/
LOCATION:2S
CATEGORIES:Memory Care
END:VEVENT
BEGIN:VEVENT
DTSTART;TZID=America/Chicago:20251029T133000
DTEND;TZID=America/Chicago:20251029T150000
DTSTAMP:20260425T212117
CREATED:20250930T033808Z
LAST-MODIFIED:20251029T043736Z
UID:10001750-1761744600-1761750000@provplace.com
SUMMARY:Tai Chi Stretch & Music
DESCRIPTION:
URL:https://provplace.com/event-calendar/tai-chi-stretch-music-3/
LOCATION:2S
CATEGORIES:Memory Care
END:VEVENT
BEGIN:VEVENT
DTSTART;TZID=America/Chicago:20251029T110000
DTEND;TZID=America/Chicago:20251029T111500
DTSTAMP:20260425T212117
CREATED:20250930T033808Z
LAST-MODIFIED:20251029T043736Z
UID:10001749-1761735600-1761736500@provplace.com
SUMMARY:Walking Group
DESCRIPTION:
URL:https://provplace.com/event-calendar/walking-group-140/
LOCATION:2S
CATEGORIES:Memory Care
END:VEVENT
BEGIN:VEVENT
DTSTART;TZID=America/Chicago:20251029T103000
DTEND;TZID=America/Chicago:20251029T113000
DTSTAMP:20260425T212117
CREATED:20250930T033808Z
LAST-MODIFIED:20251029T043736Z
UID:10001748-1761733800-1761737400@provplace.com
SUMMARY:Hangman
DESCRIPTION:
URL:https://provplace.com/event-calendar/hangman-27/
CATEGORIES:Memory Care
END:VEVENT
BEGIN:VEVENT
DTSTART;TZID=America/Chicago:20251029T093000
DTEND;TZID=America/Chicago:20251029T100000
DTSTAMP:20260425T212117
CREATED:20251001T033723Z
LAST-MODIFIED:20251029T043736Z
UID:10001797-1761730200-1761732000@provplace.com
SUMMARY:Chaplain Chat
DESCRIPTION:
URL:https://provplace.com/event-calendar/chaplain-chat-95/
CATEGORIES:Memory Care
END:VEVENT
BEGIN:VEVENT
DTSTART;TZID=America/Chicago:20251028T160000
DTEND;TZID=America/Chicago:20251028T163000
DTSTAMP:20260425T212117
CREATED:20251001T033723Z
LAST-MODIFIED:20251028T043717Z
UID:10001796-1761667200-1761669000@provplace.com
SUMMARY:Pumpkin Carving
DESCRIPTION:
URL:https://provplace.com/event-calendar/pumpkin-carving/
CATEGORIES:Memory Care
END:VEVENT
BEGIN:VEVENT
DTSTART;TZID=America/Chicago:20251028T143000
DTEND;TZID=America/Chicago:20251028T153000
DTSTAMP:20260425T212117
CREATED:20250929T033728Z
LAST-MODIFIED:20251028T043717Z
UID:10001740-1761661800-1761665400@provplace.com
SUMMARY:Flower Arranging
DESCRIPTION:
URL:https://provplace.com/event-calendar/flower-arranging-24/
LOCATION:Memory Care
CATEGORIES:Memory Care
END:VEVENT
BEGIN:VEVENT
DTSTART;TZID=America/Chicago:20251028T133000
DTEND;TZID=America/Chicago:20251028T140000
DTSTAMP:20260425T212117
CREATED:20250929T033728Z
LAST-MODIFIED:20251028T043717Z
UID:10001739-1761658200-1761660000@provplace.com
SUMMARY:Exercise: Weights
DESCRIPTION:
URL:https://provplace.com/event-calendar/exercise-weights-27/
CATEGORIES:Memory Care
END:VEVENT
BEGIN:VEVENT
DTSTART;TZID=America/Chicago:20251028T110000
DTEND;TZID=America/Chicago:20251028T111500
DTSTAMP:20260425T212117
CREATED:20250929T033728Z
LAST-MODIFIED:20251028T043717Z
UID:10001738-1761649200-1761650100@provplace.com
SUMMARY:Walking Group
DESCRIPTION:
URL:https://provplace.com/event-calendar/walking-group-139/
LOCATION:2S
CATEGORIES:Memory Care
END:VEVENT
BEGIN:VEVENT
DTSTART;TZID=America/Chicago:20251028T103000
DTEND;TZID=America/Chicago:20251028T110000
DTSTAMP:20260425T212117
CREATED:20250929T033728Z
LAST-MODIFIED:20251028T043717Z
UID:10001737-1761647400-1761649200@provplace.com
SUMMARY:Finish the Lyrics!
DESCRIPTION:
URL:https://provplace.com/event-calendar/finish-the-lyrics/
CATEGORIES:Memory Care
END:VEVENT
BEGIN:VEVENT
DTSTART;TZID=America/Chicago:20251028T093000
DTEND;TZID=America/Chicago:20251028T100000
DTSTAMP:20260425T212117
CREATED:20251001T033723Z
LAST-MODIFIED:20251028T043717Z
UID:10001795-1761643800-1761645600@provplace.com
SUMMARY:Chaplain Chat
DESCRIPTION:
URL:https://provplace.com/event-calendar/chaplain-chat-94/
CATEGORIES:Memory Care
END:VEVENT
BEGIN:VEVENT
DTSTART;TZID=America/Chicago:20251027T181500
DTEND;TZID=America/Chicago:20251027T184500
DTSTAMP:20260425T212117
CREATED:20250928T032223Z
LAST-MODIFIED:20251027T043724Z
UID:10001730-1761588900-1761590700@provplace.com
SUMMARY:Monday Meditation
DESCRIPTION:
URL:https://provplace.com/event-calendar/monday-meditation-23/
CATEGORIES:Memory Care
END:VEVENT
BEGIN:VEVENT
DTSTART;TZID=America/Chicago:20251027T160000
DTEND;TZID=America/Chicago:20251027T163000
DTSTAMP:20260425T212117
CREATED:20250928T032223Z
LAST-MODIFIED:20251027T043724Z
UID:10001729-1761580800-1761582600@provplace.com
SUMMARY:Fall Races
DESCRIPTION:
URL:https://provplace.com/event-calendar/fall-races/
CATEGORIES:Memory Care
END:VEVENT
BEGIN:VEVENT
DTSTART;TZID=America/Chicago:20251027T143000
DTEND;TZID=America/Chicago:20251027T150000
DTSTAMP:20260425T212117
CREATED:20250928T032223Z
LAST-MODIFIED:20251027T043724Z
UID:10001728-1761575400-1761577200@provplace.com
SUMMARY:Halloween Stories
DESCRIPTION:
URL:https://provplace.com/event-calendar/halloween-stories/
LOCATION:2S
CATEGORIES:Memory Care
END:VEVENT
BEGIN:VEVENT
DTSTART;TZID=America/Chicago:20251027T133000
DTEND;TZID=America/Chicago:20251027T140000
DTSTAMP:20260425T212117
CREATED:20250928T032223Z
LAST-MODIFIED:20251027T043724Z
UID:10001727-1761571800-1761573600@provplace.com
SUMMARY:Balloon Ball
DESCRIPTION:
URL:https://provplace.com/event-calendar/balloon-ball-23/
LOCATION:2S
CATEGORIES:Memory Care
END:VEVENT
BEGIN:VEVENT
DTSTART;TZID=America/Chicago:20251027T110000
DTEND;TZID=America/Chicago:20251027T111500
DTSTAMP:20260425T212117
CREATED:20250928T032222Z
LAST-MODIFIED:20251027T043724Z
UID:10001726-1761562800-1761563700@provplace.com
SUMMARY:Walking Group
DESCRIPTION:
URL:https://provplace.com/event-calendar/walking-group-138/
LOCATION:2S
CATEGORIES:Memory Care
END:VEVENT
BEGIN:VEVENT
DTSTART;TZID=America/Chicago:20251027T103000
DTEND;TZID=America/Chicago:20251027T110000
DTSTAMP:20260425T212117
CREATED:20250928T032222Z
LAST-MODIFIED:20251027T043724Z
UID:10001725-1761561000-1761562800@provplace.com
SUMMARY:Sing and Spin
DESCRIPTION:
URL:https://provplace.com/event-calendar/sing-and-spin-19/
LOCATION:Memory Care
CATEGORIES:Memory Care
END:VEVENT
BEGIN:VEVENT
DTSTART;TZID=America/Chicago:20251027T093000
DTEND;TZID=America/Chicago:20251027T100000
DTSTAMP:20260425T212117
CREATED:20251001T033723Z
LAST-MODIFIED:20251027T043724Z
UID:10001794-1761557400-1761559200@provplace.com
SUMMARY:Prayer & Praise
DESCRIPTION:
URL:https://provplace.com/event-calendar/prayer-praise-5/
CATEGORIES:Memory Care
END:VEVENT
BEGIN:VEVENT
DTSTART;TZID=America/Chicago:20251026T153000
DTEND;TZID=America/Chicago:20251026T160000
DTSTAMP:20260425T212117
CREATED:20250927T032221Z
LAST-MODIFIED:20251026T043717Z
UID:10001719-1761492600-1761494400@provplace.com
SUMMARY:Ghost Balls
DESCRIPTION:
URL:https://provplace.com/event-calendar/ghost-balls/
CATEGORIES:Memory Care
END:VEVENT
BEGIN:VEVENT
DTSTART;TZID=America/Chicago:20251026T110000
DTEND;TZID=America/Chicago:20251026T111500
DTSTAMP:20260425T212117
CREATED:20250927T032221Z
LAST-MODIFIED:20251026T043716Z
UID:10001718-1761476400-1761477300@provplace.com
SUMMARY:Walking Group
DESCRIPTION:
URL:https://provplace.com/event-calendar/walking-group-137/
CATEGORIES:Memory Care
END:VEVENT
BEGIN:VEVENT
DTSTART;TZID=America/Chicago:20251026T103000
DTEND;TZID=America/Chicago:20251026T110000
DTSTAMP:20260425T212117
CREATED:20250927T032221Z
LAST-MODIFIED:20251026T043716Z
UID:10001717-1761474600-1761476400@provplace.com
SUMMARY:What Am I?
DESCRIPTION:
URL:https://provplace.com/event-calendar/what-am-i-15/
CATEGORIES:Memory Care
END:VEVENT
BEGIN:VEVENT
DTSTART;TZID=America/Chicago:20251025T153000
DTEND;TZID=America/Chicago:20251025T160000
DTSTAMP:20260425T212117
CREATED:20250926T032221Z
LAST-MODIFIED:20251025T043755Z
UID:10001711-1761406200-1761408000@provplace.com
SUMMARY:Balloon Ball
DESCRIPTION:
URL:https://provplace.com/event-calendar/balloon-ball-22/
CATEGORIES:Memory Care
END:VEVENT
BEGIN:VEVENT
DTSTART;TZID=America/Chicago:20251025T133000
DTEND;TZID=America/Chicago:20251025T143000
DTSTAMP:20260425T212117
CREATED:20250926T032221Z
LAST-MODIFIED:20251025T043755Z
UID:10001710-1761399000-1761402600@provplace.com
SUMMARY:Shark in the Water Mocktails
DESCRIPTION:
URL:https://provplace.com/event-calendar/shark-in-the-water-mocktails/
CATEGORIES:Memory Care
END:VEVENT
BEGIN:VEVENT
DTSTART;TZID=America/Chicago:20251025T103000
DTEND;TZID=America/Chicago:20251025T110000
DTSTAMP:20260425T212117
CREATED:20250926T032221Z
LAST-MODIFIED:20251025T043755Z
UID:10001709-1761388200-1761390000@provplace.com
SUMMARY:Categories!
DESCRIPTION:
URL:https://provplace.com/event-calendar/categories-8/
CATEGORIES:Memory Care
END:VEVENT
END:VCALENDAR