BEGIN:VCALENDAR
VERSION:2.0
PRODID:-//Providence Place Senior Living - ECPv6.11.2.1//NONSGML v1.0//EN
CALSCALE:GREGORIAN
METHOD:PUBLISH
X-ORIGINAL-URL:https://provplace.com
X-WR-CALDESC:Events for Providence Place Senior Living
REFRESH-INTERVAL;VALUE=DURATION:PT1H
X-Robots-Tag:noindex
X-PUBLISHED-TTL:PT1H
BEGIN:VTIMEZONE
TZID:America/Chicago
BEGIN:DAYLIGHT
TZOFFSETFROM:-0600
TZOFFSETTO:-0500
TZNAME:CDT
DTSTART:20250309T080000
END:DAYLIGHT
BEGIN:STANDARD
TZOFFSETFROM:-0500
TZOFFSETTO:-0600
TZNAME:CST
DTSTART:20251102T070000
END:STANDARD
END:VTIMEZONE
BEGIN:VEVENT
DTSTART;TZID=America/Chicago:20251104T160000
DTEND;TZID=America/Chicago:20251104T163000
DTSTAMP:20260425T163728
CREATED:20251030T045219Z
LAST-MODIFIED:20251104T050716Z
UID:10002088-1762272000-1762273800@provplace.com
SUMMARY:Teatime Social
DESCRIPTION:
URL:https://provplace.com/event-calendar/teatime-social/
CATEGORIES:Memory Care
END:VEVENT
BEGIN:VEVENT
DTSTART;TZID=America/Chicago:20251104T143000
DTEND;TZID=America/Chicago:20251104T153000
DTSTAMP:20260425T163728
CREATED:20251006T033730Z
LAST-MODIFIED:20251104T050716Z
UID:10001829-1762266600-1762270200@provplace.com
SUMMARY:Flower Arranging
DESCRIPTION:
URL:https://provplace.com/event-calendar/flower-arranging-25/
LOCATION:Memory Care
CATEGORIES:Memory Care
END:VEVENT
BEGIN:VEVENT
DTSTART;TZID=America/Chicago:20251104T143000
DTEND;TZID=America/Chicago:20251104T150000
DTSTAMP:20260425T163728
CREATED:20251021T043812Z
LAST-MODIFIED:20251103T050719Z
UID:10001910-1762266600-1762268400@provplace.com
SUMMARY:Good News & Gratitude
DESCRIPTION:
URL:https://provplace.com/event-calendar/good-news-gratitude/
LOCATION:2S
CATEGORIES:Memory Care
END:VEVENT
BEGIN:VEVENT
DTSTART;TZID=America/Chicago:20251104T133000
DTEND;TZID=America/Chicago:20251104T140000
DTSTAMP:20260425T163728
CREATED:20251006T033730Z
LAST-MODIFIED:20251104T050716Z
UID:10001828-1762263000-1762264800@provplace.com
SUMMARY:Exercise: Weights
DESCRIPTION:
URL:https://provplace.com/event-calendar/exercise-weights-29/
CATEGORIES:Memory Care
END:VEVENT
BEGIN:VEVENT
DTSTART;TZID=America/Chicago:20251104T110000
DTEND;TZID=America/Chicago:20251104T111500
DTSTAMP:20260425T163728
CREATED:20251023T043720Z
LAST-MODIFIED:20251104T050716Z
UID:10001949-1762254000-1762254900@provplace.com
SUMMARY:Walking Group
DESCRIPTION:
URL:https://provplace.com/event-calendar/walking-group-144/
LOCATION:2S
CATEGORIES:Memory Care
END:VEVENT
BEGIN:VEVENT
DTSTART;TZID=America/Chicago:20251104T110000
DTEND;TZID=America/Chicago:20251104T111500
DTSTAMP:20260425T163728
CREATED:20251021T043812Z
LAST-MODIFIED:20251022T043738Z
UID:10001909-1762254000-1762254900@provplace.com
SUMMARY:Walking
DESCRIPTION:
URL:https://provplace.com/event-calendar/walking/
LOCATION:2S
CATEGORIES:Memory Care
END:VEVENT
BEGIN:VEVENT
DTSTART;TZID=America/Chicago:20251104T103000
DTEND;TZID=America/Chicago:20251104T110000
DTSTAMP:20260425T163728
CREATED:20251021T043812Z
LAST-MODIFIED:20251104T050716Z
UID:10001908-1762252200-1762254000@provplace.com
SUMMARY:Finish the Phrase
DESCRIPTION:
URL:https://provplace.com/event-calendar/finish-the-phrase-3/
LOCATION:2S
CATEGORIES:Memory Care
END:VEVENT
BEGIN:VEVENT
DTSTART;TZID=America/Chicago:20251104T093000
DTEND;TZID=America/Chicago:20251104T100000
DTSTAMP:20260425T163728
CREATED:20251023T043720Z
LAST-MODIFIED:20251104T050716Z
UID:10001948-1762248600-1762250400@provplace.com
SUMMARY:Chaplain Chat
DESCRIPTION:
URL:https://provplace.com/event-calendar/chaplain-chat-100/
CATEGORIES:Memory Care
END:VEVENT
BEGIN:VEVENT
DTSTART;TZID=America/Chicago:20251103T181500
DTEND;TZID=America/Chicago:20251103T184500
DTSTAMP:20260425T163728
CREATED:20251005T033730Z
LAST-MODIFIED:20251103T050720Z
UID:10001826-1762193700-1762195500@provplace.com
SUMMARY:Monday Meditation
DESCRIPTION:
URL:https://provplace.com/event-calendar/monday-meditation-24/
CATEGORIES:Memory Care
END:VEVENT
BEGIN:VEVENT
DTSTART;TZID=America/Chicago:20251103T160000
DTEND;TZID=America/Chicago:20251103T163000
DTSTAMP:20260425T163728
CREATED:20251024T043752Z
LAST-MODIFIED:20251103T050720Z
UID:10002008-1762185600-1762187400@provplace.com
SUMMARY:Thanksgiving "Races"
DESCRIPTION:
URL:https://provplace.com/event-calendar/thanksgiving-races/
LOCATION:2S
CATEGORIES:Memory Care
END:VEVENT
BEGIN:VEVENT
DTSTART;TZID=America/Chicago:20251103T133000
DTEND;TZID=America/Chicago:20251103T140000
DTSTAMP:20260425T163728
CREATED:20251030T045218Z
LAST-MODIFIED:20251103T050720Z
UID:10002087-1762176600-1762178400@provplace.com
SUMMARY:Exercise
DESCRIPTION:
URL:https://provplace.com/event-calendar/exercise-32/
CATEGORIES:Memory Care
END:VEVENT
BEGIN:VEVENT
DTSTART;TZID=America/Chicago:20251103T110000
DTEND;TZID=America/Chicago:20251103T111500
DTSTAMP:20260425T163728
CREATED:20251023T043720Z
LAST-MODIFIED:20251103T050720Z
UID:10001947-1762167600-1762168500@provplace.com
SUMMARY:Walking Group
DESCRIPTION:
URL:https://provplace.com/event-calendar/walking-group-143/
LOCATION:2S
CATEGORIES:Memory Care
END:VEVENT
BEGIN:VEVENT
DTSTART;TZID=America/Chicago:20251103T103000
DTEND;TZID=America/Chicago:20251103T110000
DTSTAMP:20260425T163728
CREATED:20251005T033730Z
LAST-MODIFIED:20251103T050720Z
UID:10001825-1762165800-1762167600@provplace.com
SUMMARY:Sing and Spin
DESCRIPTION:
URL:https://provplace.com/event-calendar/sing-and-spin-21/
LOCATION:Memory Care
CATEGORIES:Memory Care
END:VEVENT
BEGIN:VEVENT
DTSTART;TZID=America/Chicago:20251103T093000
DTEND;TZID=America/Chicago:20251103T100000
DTSTAMP:20260425T163728
CREATED:20251023T043720Z
LAST-MODIFIED:20251103T050720Z
UID:10001946-1762162200-1762164000@provplace.com
SUMMARY:Prayer & Praise
DESCRIPTION:
URL:https://provplace.com/event-calendar/prayer-praise-6/
CATEGORIES:Memory Care
END:VEVENT
BEGIN:VEVENT
DTSTART;TZID=America/Chicago:20251102T153000
DTEND;TZID=America/Chicago:20251102T160000
DTSTAMP:20260425T163728
CREATED:20251024T043752Z
LAST-MODIFIED:20251102T050718Z
UID:10002007-1762097400-1762099200@provplace.com
SUMMARY:Bowling
DESCRIPTION:
URL:https://provplace.com/event-calendar/bowling-11/
LOCATION:2S
CATEGORIES:Memory Care
END:VEVENT
BEGIN:VEVENT
DTSTART;TZID=America/Chicago:20251102T110000
DTEND;TZID=America/Chicago:20251102T113000
DTSTAMP:20260425T163728
CREATED:20251024T043752Z
LAST-MODIFIED:20251102T050718Z
UID:10002006-1762081200-1762083000@provplace.com
SUMMARY:Walking Group
DESCRIPTION:
URL:https://provplace.com/event-calendar/walking-group-158/
LOCATION:2S
CATEGORIES:Memory Care
END:VEVENT
BEGIN:VEVENT
DTSTART;TZID=America/Chicago:20251102T103000
DTEND;TZID=America/Chicago:20251102T110000
DTSTAMP:20260425T163728
CREATED:20251024T043752Z
LAST-MODIFIED:20251102T050718Z
UID:10002005-1762079400-1762081200@provplace.com
SUMMARY:What Am I?
DESCRIPTION:
URL:https://provplace.com/event-calendar/what-am-i-19/
LOCATION:2S
CATEGORIES:Memory Care
END:VEVENT
BEGIN:VEVENT
DTSTART;TZID=America/Chicago:20251101T153000
DTEND;TZID=America/Chicago:20251101T163000
DTSTAMP:20260425T163728
CREATED:20251017T043718Z
LAST-MODIFIED:20251101T050716Z
UID:10001879-1762011000-1762014600@provplace.com
SUMMARY:Balloon Ball
DESCRIPTION:
URL:https://provplace.com/event-calendar/balloon-ball-24/
LOCATION:2S
CATEGORIES:Memory Care
END:VEVENT
BEGIN:VEVENT
DTSTART;TZID=America/Chicago:20251101T133000
DTEND;TZID=America/Chicago:20251101T140000
DTSTAMP:20260425T163728
CREATED:20251029T043735Z
LAST-MODIFIED:20251101T050716Z
UID:10002066-1762003800-1762005600@provplace.com
SUMMARY:Day of the Dead
DESCRIPTION:
URL:https://provplace.com/event-calendar/day-of-the-dead/
CATEGORIES:Memory Care
END:VEVENT
BEGIN:VEVENT
DTSTART;TZID=America/Chicago:20251101T103000
DTEND;TZID=America/Chicago:20251101T113000
DTSTAMP:20260425T163728
CREATED:20251017T043717Z
LAST-MODIFIED:20251101T050716Z
UID:10001878-1761993000-1761996600@provplace.com
SUMMARY:Categories
DESCRIPTION:
URL:https://provplace.com/event-calendar/categories-9/
LOCATION:2S
CATEGORIES:Memory Care
END:VEVENT
BEGIN:VEVENT
DTSTART;TZID=America/Chicago:20251031T180000
DTEND;TZID=America/Chicago:20251031T200000
DTSTAMP:20260425T163728
CREATED:20251002T033813Z
LAST-MODIFIED:20251031T050718Z
UID:10001816-1761933600-1761940800@provplace.com
SUMMARY:Netflix Night
DESCRIPTION:
URL:https://provplace.com/event-calendar/netflix-night-50/
CATEGORIES:Memory Care
END:VEVENT
BEGIN:VEVENT
DTSTART;TZID=America/Chicago:20251031T160000
DTEND;TZID=America/Chicago:20251031T163000
DTSTAMP:20260425T163728
CREATED:20251002T033813Z
LAST-MODIFIED:20251031T050718Z
UID:10001815-1761926400-1761928200@provplace.com
SUMMARY:Name That Tune: the 60's
DESCRIPTION:
URL:https://provplace.com/event-calendar/name-that-tune-the-60s/
LOCATION:2S
CATEGORIES:Memory Care
END:VEVENT
BEGIN:VEVENT
DTSTART;TZID=America/Chicago:20251031T143000
DTEND;TZID=America/Chicago:20251031T150000
DTSTAMP:20260425T163728
CREATED:20251002T033813Z
LAST-MODIFIED:20251031T060717Z
UID:10001814-1761921000-1761922800@provplace.com
SUMMARY:Halloween Party
DESCRIPTION:
URL:https://provplace.com/event-calendar/halloween-party/
LOCATION:2 North
CATEGORIES:Long Term Care,Memory Care
END:VEVENT
BEGIN:VEVENT
DTSTART;TZID=America/Chicago:20251031T133000
DTEND;TZID=America/Chicago:20251031T140000
DTSTAMP:20260425T163728
CREATED:20251002T033813Z
LAST-MODIFIED:20251031T050718Z
UID:10001813-1761917400-1761919200@provplace.com
SUMMARY:Chair Exercise
DESCRIPTION:
URL:https://provplace.com/event-calendar/chair-exercise-5/
LOCATION:2S
CATEGORIES:Memory Care
END:VEVENT
BEGIN:VEVENT
DTSTART;TZID=America/Chicago:20251031T110000
DTEND;TZID=America/Chicago:20251031T111500
DTSTAMP:20260425T163728
CREATED:20251002T033813Z
LAST-MODIFIED:20251031T050718Z
UID:10001812-1761908400-1761909300@provplace.com
SUMMARY:Walking Group
DESCRIPTION:
URL:https://provplace.com/event-calendar/walking-group-142/
LOCATION:2S
CATEGORIES:Memory Care
END:VEVENT
BEGIN:VEVENT
DTSTART;TZID=America/Chicago:20251031T103000
DTEND;TZID=America/Chicago:20251031T120000
DTSTAMP:20260425T163728
CREATED:20251002T033813Z
LAST-MODIFIED:20251031T050717Z
UID:10001811-1761906600-1761912000@provplace.com
SUMMARY:Talk to Me
DESCRIPTION:
URL:https://provplace.com/event-calendar/talk-to-me-24/
LOCATION:Memory Care
CATEGORIES:Memory Care
END:VEVENT
BEGIN:VEVENT
DTSTART;TZID=America/Chicago:20251031T093000
DTEND;TZID=America/Chicago:20251031T100000
DTSTAMP:20260425T163728
CREATED:20251002T033813Z
LAST-MODIFIED:20251031T050717Z
UID:10001810-1761903000-1761904800@provplace.com
SUMMARY:Devotions
DESCRIPTION:
URL:https://provplace.com/event-calendar/devotions-51/
CATEGORIES:Memory Care
END:VEVENT
BEGIN:VEVENT
DTSTART;TZID=America/Chicago:20251030T160000
DTEND;TZID=America/Chicago:20251030T163000
DTSTAMP:20260425T163728
CREATED:20251001T033724Z
LAST-MODIFIED:20251030T045219Z
UID:10001804-1761840000-1761841800@provplace.com
SUMMARY:BOO! Bingo
DESCRIPTION:
URL:https://provplace.com/event-calendar/boo-bingo/
CATEGORIES:Memory Care
END:VEVENT
BEGIN:VEVENT
DTSTART;TZID=America/Chicago:20251030T143000
DTEND;TZID=America/Chicago:20251030T150000
DTSTAMP:20260425T163728
CREATED:20251001T033724Z
LAST-MODIFIED:20251030T045219Z
UID:10001803-1761834600-1761836400@provplace.com
SUMMARY:Art Adventures
DESCRIPTION:
URL:https://provplace.com/event-calendar/art-adventures-5/
LOCATION:2S
CATEGORIES:Memory Care
END:VEVENT
BEGIN:VEVENT
DTSTART;TZID=America/Chicago:20251030T133000
DTEND;TZID=America/Chicago:20251030T143000
DTSTAMP:20260425T163728
CREATED:20251001T033724Z
LAST-MODIFIED:20251030T045219Z
UID:10001801-1761831000-1761834600@provplace.com
SUMMARY:Catch and Chat
DESCRIPTION:
URL:https://provplace.com/event-calendar/catch-and-chat-10/
CATEGORIES:Memory Care
END:VEVENT
END:VCALENDAR