BEGIN:VCALENDAR
VERSION:2.0
PRODID:-//Providence Place Senior Living - ECPv6.11.2.1//NONSGML v1.0//EN
CALSCALE:GREGORIAN
METHOD:PUBLISH
X-WR-CALNAME:Providence Place Senior Living
X-ORIGINAL-URL:https://provplace.com
X-WR-CALDESC:Events for Providence Place Senior Living
REFRESH-INTERVAL;VALUE=DURATION:PT1H
X-Robots-Tag:noindex
X-PUBLISHED-TTL:PT1H
BEGIN:VTIMEZONE
TZID:America/Chicago
BEGIN:DAYLIGHT
TZOFFSETFROM:-0600
TZOFFSETTO:-0500
TZNAME:CDT
DTSTART:20250309T080000
END:DAYLIGHT
BEGIN:STANDARD
TZOFFSETFROM:-0500
TZOFFSETTO:-0600
TZNAME:CST
DTSTART:20251102T070000
END:STANDARD
END:VTIMEZONE
BEGIN:VEVENT
DTSTART;TZID=America/Chicago:20251128T093000
DTEND;TZID=America/Chicago:20251128T100000
DTSTAMP:20260424T200224
CREATED:20251030T045223Z
LAST-MODIFIED:20251125T053719Z
UID:10002091-1764322200-1764324000@provplace.com
SUMMARY:Devotions
DESCRIPTION:
URL:https://provplace.com/event-calendar/devotions-59/
CATEGORIES:Memory Care
END:VEVENT
BEGIN:VEVENT
DTSTART;TZID=America/Chicago:20251127T103000
DTEND;TZID=America/Chicago:20251127T110000
DTSTAMP:20260424T200224
CREATED:20251029T043740Z
LAST-MODIFIED:20251126T053750Z
UID:10002071-1764239400-1764241200@provplace.com
SUMMARY:Jeopardy!
DESCRIPTION:
URL:https://provplace.com/event-calendar/jeopardy-8/
CATEGORIES:Memory Care
END:VEVENT
BEGIN:VEVENT
DTSTART;TZID=America/Chicago:20251127T093000
DTEND;TZID=America/Chicago:20251127T100000
DTSTAMP:20260424T200224
CREATED:20251029T043740Z
LAST-MODIFIED:20251125T053719Z
UID:10002070-1764235800-1764237600@provplace.com
SUMMARY:Chaplain Chat
DESCRIPTION:
URL:https://provplace.com/event-calendar/chaplain-chat-112/
CATEGORIES:Memory Care
END:VEVENT
BEGIN:VEVENT
DTSTART;TZID=America/Chicago:20251126T180000
DTEND;TZID=America/Chicago:20251126T200000
DTSTAMP:20260424T200224
CREATED:20251028T043723Z
LAST-MODIFIED:20251126T053750Z
UID:10002060-1764180000-1764187200@provplace.com
SUMMARY:Movie Night
DESCRIPTION:
URL:https://provplace.com/event-calendar/movie-night-29/
CATEGORIES:Memory Care
END:VEVENT
BEGIN:VEVENT
DTSTART;TZID=America/Chicago:20251126T160000
DTEND;TZID=America/Chicago:20251126T170000
DTSTAMP:20260424T200224
CREATED:20251028T043723Z
LAST-MODIFIED:20251126T053750Z
UID:10002059-1764172800-1764176400@provplace.com
SUMMARY:Music Social
DESCRIPTION:
URL:https://provplace.com/event-calendar/music-social-24/
CATEGORIES:Memory Care
END:VEVENT
BEGIN:VEVENT
DTSTART;TZID=America/Chicago:20251126T143000
DTEND;TZID=America/Chicago:20251126T150000
DTSTAMP:20260424T200224
CREATED:20251028T043723Z
LAST-MODIFIED:20251126T053750Z
UID:10002058-1764167400-1764169200@provplace.com
SUMMARY:Coloring
DESCRIPTION:
URL:https://provplace.com/event-calendar/coloring-10/
CATEGORIES:Memory Care
END:VEVENT
BEGIN:VEVENT
DTSTART;TZID=America/Chicago:20251126T133000
DTEND;TZID=America/Chicago:20251126T140000
DTSTAMP:20260424T200224
CREATED:20251028T043723Z
LAST-MODIFIED:20251126T053750Z
UID:10002057-1764163800-1764165600@provplace.com
SUMMARY:Stretch & Dance
DESCRIPTION:
URL:https://provplace.com/event-calendar/stretch-dance-4/
LOCATION:2S
CATEGORIES:Memory Care
END:VEVENT
BEGIN:VEVENT
DTSTART;TZID=America/Chicago:20251126T110000
DTEND;TZID=America/Chicago:20251126T111500
DTSTAMP:20260424T200224
CREATED:20251028T043723Z
LAST-MODIFIED:20251126T053750Z
UID:10002056-1764154800-1764155700@provplace.com
SUMMARY:Walking Group
DESCRIPTION:
URL:https://provplace.com/event-calendar/walking-group-164/
LOCATION:2S
CATEGORIES:Memory Care
END:VEVENT
BEGIN:VEVENT
DTSTART;TZID=America/Chicago:20251126T103000
DTEND;TZID=America/Chicago:20251126T113000
DTSTAMP:20260424T200224
CREATED:20251028T043722Z
LAST-MODIFIED:20251126T053750Z
UID:10002055-1764153000-1764156600@provplace.com
SUMMARY:Hangman
DESCRIPTION:
URL:https://provplace.com/event-calendar/hangman-31/
CATEGORIES:Memory Care
END:VEVENT
BEGIN:VEVENT
DTSTART;TZID=America/Chicago:20251126T093000
DTEND;TZID=America/Chicago:20251126T100000
DTSTAMP:20260424T200224
CREATED:20251028T043722Z
LAST-MODIFIED:20251125T053719Z
UID:10002054-1764149400-1764151200@provplace.com
SUMMARY:Chaplain Chat
DESCRIPTION:
URL:https://provplace.com/event-calendar/chaplain-chat-110/
CATEGORIES:Memory Care
END:VEVENT
BEGIN:VEVENT
DTSTART;TZID=America/Chicago:20251125T160000
DTEND;TZID=America/Chicago:20251125T163000
DTSTAMP:20260424T200224
CREATED:20251030T045223Z
LAST-MODIFIED:20251125T053719Z
UID:10002090-1764086400-1764088200@provplace.com
SUMMARY:Teatime Social
DESCRIPTION:
URL:https://provplace.com/event-calendar/teatime-social-3/
CATEGORIES:Memory Care
END:VEVENT
BEGIN:VEVENT
DTSTART;TZID=America/Chicago:20251125T143000
DTEND;TZID=America/Chicago:20251125T153000
DTSTAMP:20260424T200224
CREATED:20251027T043729Z
LAST-MODIFIED:20251125T053719Z
UID:10002049-1764081000-1764084600@provplace.com
SUMMARY:Flower Arranging
DESCRIPTION:
URL:https://provplace.com/event-calendar/flower-arranging-28/
LOCATION:Memory Care
CATEGORIES:Memory Care
END:VEVENT
BEGIN:VEVENT
DTSTART;TZID=America/Chicago:20251125T133000
DTEND;TZID=America/Chicago:20251125T140000
DTSTAMP:20260424T200225
CREATED:20251027T043729Z
LAST-MODIFIED:20251125T053719Z
UID:10002048-1764077400-1764079200@provplace.com
SUMMARY:Exercise: Weights
DESCRIPTION:
URL:https://provplace.com/event-calendar/exercise-weights-35/
CATEGORIES:Memory Care
END:VEVENT
BEGIN:VEVENT
DTSTART;TZID=America/Chicago:20251125T110000
DTEND;TZID=America/Chicago:20251125T111500
DTSTAMP:20260424T200225
CREATED:20251027T043729Z
LAST-MODIFIED:20251125T053719Z
UID:10002047-1764068400-1764069300@provplace.com
SUMMARY:Walking Group
DESCRIPTION:
URL:https://provplace.com/event-calendar/walking-group-163/
LOCATION:2S
CATEGORIES:Memory Care
END:VEVENT
BEGIN:VEVENT
DTSTART;TZID=America/Chicago:20251125T103000
DTEND;TZID=America/Chicago:20251125T110000
DTSTAMP:20260424T200225
CREATED:20251027T043729Z
LAST-MODIFIED:20251125T053719Z
UID:10002046-1764066600-1764068400@provplace.com
SUMMARY:Trivia & Would you Rather
DESCRIPTION:
URL:https://provplace.com/event-calendar/trivia-would-you-rather/
LOCATION:2S
CATEGORIES:Memory Care
END:VEVENT
BEGIN:VEVENT
DTSTART;TZID=America/Chicago:20251125T093000
DTEND;TZID=America/Chicago:20251125T100000
DTSTAMP:20260424T200225
CREATED:20251027T043729Z
LAST-MODIFIED:20251125T053718Z
UID:10002045-1764063000-1764064800@provplace.com
SUMMARY:Chaplain Chat
DESCRIPTION:
URL:https://provplace.com/event-calendar/chaplain-chat-109/
CATEGORIES:Memory Care
END:VEVENT
BEGIN:VEVENT
DTSTART;TZID=America/Chicago:20251124T181500
DTEND;TZID=America/Chicago:20251124T184500
DTSTAMP:20260424T200225
CREATED:20251026T043723Z
LAST-MODIFIED:20251124T053732Z
UID:10002039-1764008100-1764009900@provplace.com
SUMMARY:Monday Meditation
DESCRIPTION:
URL:https://provplace.com/event-calendar/monday-meditation-27/
CATEGORIES:Memory Care
END:VEVENT
BEGIN:VEVENT
DTSTART;TZID=America/Chicago:20251124T160000
DTEND;TZID=America/Chicago:20251124T163000
DTSTAMP:20260424T200225
CREATED:20251026T043723Z
LAST-MODIFIED:20251124T053732Z
UID:10002038-1764000000-1764001800@provplace.com
SUMMARY:Thanksgiving "Races"
DESCRIPTION:
URL:https://provplace.com/event-calendar/thanksgiving-races-4/
LOCATION:2S
CATEGORIES:Memory Care
END:VEVENT
BEGIN:VEVENT
DTSTART;TZID=America/Chicago:20251124T143000
DTEND;TZID=America/Chicago:20251124T150000
DTSTAMP:20260424T200225
CREATED:20251111T053719Z
LAST-MODIFIED:20251124T053732Z
UID:10002153-1763994600-1763996400@provplace.com
SUMMARY:Thanksgiving poems & stories
DESCRIPTION:
URL:https://provplace.com/event-calendar/thanksgiving-poems-stories/
LOCATION:2S
CATEGORIES:Memory Care
END:VEVENT
BEGIN:VEVENT
DTSTART;TZID=America/Chicago:20251124T133000
DTEND;TZID=America/Chicago:20251124T140000
DTSTAMP:20260424T200225
CREATED:20251026T043723Z
LAST-MODIFIED:20251124T053732Z
UID:10002037-1763991000-1763992800@provplace.com
SUMMARY:Balloon ball
DESCRIPTION:
URL:https://provplace.com/event-calendar/balloon-ball-30/
LOCATION:2S
CATEGORIES:Memory Care
END:VEVENT
BEGIN:VEVENT
DTSTART;TZID=America/Chicago:20251124T110000
DTEND;TZID=America/Chicago:20251124T111500
DTSTAMP:20260424T200225
CREATED:20251026T043723Z
LAST-MODIFIED:20251124T053732Z
UID:10002036-1763982000-1763982900@provplace.com
SUMMARY:Walking Group
DESCRIPTION:
URL:https://provplace.com/event-calendar/walking-group-162/
LOCATION:2S
CATEGORIES:Memory Care
END:VEVENT
BEGIN:VEVENT
DTSTART;TZID=America/Chicago:20251124T103000
DTEND;TZID=America/Chicago:20251124T110000
DTSTAMP:20260424T200225
CREATED:20251026T043722Z
LAST-MODIFIED:20251124T053732Z
UID:10002035-1763980200-1763982000@provplace.com
SUMMARY:Sing and Spin
DESCRIPTION:
URL:https://provplace.com/event-calendar/sing-and-spin-24/
LOCATION:Memory Care
CATEGORIES:Memory Care
END:VEVENT
BEGIN:VEVENT
DTSTART;TZID=America/Chicago:20251124T093000
DTEND;TZID=America/Chicago:20251124T100000
DTSTAMP:20260424T200225
CREATED:20251026T043722Z
LAST-MODIFIED:20251124T053732Z
UID:10002034-1763976600-1763978400@provplace.com
SUMMARY:Prayer & Praise
DESCRIPTION:
URL:https://provplace.com/event-calendar/prayer-praise-9/
CATEGORIES:Memory Care
END:VEVENT
BEGIN:VEVENT
DTSTART;TZID=America/Chicago:20251123T153000
DTEND;TZID=America/Chicago:20251123T160000
DTSTAMP:20260424T200225
CREATED:20251025T043800Z
LAST-MODIFIED:20251123T053720Z
UID:10002028-1763911800-1763913600@provplace.com
SUMMARY:Bowling
DESCRIPTION:
URL:https://provplace.com/event-calendar/bowling-14/
LOCATION:2S
CATEGORIES:Memory Care
END:VEVENT
BEGIN:VEVENT
DTSTART;TZID=America/Chicago:20251123T110000
DTEND;TZID=America/Chicago:20251123T113000
DTSTAMP:20260424T200225
CREATED:20251025T043800Z
LAST-MODIFIED:20251123T053720Z
UID:10002027-1763895600-1763897400@provplace.com
SUMMARY:Walking Group
DESCRIPTION:
URL:https://provplace.com/event-calendar/walking-group-161/
LOCATION:2S
CATEGORIES:Memory Care
END:VEVENT
BEGIN:VEVENT
DTSTART;TZID=America/Chicago:20251123T103000
DTEND;TZID=America/Chicago:20251123T110000
DTSTAMP:20260424T200225
CREATED:20251025T043800Z
LAST-MODIFIED:20251123T053720Z
UID:10002026-1763893800-1763895600@provplace.com
SUMMARY:What Am I?
DESCRIPTION:
URL:https://provplace.com/event-calendar/what-am-i-22/
LOCATION:2S
CATEGORIES:Memory Care
END:VEVENT
BEGIN:VEVENT
DTSTART;TZID=America/Chicago:20251122T153000
DTEND;TZID=America/Chicago:20251122T163000
DTSTAMP:20260424T200225
CREATED:20251024T043756Z
LAST-MODIFIED:20251122T053744Z
UID:10002020-1763825400-1763829000@provplace.com
SUMMARY:Balloon Ball
DESCRIPTION:
URL:https://provplace.com/event-calendar/balloon-ball-29/
LOCATION:2S
CATEGORIES:Memory Care
END:VEVENT
BEGIN:VEVENT
DTSTART;TZID=America/Chicago:20251122T133000
DTEND;TZID=America/Chicago:20251122T140000
DTSTAMP:20260424T200225
CREATED:20251024T043756Z
LAST-MODIFIED:20251122T053744Z
UID:10002019-1763818200-1763820000@provplace.com
SUMMARY:Music Social
DESCRIPTION:
URL:https://provplace.com/event-calendar/music-social-22/
LOCATION:2S
CATEGORIES:Memory Care
END:VEVENT
BEGIN:VEVENT
DTSTART;TZID=America/Chicago:20251122T103000
DTEND;TZID=America/Chicago:20251122T113000
DTSTAMP:20260424T200225
CREATED:20251024T043756Z
LAST-MODIFIED:20251122T053744Z
UID:10002018-1763807400-1763811000@provplace.com
SUMMARY:Categories
DESCRIPTION:
URL:https://provplace.com/event-calendar/categories-12/
LOCATION:2S
CATEGORIES:Memory Care
END:VEVENT
BEGIN:VEVENT
DTSTART;TZID=America/Chicago:20251121T160000
DTEND;TZID=America/Chicago:20251121T163000
DTSTAMP:20260424T200225
CREATED:20251026T043722Z
LAST-MODIFIED:20251121T053717Z
UID:10002033-1763740800-1763742600@provplace.com
SUMMARY:Let's Chat!
DESCRIPTION:
URL:https://provplace.com/event-calendar/lets-chat-2/
LOCATION:2S
CATEGORIES:Memory Care
END:VEVENT
END:VCALENDAR