BEGIN:VCALENDAR
VERSION:2.0
PRODID:-//Providence Place Senior Living - ECPv6.11.2.1//NONSGML v1.0//EN
CALSCALE:GREGORIAN
METHOD:PUBLISH
X-ORIGINAL-URL:https://provplace.com
X-WR-CALDESC:Events for Providence Place Senior Living
REFRESH-INTERVAL;VALUE=DURATION:PT1H
X-Robots-Tag:noindex
X-PUBLISHED-TTL:PT1H
BEGIN:VTIMEZONE
TZID:America/Chicago
BEGIN:DAYLIGHT
TZOFFSETFROM:-0600
TZOFFSETTO:-0500
TZNAME:CDT
DTSTART:20250309T080000
END:DAYLIGHT
BEGIN:STANDARD
TZOFFSETFROM:-0500
TZOFFSETTO:-0600
TZNAME:CST
DTSTART:20251102T070000
END:STANDARD
END:VTIMEZONE
BEGIN:VEVENT
DTSTART;TZID=America/Chicago:20251210T133000
DTEND;TZID=America/Chicago:20251210T140000
DTSTAMP:20260424T094640
CREATED:20251129T000727Z
LAST-MODIFIED:20251210T002230Z
UID:10002349-1765373400-1765375200@provplace.com
SUMMARY:Yoga Stretch & Balloon Ball
DESCRIPTION:
URL:https://provplace.com/event-calendar/yoga-stretch-balloon-ball-2/
LOCATION:2S
CATEGORIES:Memory Care
END:VEVENT
BEGIN:VEVENT
DTSTART;TZID=America/Chicago:20251210T110000
DTEND;TZID=America/Chicago:20251210T111500
DTSTAMP:20260424T094640
CREATED:20251204T000721Z
LAST-MODIFIED:20251210T002230Z
UID:10002398-1765364400-1765365300@provplace.com
SUMMARY:Walking Group
DESCRIPTION:
URL:https://provplace.com/event-calendar/walking-group-181/
LOCATION:2S
CATEGORIES:Memory Care
END:VEVENT
BEGIN:VEVENT
DTSTART;TZID=America/Chicago:20251210T110000
DTEND;TZID=America/Chicago:20251210T111500
DTSTAMP:20260424T094640
CREATED:20251117T053746Z
LAST-MODIFIED:20251203T030724Z
UID:10002211-1765364400-1765365300@provplace.com
SUMMARY:Walking Group
DESCRIPTION:
URL:https://provplace.com/event-calendar/walking-group-170/
LOCATION:2S
CATEGORIES:Memory Care
END:VEVENT
BEGIN:VEVENT
DTSTART;TZID=America/Chicago:20251210T103000
DTEND;TZID=America/Chicago:20251210T113000
DTSTAMP:20260424T094640
CREATED:20251111T053721Z
LAST-MODIFIED:20251210T002230Z
UID:10002154-1765362600-1765366200@provplace.com
SUMMARY:Hangman
DESCRIPTION:
URL:https://provplace.com/event-calendar/hangman-33/
CATEGORIES:Memory Care
END:VEVENT
BEGIN:VEVENT
DTSTART;TZID=America/Chicago:20251210T093000
DTEND;TZID=America/Chicago:20251210T100000
DTSTAMP:20260424T094640
CREATED:20251126T053752Z
LAST-MODIFIED:20251210T002230Z
UID:10002311-1765359000-1765360800@provplace.com
SUMMARY:Chaplain Chat
DESCRIPTION:
URL:https://provplace.com/event-calendar/chaplain-chat-118/
CATEGORIES:Memory Care
END:VEVENT
BEGIN:VEVENT
DTSTART;TZID=America/Chicago:20251209T160000
DTEND;TZID=America/Chicago:20251209T163000
DTSTAMP:20260424T094640
CREATED:20251126T053752Z
LAST-MODIFIED:20251209T002218Z
UID:10002310-1765296000-1765297800@provplace.com
SUMMARY:Teatime Social
DESCRIPTION:
URL:https://provplace.com/event-calendar/teatime-social-5/
CATEGORIES:Memory Care
END:VEVENT
BEGIN:VEVENT
DTSTART;TZID=America/Chicago:20251209T143000
DTEND;TZID=America/Chicago:20251209T153000
DTSTAMP:20260424T094640
CREATED:20251110T053726Z
LAST-MODIFIED:20251209T002218Z
UID:10002149-1765290600-1765294200@provplace.com
SUMMARY:Flower Arranging
DESCRIPTION:
URL:https://provplace.com/event-calendar/flower-arranging-30/
LOCATION:Memory Care
CATEGORIES:Memory Care
END:VEVENT
BEGIN:VEVENT
DTSTART;TZID=America/Chicago:20251209T133000
DTEND;TZID=America/Chicago:20251209T140000
DTSTAMP:20260424T094640
CREATED:20251110T053725Z
LAST-MODIFIED:20251209T002218Z
UID:10002148-1765287000-1765288800@provplace.com
SUMMARY:Exercise: Weights
DESCRIPTION:
URL:https://provplace.com/event-calendar/exercise-weights-39/
CATEGORIES:Memory Care
END:VEVENT
BEGIN:VEVENT
DTSTART;TZID=America/Chicago:20251209T110000
DTEND;TZID=America/Chicago:20251209T111500
DTSTAMP:20260424T094640
CREATED:20251204T000720Z
LAST-MODIFIED:20251209T002218Z
UID:10002397-1765278000-1765278900@provplace.com
SUMMARY:Walking Group
DESCRIPTION:
URL:https://provplace.com/event-calendar/walking-group-180/
LOCATION:2S
CATEGORIES:Memory Care
END:VEVENT
BEGIN:VEVENT
DTSTART;TZID=America/Chicago:20251209T110000
DTEND;TZID=America/Chicago:20251209T111500
DTSTAMP:20260424T094640
CREATED:20251129T000726Z
LAST-MODIFIED:20251203T030724Z
UID:10002348-1765278000-1765278900@provplace.com
SUMMARY:Walking
DESCRIPTION:
URL:https://provplace.com/event-calendar/walking-4/
LOCATION:2S
CATEGORIES:Memory Care
END:VEVENT
BEGIN:VEVENT
DTSTART;TZID=America/Chicago:20251209T103000
DTEND;TZID=America/Chicago:20251209T110000
DTSTAMP:20260424T094640
CREATED:20251129T000726Z
LAST-MODIFIED:20251209T002218Z
UID:10002347-1765276200-1765278000@provplace.com
SUMMARY:Mystery bag & Top 10
DESCRIPTION:
URL:https://provplace.com/event-calendar/mystery-bag-top-10/
LOCATION:2S
CATEGORIES:Memory Care
END:VEVENT
BEGIN:VEVENT
DTSTART;TZID=America/Chicago:20251209T093000
DTEND;TZID=America/Chicago:20251209T103000
DTSTAMP:20260424T094640
CREATED:20251128T122233Z
LAST-MODIFIED:20251209T002218Z
UID:10002335-1765272600-1765276200@provplace.com
SUMMARY:Hymns and Things
DESCRIPTION:
URL:https://provplace.com/event-calendar/hymns-and-things/
LOCATION:2S
CATEGORIES:Memory Care
END:VEVENT
BEGIN:VEVENT
DTSTART;TZID=America/Chicago:20251208T181500
DTEND;TZID=America/Chicago:20251208T184500
DTSTAMP:20260424T094640
CREATED:20251109T052231Z
LAST-MODIFIED:20251209T002218Z
UID:10002146-1765217700-1765219500@provplace.com
SUMMARY:Monday Meditation
DESCRIPTION:
URL:https://provplace.com/event-calendar/monday-meditation-29/
CATEGORIES:Memory Care
END:VEVENT
BEGIN:VEVENT
DTSTART;TZID=America/Chicago:20251208T160000
DTEND;TZID=America/Chicago:20251208T163000
DTSTAMP:20260424T094640
CREATED:20251117T053746Z
LAST-MODIFIED:20251208T002216Z
UID:10002210-1765209600-1765211400@provplace.com
SUMMARY:Holiday "Races"
DESCRIPTION:
URL:https://provplace.com/event-calendar/holiday-races-2/
LOCATION:2S
CATEGORIES:Memory Care
END:VEVENT
BEGIN:VEVENT
DTSTART;TZID=America/Chicago:20251208T143000
DTEND;TZID=America/Chicago:20251208T150000
DTSTAMP:20260424T094640
CREATED:20251114T053729Z
LAST-MODIFIED:20251208T002216Z
UID:10002190-1765204200-1765206000@provplace.com
SUMMARY:Finish The Phrase
DESCRIPTION:
URL:https://provplace.com/event-calendar/finish-the-phrase-5/
LOCATION:2S
CATEGORIES:Memory Care
END:VEVENT
BEGIN:VEVENT
DTSTART;TZID=America/Chicago:20251208T133000
DTEND;TZID=America/Chicago:20251208T140000
DTSTAMP:20260424T094640
CREATED:20251114T053728Z
LAST-MODIFIED:20251208T002216Z
UID:10002189-1765200600-1765202400@provplace.com
SUMMARY:Balloon Ball
DESCRIPTION:
URL:https://provplace.com/event-calendar/balloon-ball-34/
CATEGORIES:Memory Care
END:VEVENT
BEGIN:VEVENT
DTSTART;TZID=America/Chicago:20251208T110000
DTEND;TZID=America/Chicago:20251208T111500
DTSTAMP:20260424T094640
CREATED:20251204T000720Z
LAST-MODIFIED:20251208T002216Z
UID:10002396-1765191600-1765192500@provplace.com
SUMMARY:Walking Group
DESCRIPTION:
URL:https://provplace.com/event-calendar/walking-group-179/
LOCATION:2S
CATEGORIES:Memory Care
END:VEVENT
BEGIN:VEVENT
DTSTART;TZID=America/Chicago:20251208T103000
DTEND;TZID=America/Chicago:20251208T110000
DTSTAMP:20260424T094640
CREATED:20251109T052231Z
LAST-MODIFIED:20251208T002216Z
UID:10002145-1765189800-1765191600@provplace.com
SUMMARY:Sing and Spin
DESCRIPTION:
URL:https://provplace.com/event-calendar/sing-and-spin-26/
LOCATION:Memory Care
CATEGORIES:Memory Care
END:VEVENT
BEGIN:VEVENT
DTSTART;TZID=America/Chicago:20251208T093000
DTEND;TZID=America/Chicago:20251208T100000
DTSTAMP:20260424T094640
CREATED:20251126T053752Z
LAST-MODIFIED:20251208T002216Z
UID:10002309-1765186200-1765188000@provplace.com
SUMMARY:Prayer & Praise
DESCRIPTION:
URL:https://provplace.com/event-calendar/prayer-praise-11/
CATEGORIES:Memory Care
END:VEVENT
BEGIN:VEVENT
DTSTART;TZID=America/Chicago:20251207T153000
DTEND;TZID=America/Chicago:20251207T160000
DTSTAMP:20260424T094640
CREATED:20251117T053746Z
LAST-MODIFIED:20251207T002219Z
UID:10002209-1765121400-1765123200@provplace.com
SUMMARY:Bean Bag Toss
DESCRIPTION:
URL:https://provplace.com/event-calendar/bowling-16/
LOCATION:2S
CATEGORIES:Memory Care
END:VEVENT
BEGIN:VEVENT
DTSTART;TZID=America/Chicago:20251207T110000
DTEND;TZID=America/Chicago:20251207T113000
DTSTAMP:20260424T094640
CREATED:20251117T053746Z
LAST-MODIFIED:20251207T002219Z
UID:10002208-1765105200-1765107000@provplace.com
SUMMARY:Walking Group
DESCRIPTION:
URL:https://provplace.com/event-calendar/walking-group-169/
LOCATION:2S
CATEGORIES:Memory Care
END:VEVENT
BEGIN:VEVENT
DTSTART;TZID=America/Chicago:20251207T103000
DTEND;TZID=America/Chicago:20251207T110000
DTSTAMP:20260424T094640
CREATED:20251117T053745Z
LAST-MODIFIED:20251207T002219Z
UID:10002207-1765103400-1765105200@provplace.com
SUMMARY:What Am I?
DESCRIPTION:
URL:https://provplace.com/event-calendar/what-am-i-24/
LOCATION:2S
CATEGORIES:Memory Care
END:VEVENT
BEGIN:VEVENT
DTSTART;TZID=America/Chicago:20251206T153000
DTEND;TZID=America/Chicago:20251206T160000
DTSTAMP:20260424T094640
CREATED:20251107T052221Z
LAST-MODIFIED:20251206T002217Z
UID:10002140-1765035000-1765036800@provplace.com
SUMMARY:Balloon Ball
DESCRIPTION:
URL:https://provplace.com/event-calendar/balloon-ball-32/
LOCATION:2S
CATEGORIES:Memory Care
END:VEVENT
BEGIN:VEVENT
DTSTART;TZID=America/Chicago:20251206T133000
DTEND;TZID=America/Chicago:20251206T140000
DTSTAMP:20260424T094640
CREATED:20251126T053751Z
LAST-MODIFIED:20251206T002217Z
UID:10002308-1765027800-1765029600@provplace.com
SUMMARY:Grace
DESCRIPTION:
URL:https://provplace.com/event-calendar/grace-15/
CATEGORIES:Memory Care
END:VEVENT
BEGIN:VEVENT
DTSTART;TZID=America/Chicago:20251206T103000
DTEND;TZID=America/Chicago:20251206T110000
DTSTAMP:20260424T094640
CREATED:20251107T052221Z
LAST-MODIFIED:20251206T002217Z
UID:10002139-1765017000-1765018800@provplace.com
SUMMARY:Categories
DESCRIPTION:
URL:https://provplace.com/event-calendar/categories-14/
LOCATION:2S
CATEGORIES:Memory Care
END:VEVENT
BEGIN:VEVENT
DTSTART;TZID=America/Chicago:20251205T160000
DTEND;TZID=America/Chicago:20251205T163000
DTSTAMP:20260424T094640
CREATED:20251107T052221Z
LAST-MODIFIED:20251205T032216Z
UID:10002138-1764950400-1764952200@provplace.com
SUMMARY:Name That Tune
DESCRIPTION:
URL:https://provplace.com/event-calendar/name-that-tune-3/
LOCATION:2S
CATEGORIES:Memory Care
END:VEVENT
BEGIN:VEVENT
DTSTART;TZID=America/Chicago:20251205T143000
DTEND;TZID=America/Chicago:20251205T150000
DTSTAMP:20260424T094640
CREATED:20251106T052224Z
LAST-MODIFIED:20251205T032216Z
UID:10002134-1764945000-1764946800@provplace.com
SUMMARY:Nail Care
DESCRIPTION:
URL:https://provplace.com/event-calendar/nail-care-21/
CATEGORIES:Memory Care
END:VEVENT
BEGIN:VEVENT
DTSTART;TZID=America/Chicago:20251205T133000
DTEND;TZID=America/Chicago:20251205T140000
DTSTAMP:20260424T094640
CREATED:20251107T052221Z
LAST-MODIFIED:20251205T032216Z
UID:10002137-1764941400-1764943200@provplace.com
SUMMARY:Chair Exercise
DESCRIPTION:
URL:https://provplace.com/event-calendar/chair-exercise-10/
LOCATION:2 South
CATEGORIES:Memory Care
END:VEVENT
BEGIN:VEVENT
DTSTART;TZID=America/Chicago:20251205T110000
DTEND;TZID=America/Chicago:20251205T111500
DTSTAMP:20260424T094640
CREATED:20251204T000719Z
LAST-MODIFIED:20251205T032216Z
UID:10002395-1764932400-1764933300@provplace.com
SUMMARY:Walking Group
DESCRIPTION:
URL:https://provplace.com/event-calendar/walking-group-178/
LOCATION:2S
CATEGORIES:Memory Care
END:VEVENT
BEGIN:VEVENT
DTSTART;TZID=America/Chicago:20251205T103000
DTEND;TZID=America/Chicago:20251205T120000
DTSTAMP:20260424T094640
CREATED:20251106T052224Z
LAST-MODIFIED:20251205T032216Z
UID:10002133-1764930600-1764936000@provplace.com
SUMMARY:Talk to Me
DESCRIPTION:
URL:https://provplace.com/event-calendar/talk-to-me-29/
LOCATION:Memory Care
CATEGORIES:Memory Care
END:VEVENT
END:VCALENDAR