BEGIN:VCALENDAR
VERSION:2.0
PRODID:-//Providence Place Senior Living - ECPv6.11.2.1//NONSGML v1.0//EN
CALSCALE:GREGORIAN
METHOD:PUBLISH
X-ORIGINAL-URL:https://provplace.com
X-WR-CALDESC:Events for Providence Place Senior Living
REFRESH-INTERVAL;VALUE=DURATION:PT1H
X-Robots-Tag:noindex
X-PUBLISHED-TTL:PT1H
BEGIN:VTIMEZONE
TZID:America/Chicago
BEGIN:DAYLIGHT
TZOFFSETFROM:-0600
TZOFFSETTO:-0500
TZNAME:CDT
DTSTART:20250309T080000
END:DAYLIGHT
BEGIN:STANDARD
TZOFFSETFROM:-0500
TZOFFSETTO:-0600
TZNAME:CST
DTSTART:20251102T070000
END:STANDARD
END:VTIMEZONE
BEGIN:VEVENT
DTSTART;TZID=America/Chicago:20251216T093000
DTEND;TZID=America/Chicago:20251216T100000
DTSTAMP:20260424T053158
CREATED:20251204T000722Z
LAST-MODIFIED:20251216T002221Z
UID:10002404-1765877400-1765879200@provplace.com
SUMMARY:Meditation
DESCRIPTION:
URL:https://provplace.com/event-calendar/meditation/
CATEGORIES:Memory Care
END:VEVENT
BEGIN:VEVENT
DTSTART;TZID=America/Chicago:20251215T181500
DTEND;TZID=America/Chicago:20251215T184500
DTSTAMP:20260424T053158
CREATED:20251116T053722Z
LAST-MODIFIED:20251216T002221Z
UID:10002201-1765822500-1765824300@provplace.com
SUMMARY:Monday Meditation
DESCRIPTION:
URL:https://provplace.com/event-calendar/monday-meditation-30/
CATEGORIES:Memory Care
END:VEVENT
BEGIN:VEVENT
DTSTART;TZID=America/Chicago:20251215T160000
DTEND;TZID=America/Chicago:20251215T163000
DTSTAMP:20260424T053158
CREATED:20251117T053747Z
LAST-MODIFIED:20251215T002217Z
UID:10002215-1765814400-1765816200@provplace.com
SUMMARY:Holiday "Races"
DESCRIPTION:
URL:https://provplace.com/event-calendar/holiday-races-3/
LOCATION:2S
CATEGORIES:Memory Care
END:VEVENT
BEGIN:VEVENT
DTSTART;TZID=America/Chicago:20251215T143000
DTEND;TZID=America/Chicago:20251215T150000
DTSTAMP:20260424T053158
CREATED:20251116T053722Z
LAST-MODIFIED:20251215T002217Z
UID:10002200-1765809000-1765810800@provplace.com
SUMMARY:Finish the Christmas Lyrics
DESCRIPTION:
URL:https://provplace.com/event-calendar/finish-the-christmas-lyrics/
LOCATION:2S
CATEGORIES:Memory Care
END:VEVENT
BEGIN:VEVENT
DTSTART;TZID=America/Chicago:20251215T133000
DTEND;TZID=America/Chicago:20251215T140000
DTSTAMP:20260424T053158
CREATED:20251116T053722Z
LAST-MODIFIED:20251215T002217Z
UID:10002199-1765805400-1765807200@provplace.com
SUMMARY:Balloon Ball
DESCRIPTION:
URL:https://provplace.com/event-calendar/balloon-ball-36/
CATEGORIES:Memory Care
END:VEVENT
BEGIN:VEVENT
DTSTART;TZID=America/Chicago:20251215T110000
DTEND;TZID=America/Chicago:20251215T111500
DTSTAMP:20260424T053158
CREATED:20251204T000722Z
LAST-MODIFIED:20251215T002217Z
UID:10002403-1765796400-1765797300@provplace.com
SUMMARY:Walking Group
DESCRIPTION:
URL:https://provplace.com/event-calendar/walking-group-184/
LOCATION:2S
CATEGORIES:Memory Care
END:VEVENT
BEGIN:VEVENT
DTSTART;TZID=America/Chicago:20251215T103000
DTEND;TZID=America/Chicago:20251215T110000
DTSTAMP:20260424T053158
CREATED:20251116T053722Z
LAST-MODIFIED:20251215T002217Z
UID:10002198-1765794600-1765796400@provplace.com
SUMMARY:Sing and Spin
DESCRIPTION:
URL:https://provplace.com/event-calendar/sing-and-spin-27/
LOCATION:Memory Care
CATEGORIES:Memory Care
END:VEVENT
BEGIN:VEVENT
DTSTART;TZID=America/Chicago:20251215T093000
DTEND;TZID=America/Chicago:20251215T100000
DTSTAMP:20260424T053158
CREATED:20251126T053753Z
LAST-MODIFIED:20251215T002217Z
UID:10002313-1765791000-1765792800@provplace.com
SUMMARY:Prayer & Praise
DESCRIPTION:
URL:https://provplace.com/event-calendar/prayer-praise-12/
CATEGORIES:Memory Care
END:VEVENT
BEGIN:VEVENT
DTSTART;TZID=America/Chicago:20251214T153000
DTEND;TZID=America/Chicago:20251214T160000
DTSTAMP:20260424T053158
CREATED:20251117T053747Z
LAST-MODIFIED:20251214T002222Z
UID:10002214-1765726200-1765728000@provplace.com
SUMMARY:Bean Bag Toss
DESCRIPTION:
URL:https://provplace.com/event-calendar/bowling-17/
LOCATION:2S
CATEGORIES:Memory Care
END:VEVENT
BEGIN:VEVENT
DTSTART;TZID=America/Chicago:20251214T110000
DTEND;TZID=America/Chicago:20251214T113000
DTSTAMP:20260424T053158
CREATED:20251117T053747Z
LAST-MODIFIED:20251214T002222Z
UID:10002213-1765710000-1765711800@provplace.com
SUMMARY:Walking Group
DESCRIPTION:
URL:https://provplace.com/event-calendar/walking-group-171/
LOCATION:2S
CATEGORIES:Memory Care
END:VEVENT
BEGIN:VEVENT
DTSTART;TZID=America/Chicago:20251214T103000
DTEND;TZID=America/Chicago:20251214T110000
DTSTAMP:20260424T053158
CREATED:20251117T053747Z
LAST-MODIFIED:20251214T002222Z
UID:10002212-1765708200-1765710000@provplace.com
SUMMARY:What Am I?
DESCRIPTION:
URL:https://provplace.com/event-calendar/what-am-i-25/
LOCATION:2S
CATEGORIES:Memory Care
END:VEVENT
BEGIN:VEVENT
DTSTART;TZID=America/Chicago:20251213T153000
DTEND;TZID=America/Chicago:20251213T160000
DTSTAMP:20260424T053158
CREATED:20251114T053729Z
LAST-MODIFIED:20251213T002216Z
UID:10002193-1765639800-1765641600@provplace.com
SUMMARY:Balloon Ball
DESCRIPTION:
URL:https://provplace.com/event-calendar/balloon-ball-35/
LOCATION:2S
CATEGORIES:Memory Care
END:VEVENT
BEGIN:VEVENT
DTSTART;TZID=America/Chicago:20251213T133000
DTEND;TZID=America/Chicago:20251213T140000
DTSTAMP:20260424T053158
CREATED:20251129T000727Z
LAST-MODIFIED:20251213T002216Z
UID:10002350-1765632600-1765634400@provplace.com
SUMMARY:Singalong Saturday
DESCRIPTION:
URL:https://provplace.com/event-calendar/singalong-saturday/
LOCATION:2S
CATEGORIES:Memory Care
END:VEVENT
BEGIN:VEVENT
DTSTART;TZID=America/Chicago:20251213T103000
DTEND;TZID=America/Chicago:20251213T110000
DTSTAMP:20260424T053158
CREATED:20251114T053729Z
LAST-MODIFIED:20251213T002216Z
UID:10002192-1765621800-1765623600@provplace.com
SUMMARY:Categories
DESCRIPTION:
URL:https://provplace.com/event-calendar/categories-15/
LOCATION:2S
CATEGORIES:Memory Care
END:VEVENT
BEGIN:VEVENT
DTSTART;TZID=America/Chicago:20251212T160000
DTEND;TZID=America/Chicago:20251212T163000
DTSTAMP:20260424T053158
CREATED:20251113T053725Z
LAST-MODIFIED:20251212T002219Z
UID:10002181-1765555200-1765557000@provplace.com
SUMMARY:Story Time
DESCRIPTION:
URL:https://provplace.com/event-calendar/story-time/
LOCATION:2S
CATEGORIES:Memory Care
END:VEVENT
BEGIN:VEVENT
DTSTART;TZID=America/Chicago:20251212T143000
DTEND;TZID=America/Chicago:20251212T150000
DTSTAMP:20260424T053158
CREATED:20251120T053739Z
LAST-MODIFIED:20251212T012230Z
UID:10002251-1765549800-1765551600@provplace.com
SUMMARY:December Birthday Party
DESCRIPTION:
URL:https://provplace.com/event-calendar/december-birthday-party/
LOCATION:2 North
CATEGORIES:Long Term Care,Memory Care
END:VEVENT
BEGIN:VEVENT
DTSTART;TZID=America/Chicago:20251212T143000
DTEND;TZID=America/Chicago:20251212T150000
DTSTAMP:20260424T053158
CREATED:20251113T053724Z
LAST-MODIFIED:20251203T030725Z
UID:10002180-1765549800-1765551600@provplace.com
SUMMARY:Nail Care
DESCRIPTION:
URL:https://provplace.com/event-calendar/nail-care-22/
CATEGORIES:Memory Care
END:VEVENT
BEGIN:VEVENT
DTSTART;TZID=America/Chicago:20251212T133000
DTEND;TZID=America/Chicago:20251212T140000
DTSTAMP:20260424T053158
CREATED:20251113T053724Z
LAST-MODIFIED:20251212T002219Z
UID:10002179-1765546200-1765548000@provplace.com
SUMMARY:Chair Exercise
DESCRIPTION:
URL:https://provplace.com/event-calendar/chair-exercise-11/
LOCATION:2 South
CATEGORIES:Memory Care
END:VEVENT
BEGIN:VEVENT
DTSTART;TZID=America/Chicago:20251212T110000
DTEND;TZID=America/Chicago:20251212T111500
DTSTAMP:20260424T053158
CREATED:20251204T000721Z
LAST-MODIFIED:20251212T002219Z
UID:10002402-1765537200-1765538100@provplace.com
SUMMARY:Walking Group
DESCRIPTION:
URL:https://provplace.com/event-calendar/walking-group-183/
LOCATION:2S
CATEGORIES:Memory Care
END:VEVENT
BEGIN:VEVENT
DTSTART;TZID=America/Chicago:20251212T103000
DTEND;TZID=America/Chicago:20251212T120000
DTSTAMP:20260424T053158
CREATED:20251113T053724Z
LAST-MODIFIED:20251212T002219Z
UID:10002178-1765535400-1765540800@provplace.com
SUMMARY:Talk to Me
DESCRIPTION:
URL:https://provplace.com/event-calendar/talk-to-me-30/
LOCATION:Memory Care
CATEGORIES:Memory Care
END:VEVENT
BEGIN:VEVENT
DTSTART;TZID=America/Chicago:20251212T093000
DTEND;TZID=America/Chicago:20251212T100000
DTSTAMP:20260424T053158
CREATED:20251113T053724Z
LAST-MODIFIED:20251212T002219Z
UID:10002177-1765531800-1765533600@provplace.com
SUMMARY:Bible Study
DESCRIPTION:
URL:https://provplace.com/event-calendar/devotions-63/
CATEGORIES:Memory Care
END:VEVENT
BEGIN:VEVENT
DTSTART;TZID=America/Chicago:20251211T160000
DTEND;TZID=America/Chicago:20251211T170000
DTSTAMP:20260424T053158
CREATED:20251112T053801Z
LAST-MODIFIED:20251211T002220Z
UID:10002172-1765468800-1765472400@provplace.com
SUMMARY:Bingo
DESCRIPTION:
URL:https://provplace.com/event-calendar/bingo-58/
CATEGORIES:Memory Care
END:VEVENT
BEGIN:VEVENT
DTSTART;TZID=America/Chicago:20251211T141500
DTEND;TZID=America/Chicago:20251211T150000
DTSTAMP:20260424T053158
CREATED:20251114T053729Z
LAST-MODIFIED:20251211T002220Z
UID:10002191-1765462500-1765465200@provplace.com
SUMMARY:Art Day!  Christmas Card making
DESCRIPTION:
URL:https://provplace.com/event-calendar/art-day-christmas-card-making/
CATEGORIES:Memory Care
END:VEVENT
BEGIN:VEVENT
DTSTART;TZID=America/Chicago:20251211T133000
DTEND;TZID=America/Chicago:20251211T143000
DTSTAMP:20260424T053158
CREATED:20251112T053801Z
LAST-MODIFIED:20251211T002220Z
UID:10002171-1765459800-1765463400@provplace.com
SUMMARY:Catch and Chat
DESCRIPTION:
URL:https://provplace.com/event-calendar/catch-and-chat-15/
CATEGORIES:Memory Care
END:VEVENT
BEGIN:VEVENT
DTSTART;TZID=America/Chicago:20251211T110000
DTEND;TZID=America/Chicago:20251211T111500
DTSTAMP:20260424T053158
CREATED:20251204T000721Z
LAST-MODIFIED:20251211T002220Z
UID:10002401-1765450800-1765451700@provplace.com
SUMMARY:Walking Group
DESCRIPTION:
URL:https://provplace.com/event-calendar/walking-group-182/
LOCATION:2S
CATEGORIES:Memory Care
END:VEVENT
BEGIN:VEVENT
DTSTART;TZID=America/Chicago:20251211T103000
DTEND;TZID=America/Chicago:20251211T110000
DTSTAMP:20260424T053158
CREATED:20251112T053800Z
LAST-MODIFIED:20251211T002220Z
UID:10002170-1765449000-1765450800@provplace.com
SUMMARY:Jeopardy!
DESCRIPTION:
URL:https://provplace.com/event-calendar/jeopardy-10/
CATEGORIES:Memory Care
END:VEVENT
BEGIN:VEVENT
DTSTART;TZID=America/Chicago:20251211T093000
DTEND;TZID=America/Chicago:20251211T100000
DTSTAMP:20260424T053158
CREATED:20251204T000721Z
LAST-MODIFIED:20251211T002220Z
UID:10002400-1765445400-1765447200@provplace.com
SUMMARY:Spiritual TBD
DESCRIPTION:
URL:https://provplace.com/event-calendar/spiritual-tbd/
LOCATION:2S
CATEGORIES:Memory Care
END:VEVENT
BEGIN:VEVENT
DTSTART;TZID=America/Chicago:20251210T160000
DTEND;TZID=America/Chicago:20251210T170000
DTSTAMP:20260424T053158
CREATED:20251111T053721Z
LAST-MODIFIED:20251128T153721Z
UID:10002155-1765382400-1765386000@provplace.com
SUMMARY:Music Social
DESCRIPTION:
URL:https://provplace.com/event-calendar/music-social-28/
CATEGORIES:Memory Care
END:VEVENT
BEGIN:VEVENT
DTSTART;TZID=America/Chicago:20251210T160000
DTEND;TZID=America/Chicago:20251210T163000
DTSTAMP:20260424T053158
CREATED:20251204T000721Z
LAST-MODIFIED:20251210T002230Z
UID:10002399-1765382400-1765384200@provplace.com
SUMMARY:Music Social
DESCRIPTION:
URL:https://provplace.com/event-calendar/music-social-34/
LOCATION:2S
CATEGORIES:Memory Care
END:VEVENT
BEGIN:VEVENT
DTSTART;TZID=America/Chicago:20251210T143000
DTEND;TZID=America/Chicago:20251210T150000
DTSTAMP:20260424T053158
CREATED:20251126T053752Z
LAST-MODIFIED:20251210T002230Z
UID:10002312-1765377000-1765378800@provplace.com
SUMMARY:Coloring
DESCRIPTION:
URL:https://provplace.com/event-calendar/coloring-12/
CATEGORIES:Memory Care
END:VEVENT
END:VCALENDAR