BEGIN:VCALENDAR
VERSION:2.0
PRODID:-//Providence Place Senior Living - ECPv6.11.2.1//NONSGML v1.0//EN
CALSCALE:GREGORIAN
METHOD:PUBLISH
X-WR-CALNAME:Providence Place Senior Living
X-ORIGINAL-URL:https://provplace.com
X-WR-CALDESC:Events for Providence Place Senior Living
REFRESH-INTERVAL;VALUE=DURATION:PT1H
X-Robots-Tag:noindex
X-PUBLISHED-TTL:PT1H
BEGIN:VTIMEZONE
TZID:America/Chicago
BEGIN:DAYLIGHT
TZOFFSETFROM:-0600
TZOFFSETTO:-0500
TZNAME:CDT
DTSTART:20250309T080000
END:DAYLIGHT
BEGIN:STANDARD
TZOFFSETFROM:-0500
TZOFFSETTO:-0600
TZNAME:CST
DTSTART:20251102T070000
END:STANDARD
END:VTIMEZONE
BEGIN:VEVENT
DTSTART;TZID=America/Chicago:20251224T133000
DTEND;TZID=America/Chicago:20251224T140000
DTSTAMP:20260423T224113
CREATED:20251125T053723Z
LAST-MODIFIED:20251224T003716Z
UID:10002296-1766583000-1766584800@provplace.com
SUMMARY:Noodle stretch
DESCRIPTION:
URL:https://provplace.com/event-calendar/noodle-stretch/
LOCATION:2S
CATEGORIES:Memory Care
END:VEVENT
BEGIN:VEVENT
DTSTART;TZID=America/Chicago:20251224T110000
DTEND;TZID=America/Chicago:20251224T111500
DTSTAMP:20260423T224113
CREATED:20251204T000725Z
LAST-MODIFIED:20251224T003716Z
UID:10002411-1766574000-1766574900@provplace.com
SUMMARY:Walking Group
DESCRIPTION:
URL:https://provplace.com/event-calendar/walking-group-190/
LOCATION:2S
CATEGORIES:Memory Care
END:VEVENT
BEGIN:VEVENT
DTSTART;TZID=America/Chicago:20251224T110000
DTEND;TZID=America/Chicago:20251224T111500
DTSTAMP:20260423T224113
CREATED:20251125T053723Z
LAST-MODIFIED:20251203T030727Z
UID:10002295-1766574000-1766574900@provplace.com
SUMMARY:Walking Group
DESCRIPTION:
URL:https://provplace.com/event-calendar/walking-group-174/
LOCATION:2S
CATEGORIES:Memory Care
END:VEVENT
BEGIN:VEVENT
DTSTART;TZID=America/Chicago:20251224T103000
DTEND;TZID=America/Chicago:20251224T113000
DTSTAMP:20260423T224113
CREATED:20251125T053723Z
LAST-MODIFIED:20251224T003716Z
UID:10002294-1766572200-1766575800@provplace.com
SUMMARY:Hangman
DESCRIPTION:
URL:https://provplace.com/event-calendar/hangman-35/
CATEGORIES:Memory Care
END:VEVENT
BEGIN:VEVENT
DTSTART;TZID=America/Chicago:20251224T093000
DTEND;TZID=America/Chicago:20251224T100000
DTSTAMP:20260423T224113
CREATED:20251126T053756Z
LAST-MODIFIED:20251224T003716Z
UID:10002318-1766568600-1766570400@provplace.com
SUMMARY:Chaplain Chat
DESCRIPTION:
URL:https://provplace.com/event-calendar/chaplain-chat-120/
CATEGORIES:Memory Care
END:VEVENT
BEGIN:VEVENT
DTSTART;TZID=America/Chicago:20251223T160000
DTEND;TZID=America/Chicago:20251223T170000
DTSTAMP:20260423T224113
CREATED:20251124T053735Z
LAST-MODIFIED:20251223T012234Z
UID:10002290-1766505600-1766509200@provplace.com
SUMMARY:Holiday Lights Outing
DESCRIPTION:
URL:https://provplace.com/event-calendar/holiday-lights-outing/
LOCATION:3 North
CATEGORIES:Long Term Care,Memory Care
END:VEVENT
BEGIN:VEVENT
DTSTART;TZID=America/Chicago:20251223T160000
DTEND;TZID=America/Chicago:20251223T163000
DTSTAMP:20260423T224113
CREATED:20251126T053756Z
LAST-MODIFIED:20251203T030727Z
UID:10002317-1766505600-1766507400@provplace.com
SUMMARY:Teatime Social
DESCRIPTION:
URL:https://provplace.com/event-calendar/teatime-social-7/
CATEGORIES:Memory Care
END:VEVENT
BEGIN:VEVENT
DTSTART;TZID=America/Chicago:20251223T143000
DTEND;TZID=America/Chicago:20251223T153000
DTSTAMP:20260423T224113
CREATED:20251124T053735Z
LAST-MODIFIED:20251223T003717Z
UID:10002289-1766500200-1766503800@provplace.com
SUMMARY:Flower Arranging
DESCRIPTION:
URL:https://provplace.com/event-calendar/flower-arranging-32/
LOCATION:Memory Care
CATEGORIES:Memory Care
END:VEVENT
BEGIN:VEVENT
DTSTART;TZID=America/Chicago:20251223T133000
DTEND;TZID=America/Chicago:20251223T140000
DTSTAMP:20260423T224113
CREATED:20251124T053735Z
LAST-MODIFIED:20251223T003716Z
UID:10002288-1766496600-1766498400@provplace.com
SUMMARY:Exercise: Weights
DESCRIPTION:
URL:https://provplace.com/event-calendar/exercise-weights-43/
CATEGORIES:Memory Care
END:VEVENT
BEGIN:VEVENT
DTSTART;TZID=America/Chicago:20251223T110000
DTEND;TZID=America/Chicago:20251223T111500
DTSTAMP:20260423T224113
CREATED:20251204T000724Z
LAST-MODIFIED:20251223T003716Z
UID:10002410-1766487600-1766488500@provplace.com
SUMMARY:Walking Group
DESCRIPTION:
URL:https://provplace.com/event-calendar/walking-group-189/
LOCATION:2S
CATEGORIES:Memory Care
END:VEVENT
BEGIN:VEVENT
DTSTART;TZID=America/Chicago:20251223T110000
DTEND;TZID=America/Chicago:20251223T111500
DTSTAMP:20260423T224113
CREATED:20251129T000729Z
LAST-MODIFIED:20251203T030726Z
UID:10002355-1766487600-1766488500@provplace.com
SUMMARY:Walking
DESCRIPTION:
URL:https://provplace.com/event-calendar/walking-6/
LOCATION:2S
CATEGORIES:Memory Care
END:VEVENT
BEGIN:VEVENT
DTSTART;TZID=America/Chicago:20251223T103000
DTEND;TZID=America/Chicago:20251223T110000
DTSTAMP:20260423T224113
CREATED:20251129T000729Z
LAST-MODIFIED:20251223T003716Z
UID:10002354-1766485800-1766487600@provplace.com
SUMMARY:Name That Christmas Song
DESCRIPTION:
URL:https://provplace.com/event-calendar/name-that-christmas-song/
LOCATION:2S
CATEGORIES:Memory Care
END:VEVENT
BEGIN:VEVENT
DTSTART;TZID=America/Chicago:20251223T093000
DTEND;TZID=America/Chicago:20251223T103000
DTSTAMP:20260423T224113
CREATED:20251128T122235Z
LAST-MODIFIED:20251223T003716Z
UID:10002336-1766482200-1766485800@provplace.com
SUMMARY:Hymns and Things
DESCRIPTION:
URL:https://provplace.com/event-calendar/hymns-and-things-2/
LOCATION:2S
CATEGORIES:Memory Care
END:VEVENT
BEGIN:VEVENT
DTSTART;TZID=America/Chicago:20251222T181500
DTEND;TZID=America/Chicago:20251222T184500
DTSTAMP:20260423T224113
CREATED:20251123T053723Z
LAST-MODIFIED:20251215T002218Z
UID:10002281-1766427300-1766429100@provplace.com
SUMMARY:Monday Meditation
DESCRIPTION:
URL:https://provplace.com/event-calendar/monday-meditation-31/
CATEGORIES:Memory Care
END:VEVENT
BEGIN:VEVENT
DTSTART;TZID=America/Chicago:20251222T160000
DTEND;TZID=America/Chicago:20251222T163000
DTSTAMP:20260423T224113
CREATED:20251123T053723Z
LAST-MODIFIED:20251222T003722Z
UID:10002280-1766419200-1766421000@provplace.com
SUMMARY:Holiday Sing Along
DESCRIPTION:
URL:https://provplace.com/event-calendar/holiday-sing-along/
LOCATION:2S
CATEGORIES:Memory Care
END:VEVENT
BEGIN:VEVENT
DTSTART;TZID=America/Chicago:20251222T143000
DTEND;TZID=America/Chicago:20251222T150000
DTSTAMP:20260423T224114
CREATED:20251123T053723Z
LAST-MODIFIED:20251222T003722Z
UID:10002279-1766413800-1766415600@provplace.com
SUMMARY:Christmas stories
DESCRIPTION:
URL:https://provplace.com/event-calendar/christmas-stories/
CATEGORIES:Memory Care
END:VEVENT
BEGIN:VEVENT
DTSTART;TZID=America/Chicago:20251222T133000
DTEND;TZID=America/Chicago:20251222T140000
DTSTAMP:20260423T224114
CREATED:20251123T053722Z
LAST-MODIFIED:20251222T003722Z
UID:10002278-1766410200-1766412000@provplace.com
SUMMARY:Balloon Ball
DESCRIPTION:
URL:https://provplace.com/event-calendar/balloon-ball-38/
CATEGORIES:Memory Care
END:VEVENT
BEGIN:VEVENT
DTSTART;TZID=America/Chicago:20251222T110000
DTEND;TZID=America/Chicago:20251222T111500
DTSTAMP:20260423T224114
CREATED:20251204T000724Z
LAST-MODIFIED:20251222T003722Z
UID:10002409-1766401200-1766402100@provplace.com
SUMMARY:Walking Group
DESCRIPTION:
URL:https://provplace.com/event-calendar/walking-group-188/
LOCATION:2S
CATEGORIES:Memory Care
END:VEVENT
BEGIN:VEVENT
DTSTART;TZID=America/Chicago:20251222T103000
DTEND;TZID=America/Chicago:20251222T110000
DTSTAMP:20260423T224114
CREATED:20251123T053722Z
LAST-MODIFIED:20251222T003722Z
UID:10002277-1766399400-1766401200@provplace.com
SUMMARY:Sing and Spin
DESCRIPTION:
URL:https://provplace.com/event-calendar/sing-and-spin-28/
LOCATION:Memory Care
CATEGORIES:Memory Care
END:VEVENT
BEGIN:VEVENT
DTSTART;TZID=America/Chicago:20251222T093000
DTEND;TZID=America/Chicago:20251222T100000
DTSTAMP:20260423T224114
CREATED:20251126T053755Z
LAST-MODIFIED:20251222T003722Z
UID:10002316-1766395800-1766397600@provplace.com
SUMMARY:Blue Christmas
DESCRIPTION:
URL:https://provplace.com/event-calendar/prayer-praise-13/
CATEGORIES:Memory Care
END:VEVENT
BEGIN:VEVENT
DTSTART;TZID=America/Chicago:20251221T153000
DTEND;TZID=America/Chicago:20251221T160000
DTSTAMP:20260423T224114
CREATED:20251122T053748Z
LAST-MODIFIED:20251221T003720Z
UID:10002273-1766331000-1766332800@provplace.com
SUMMARY:Bean Bag Toss
DESCRIPTION:
URL:https://provplace.com/event-calendar/bean-bag-toss-16/
LOCATION:2S
CATEGORIES:Memory Care
END:VEVENT
BEGIN:VEVENT
DTSTART;TZID=America/Chicago:20251221T110000
DTEND;TZID=America/Chicago:20251221T113000
DTSTAMP:20260423T224114
CREATED:20251122T053748Z
LAST-MODIFIED:20251221T003720Z
UID:10002272-1766314800-1766316600@provplace.com
SUMMARY:Walking Group
DESCRIPTION:
URL:https://provplace.com/event-calendar/walking-group-173/
LOCATION:2S
CATEGORIES:Memory Care
END:VEVENT
BEGIN:VEVENT
DTSTART;TZID=America/Chicago:20251221T103000
DTEND;TZID=America/Chicago:20251221T110000
DTSTAMP:20260423T224114
CREATED:20251122T053748Z
LAST-MODIFIED:20251221T003720Z
UID:10002271-1766313000-1766314800@provplace.com
SUMMARY:What Am I?
DESCRIPTION:
URL:https://provplace.com/event-calendar/what-am-i-26/
LOCATION:2S
CATEGORIES:Memory Care
END:VEVENT
BEGIN:VEVENT
DTSTART;TZID=America/Chicago:20251220T153000
DTEND;TZID=America/Chicago:20251220T160000
DTSTAMP:20260423T224114
CREATED:20251121T053723Z
LAST-MODIFIED:20251220T003718Z
UID:10002267-1766244600-1766246400@provplace.com
SUMMARY:Balloon Ball
DESCRIPTION:
URL:https://provplace.com/event-calendar/balloon-ball-37/
LOCATION:2S
CATEGORIES:Memory Care
END:VEVENT
BEGIN:VEVENT
DTSTART;TZID=America/Chicago:20251220T133000
DTEND;TZID=America/Chicago:20251220T143000
DTSTAMP:20260423T224114
CREATED:20251122T053748Z
LAST-MODIFIED:20251220T003718Z
UID:10002270-1766237400-1766241000@provplace.com
SUMMARY:Hot Cocoa Social
DESCRIPTION:
URL:https://provplace.com/event-calendar/hot-cocoa-social-3/
LOCATION:2S
CATEGORIES:Memory Care
END:VEVENT
BEGIN:VEVENT
DTSTART;TZID=America/Chicago:20251220T103000
DTEND;TZID=America/Chicago:20251220T110000
DTSTAMP:20260423T224114
CREATED:20251121T053723Z
LAST-MODIFIED:20251220T003718Z
UID:10002266-1766226600-1766228400@provplace.com
SUMMARY:Categories
DESCRIPTION:
URL:https://provplace.com/event-calendar/categories-16/
LOCATION:2S
CATEGORIES:Memory Care
END:VEVENT
BEGIN:VEVENT
DTSTART;TZID=America/Chicago:20251219T160000
DTEND;TZID=America/Chicago:20251219T163000
DTSTAMP:20260423T224114
CREATED:20251120T053740Z
LAST-MODIFIED:20251219T002219Z
UID:10002257-1766160000-1766161800@provplace.com
SUMMARY:Let's Chat!
DESCRIPTION:
URL:https://provplace.com/event-calendar/lets-chat-3/
LOCATION:2S
CATEGORIES:Memory Care
END:VEVENT
BEGIN:VEVENT
DTSTART;TZID=America/Chicago:20251219T143000
DTEND;TZID=America/Chicago:20251219T151500
DTSTAMP:20260423T224114
CREATED:20251120T053740Z
LAST-MODIFIED:20251219T012218Z
UID:10002255-1766154600-1766157300@provplace.com
SUMMARY:Concert of the Month: Curtis and Loretta
DESCRIPTION:
URL:https://provplace.com/event-calendar/concert-of-the-month-curtis-and-loretta-2/
LOCATION:2N
CATEGORIES:Long Term Care,Memory Care
END:VEVENT
BEGIN:VEVENT
DTSTART;TZID=America/Chicago:20251219T143000
DTEND;TZID=America/Chicago:20251219T150000
DTSTAMP:20260423T224114
CREATED:20251120T053740Z
LAST-MODIFIED:20251203T030726Z
UID:10002256-1766154600-1766156400@provplace.com
SUMMARY:Nail Care
DESCRIPTION:
URL:https://provplace.com/event-calendar/nail-care-23/
CATEGORIES:Memory Care
END:VEVENT
BEGIN:VEVENT
DTSTART;TZID=America/Chicago:20251219T133000
DTEND;TZID=America/Chicago:20251219T140000
DTSTAMP:20260423T224114
CREATED:20251120T053740Z
LAST-MODIFIED:20251219T002219Z
UID:10002254-1766151000-1766152800@provplace.com
SUMMARY:Chair Exercise
DESCRIPTION:
URL:https://provplace.com/event-calendar/chair-exercise-12/
LOCATION:2 South
CATEGORIES:Memory Care
END:VEVENT
END:VCALENDAR