BEGIN:VCALENDAR
VERSION:2.0
PRODID:-//Providence Place Senior Living - ECPv6.11.2.1//NONSGML v1.0//EN
CALSCALE:GREGORIAN
METHOD:PUBLISH
X-WR-CALNAME:Providence Place Senior Living
X-ORIGINAL-URL:https://provplace.com
X-WR-CALDESC:Events for Providence Place Senior Living
REFRESH-INTERVAL;VALUE=DURATION:PT1H
X-Robots-Tag:noindex
X-PUBLISHED-TTL:PT1H
BEGIN:VTIMEZONE
TZID:America/Chicago
BEGIN:DAYLIGHT
TZOFFSETFROM:-0600
TZOFFSETTO:-0500
TZNAME:CDT
DTSTART:20250309T080000
END:DAYLIGHT
BEGIN:STANDARD
TZOFFSETFROM:-0500
TZOFFSETTO:-0600
TZNAME:CST
DTSTART:20251102T070000
END:STANDARD
END:VTIMEZONE
BEGIN:VEVENT
DTSTART;TZID=America/Chicago:20251229T110000
DTEND;TZID=America/Chicago:20251229T111500
DTSTAMP:20260423T194427
CREATED:20251204T000726Z
LAST-MODIFIED:20251229T005220Z
UID:10002413-1767006000-1767006900@provplace.com
SUMMARY:Walking Group
DESCRIPTION:
URL:https://provplace.com/event-calendar/walking-group-192/
LOCATION:2S
CATEGORIES:Memory Care
END:VEVENT
BEGIN:VEVENT
DTSTART;TZID=America/Chicago:20251229T103000
DTEND;TZID=America/Chicago:20251229T110000
DTSTAMP:20260423T194427
CREATED:20251130T000732Z
LAST-MODIFIED:20251229T005220Z
UID:10002360-1767004200-1767006000@provplace.com
SUMMARY:Sing and Spin
DESCRIPTION:
URL:https://provplace.com/event-calendar/sing-and-spin-29/
LOCATION:Memory Care
CATEGORIES:Memory Care
END:VEVENT
BEGIN:VEVENT
DTSTART;TZID=America/Chicago:20251229T093000
DTEND;TZID=America/Chicago:20251229T100000
DTSTAMP:20260423T194427
CREATED:20251130T000732Z
LAST-MODIFIED:20251229T005220Z
UID:10002359-1767000600-1767002400@provplace.com
SUMMARY:Prayer & Praise
DESCRIPTION:
URL:https://provplace.com/event-calendar/prayer-praise-14/
CATEGORIES:Memory Care
END:VEVENT
BEGIN:VEVENT
DTSTART;TZID=America/Chicago:20251228T153000
DTEND;TZID=America/Chicago:20251228T160000
DTSTAMP:20260423T194427
CREATED:20251129T000730Z
LAST-MODIFIED:20251228T005231Z
UID:10002358-1766935800-1766937600@provplace.com
SUMMARY:Bean Bag Toss
DESCRIPTION:
URL:https://provplace.com/event-calendar/bean-bag-toss-17/
LOCATION:2S
CATEGORIES:Memory Care
END:VEVENT
BEGIN:VEVENT
DTSTART;TZID=America/Chicago:20251228T110000
DTEND;TZID=America/Chicago:20251228T113000
DTSTAMP:20260423T194427
CREATED:20251129T000730Z
LAST-MODIFIED:20251228T005231Z
UID:10002357-1766919600-1766921400@provplace.com
SUMMARY:Walking Group
DESCRIPTION:
URL:https://provplace.com/event-calendar/walking-group-175/
LOCATION:2S
CATEGORIES:Memory Care
END:VEVENT
BEGIN:VEVENT
DTSTART;TZID=America/Chicago:20251228T103000
DTEND;TZID=America/Chicago:20251228T110000
DTSTAMP:20260423T194427
CREATED:20251129T000730Z
LAST-MODIFIED:20251228T005231Z
UID:10002356-1766917800-1766919600@provplace.com
SUMMARY:What Am I?
DESCRIPTION:
URL:https://provplace.com/event-calendar/what-am-i-27/
LOCATION:2S
CATEGORIES:Memory Care
END:VEVENT
BEGIN:VEVENT
DTSTART;TZID=America/Chicago:20251227T153000
DTEND;TZID=America/Chicago:20251227T160000
DTSTAMP:20260423T194427
CREATED:20251128T122236Z
LAST-MODIFIED:20251227T005223Z
UID:10002344-1766849400-1766851200@provplace.com
SUMMARY:Balloon Ball
DESCRIPTION:
URL:https://provplace.com/event-calendar/balloon-ball-39/
LOCATION:2S
CATEGORIES:Memory Care
END:VEVENT
BEGIN:VEVENT
DTSTART;TZID=America/Chicago:20251227T133000
DTEND;TZID=America/Chicago:20251227T140000
DTSTAMP:20260423T194427
CREATED:20251128T122236Z
LAST-MODIFIED:20251227T005222Z
UID:10002343-1766842200-1766844000@provplace.com
SUMMARY:New Year's Resolutions for 2026!
DESCRIPTION:
URL:https://provplace.com/event-calendar/new-years-resolutions-for-2026/
LOCATION:2S
CATEGORIES:Memory Care
END:VEVENT
BEGIN:VEVENT
DTSTART;TZID=America/Chicago:20251227T103000
DTEND;TZID=America/Chicago:20251227T110000
DTSTAMP:20260423T194427
CREATED:20251128T122236Z
LAST-MODIFIED:20251227T005222Z
UID:10002342-1766831400-1766833200@provplace.com
SUMMARY:Categories
DESCRIPTION:
URL:https://provplace.com/event-calendar/categories-17/
LOCATION:2S
CATEGORIES:Memory Care
END:VEVENT
BEGIN:VEVENT
DTSTART;TZID=America/Chicago:20251226T160000
DTEND;TZID=America/Chicago:20251226T163000
DTSTAMP:20260423T194427
CREATED:20251128T122236Z
LAST-MODIFIED:20251226T005232Z
UID:10002341-1766764800-1766766600@provplace.com
SUMMARY:Name That Tune
DESCRIPTION:
URL:https://provplace.com/event-calendar/name-that-tune-4/
LOCATION:2S
CATEGORIES:Memory Care
END:VEVENT
BEGIN:VEVENT
DTSTART;TZID=America/Chicago:20251226T143000
DTEND;TZID=America/Chicago:20251226T150000
DTSTAMP:20260423T194427
CREATED:20251128T122236Z
LAST-MODIFIED:20251226T005232Z
UID:10002340-1766759400-1766761200@provplace.com
SUMMARY:Nail Care
DESCRIPTION:
URL:https://provplace.com/event-calendar/nail-care-24/
CATEGORIES:Memory Care
END:VEVENT
BEGIN:VEVENT
DTSTART;TZID=America/Chicago:20251226T133000
DTEND;TZID=America/Chicago:20251226T140000
DTSTAMP:20260423T194427
CREATED:20251128T122236Z
LAST-MODIFIED:20251226T005232Z
UID:10002339-1766755800-1766757600@provplace.com
SUMMARY:Chair Exercise
DESCRIPTION:
URL:https://provplace.com/event-calendar/chair-exercise-13/
LOCATION:2 South
CATEGORIES:Memory Care
END:VEVENT
BEGIN:VEVENT
DTSTART;TZID=America/Chicago:20251226T110000
DTEND;TZID=America/Chicago:20251226T111500
DTSTAMP:20260423T194427
CREATED:20251204T000725Z
LAST-MODIFIED:20251226T005231Z
UID:10002412-1766746800-1766747700@provplace.com
SUMMARY:Walking Group
DESCRIPTION:
URL:https://provplace.com/event-calendar/walking-group-191/
LOCATION:2S
CATEGORIES:Memory Care
END:VEVENT
BEGIN:VEVENT
DTSTART;TZID=America/Chicago:20251226T103000
DTEND;TZID=America/Chicago:20251226T120000
DTSTAMP:20260423T194427
CREATED:20251128T122236Z
LAST-MODIFIED:20251226T005231Z
UID:10002338-1766745000-1766750400@provplace.com
SUMMARY:Talk to Me
DESCRIPTION:
URL:https://provplace.com/event-calendar/talk-to-me-32/
LOCATION:Memory Care
CATEGORIES:Memory Care
END:VEVENT
BEGIN:VEVENT
DTSTART;TZID=America/Chicago:20251226T093000
DTEND;TZID=America/Chicago:20251226T100000
DTSTAMP:20260423T194427
CREATED:20251128T122236Z
LAST-MODIFIED:20251226T005231Z
UID:10002337-1766741400-1766743200@provplace.com
SUMMARY:Bible Study
DESCRIPTION:
URL:https://provplace.com/event-calendar/bible-study/
CATEGORIES:Memory Care
END:VEVENT
BEGIN:VEVENT
DTSTART;TZID=America/Chicago:20251225T160000
DTEND;TZID=America/Chicago:20251225T170000
DTSTAMP:20260423T194427
CREATED:20251126T053756Z
LAST-MODIFIED:20251203T030727Z
UID:10002321-1766678400-1766682000@provplace.com
SUMMARY:Bingo
DESCRIPTION:
URL:https://provplace.com/event-calendar/bingo-62/
CATEGORIES:Memory Care
END:VEVENT
BEGIN:VEVENT
DTSTART;TZID=America/Chicago:20251225T133000
DTEND;TZID=America/Chicago:20251225T143000
DTSTAMP:20260423T194427
CREATED:20251126T053756Z
LAST-MODIFIED:20251203T030727Z
UID:10002320-1766669400-1766673000@provplace.com
SUMMARY:Catch and Chat
DESCRIPTION:
URL:https://provplace.com/event-calendar/catch-and-chat-17/
CATEGORIES:Memory Care
END:VEVENT
BEGIN:VEVENT
DTSTART;TZID=America/Chicago:20251225T103000
DTEND;TZID=America/Chicago:20251225T110000
DTSTAMP:20260423T194427
CREATED:20251126T053756Z
LAST-MODIFIED:20251203T030727Z
UID:10002319-1766658600-1766660400@provplace.com
SUMMARY:Jeopardy!
DESCRIPTION:
URL:https://provplace.com/event-calendar/jeopardy-12/
CATEGORIES:Memory Care
END:VEVENT
BEGIN:VEVENT
DTSTART;TZID=America/Chicago:20251224T160000
DTEND;TZID=America/Chicago:20251224T163000
DTSTAMP:20260423T194427
CREATED:20251125T053723Z
LAST-MODIFIED:20251224T003716Z
UID:10002298-1766592000-1766593800@provplace.com
SUMMARY:Candlelight & Songs
DESCRIPTION:
URL:https://provplace.com/event-calendar/music-social-32/
LOCATION:2S
CATEGORIES:Memory Care
END:VEVENT
BEGIN:VEVENT
DTSTART;TZID=America/Chicago:20251224T141500
DTEND;TZID=America/Chicago:20251224T150000
DTSTAMP:20260423T194427
CREATED:20251125T053723Z
LAST-MODIFIED:20251224T003716Z
UID:10002297-1766585700-1766588400@provplace.com
SUMMARY:Wooden ornament painting
DESCRIPTION:
URL:https://provplace.com/event-calendar/candelight-songs/
LOCATION:2S
CATEGORIES:Memory Care
END:VEVENT
BEGIN:VEVENT
DTSTART;TZID=America/Chicago:20251224T133000
DTEND;TZID=America/Chicago:20251224T140000
DTSTAMP:20260423T194427
CREATED:20251125T053723Z
LAST-MODIFIED:20251224T003716Z
UID:10002296-1766583000-1766584800@provplace.com
SUMMARY:Noodle stretch
DESCRIPTION:
URL:https://provplace.com/event-calendar/noodle-stretch/
LOCATION:2S
CATEGORIES:Memory Care
END:VEVENT
BEGIN:VEVENT
DTSTART;TZID=America/Chicago:20251224T110000
DTEND;TZID=America/Chicago:20251224T111500
DTSTAMP:20260423T194427
CREATED:20251204T000725Z
LAST-MODIFIED:20251224T003716Z
UID:10002411-1766574000-1766574900@provplace.com
SUMMARY:Walking Group
DESCRIPTION:
URL:https://provplace.com/event-calendar/walking-group-190/
LOCATION:2S
CATEGORIES:Memory Care
END:VEVENT
BEGIN:VEVENT
DTSTART;TZID=America/Chicago:20251224T110000
DTEND;TZID=America/Chicago:20251224T111500
DTSTAMP:20260423T194427
CREATED:20251125T053723Z
LAST-MODIFIED:20251203T030727Z
UID:10002295-1766574000-1766574900@provplace.com
SUMMARY:Walking Group
DESCRIPTION:
URL:https://provplace.com/event-calendar/walking-group-174/
LOCATION:2S
CATEGORIES:Memory Care
END:VEVENT
BEGIN:VEVENT
DTSTART;TZID=America/Chicago:20251224T103000
DTEND;TZID=America/Chicago:20251224T113000
DTSTAMP:20260423T194427
CREATED:20251125T053723Z
LAST-MODIFIED:20251224T003716Z
UID:10002294-1766572200-1766575800@provplace.com
SUMMARY:Hangman
DESCRIPTION:
URL:https://provplace.com/event-calendar/hangman-35/
CATEGORIES:Memory Care
END:VEVENT
BEGIN:VEVENT
DTSTART;TZID=America/Chicago:20251224T093000
DTEND;TZID=America/Chicago:20251224T100000
DTSTAMP:20260423T194427
CREATED:20251126T053756Z
LAST-MODIFIED:20251224T003716Z
UID:10002318-1766568600-1766570400@provplace.com
SUMMARY:Chaplain Chat
DESCRIPTION:
URL:https://provplace.com/event-calendar/chaplain-chat-120/
CATEGORIES:Memory Care
END:VEVENT
BEGIN:VEVENT
DTSTART;TZID=America/Chicago:20251223T160000
DTEND;TZID=America/Chicago:20251223T170000
DTSTAMP:20260423T194427
CREATED:20251124T053735Z
LAST-MODIFIED:20251223T012234Z
UID:10002290-1766505600-1766509200@provplace.com
SUMMARY:Holiday Lights Outing
DESCRIPTION:
URL:https://provplace.com/event-calendar/holiday-lights-outing/
LOCATION:3 North
CATEGORIES:Long Term Care,Memory Care
END:VEVENT
BEGIN:VEVENT
DTSTART;TZID=America/Chicago:20251223T160000
DTEND;TZID=America/Chicago:20251223T163000
DTSTAMP:20260423T194427
CREATED:20251126T053756Z
LAST-MODIFIED:20251203T030727Z
UID:10002317-1766505600-1766507400@provplace.com
SUMMARY:Teatime Social
DESCRIPTION:
URL:https://provplace.com/event-calendar/teatime-social-7/
CATEGORIES:Memory Care
END:VEVENT
BEGIN:VEVENT
DTSTART;TZID=America/Chicago:20251223T143000
DTEND;TZID=America/Chicago:20251223T153000
DTSTAMP:20260423T194427
CREATED:20251124T053735Z
LAST-MODIFIED:20251223T003717Z
UID:10002289-1766500200-1766503800@provplace.com
SUMMARY:Flower Arranging
DESCRIPTION:
URL:https://provplace.com/event-calendar/flower-arranging-32/
LOCATION:Memory Care
CATEGORIES:Memory Care
END:VEVENT
BEGIN:VEVENT
DTSTART;TZID=America/Chicago:20251223T133000
DTEND;TZID=America/Chicago:20251223T140000
DTSTAMP:20260423T194427
CREATED:20251124T053735Z
LAST-MODIFIED:20251223T003716Z
UID:10002288-1766496600-1766498400@provplace.com
SUMMARY:Exercise: Weights
DESCRIPTION:
URL:https://provplace.com/event-calendar/exercise-weights-43/
CATEGORIES:Memory Care
END:VEVENT
BEGIN:VEVENT
DTSTART;TZID=America/Chicago:20251223T110000
DTEND;TZID=America/Chicago:20251223T111500
DTSTAMP:20260423T194427
CREATED:20251204T000724Z
LAST-MODIFIED:20251223T003716Z
UID:10002410-1766487600-1766488500@provplace.com
SUMMARY:Walking Group
DESCRIPTION:
URL:https://provplace.com/event-calendar/walking-group-189/
LOCATION:2S
CATEGORIES:Memory Care
END:VEVENT
END:VCALENDAR