BEGIN:VCALENDAR
VERSION:2.0
PRODID:-//Providence Place Senior Living - ECPv6.11.2.1//NONSGML v1.0//EN
CALSCALE:GREGORIAN
METHOD:PUBLISH
X-WR-CALNAME:Providence Place Senior Living
X-ORIGINAL-URL:https://provplace.com
X-WR-CALDESC:Events for Providence Place Senior Living
REFRESH-INTERVAL;VALUE=DURATION:PT1H
X-Robots-Tag:noindex
X-PUBLISHED-TTL:PT1H
BEGIN:VTIMEZONE
TZID:America/Chicago
BEGIN:DAYLIGHT
TZOFFSETFROM:-0600
TZOFFSETTO:-0500
TZNAME:CDT
DTSTART:20260308T080000
END:DAYLIGHT
BEGIN:STANDARD
TZOFFSETFROM:-0500
TZOFFSETTO:-0600
TZNAME:CST
DTSTART:20261101T070000
END:STANDARD
END:VTIMEZONE
BEGIN:VEVENT
DTSTART;TZID=America/Chicago:20260112T110000
DTEND;TZID=America/Chicago:20260112T111500
DTSTAMP:20260423T064923
CREATED:20251225T003721Z
LAST-MODIFIED:20260112T012229Z
UID:10002527-1768215600-1768216500@provplace.com
SUMMARY:Walking Group
DESCRIPTION:
URL:https://provplace.com/event-calendar/walking-group-202/
LOCATION:2S
CATEGORIES:Memory Care
END:VEVENT
BEGIN:VEVENT
DTSTART;TZID=America/Chicago:20260112T103000
DTEND;TZID=America/Chicago:20260112T110000
DTSTAMP:20260423T064923
CREATED:20251224T003719Z
LAST-MODIFIED:20260112T012229Z
UID:10002491-1768213800-1768215600@provplace.com
SUMMARY:Sing and Spin
DESCRIPTION:
URL:https://provplace.com/event-calendar/sing-and-spin-31/
LOCATION:Memory Care
CATEGORIES:Memory Care
END:VEVENT
BEGIN:VEVENT
DTSTART;TZID=America/Chicago:20260112T093000
DTEND;TZID=America/Chicago:20260112T100000
DTSTAMP:20260423T064923
CREATED:20251225T003721Z
LAST-MODIFIED:20260112T012228Z
UID:10002526-1768210200-1768212000@provplace.com
SUMMARY:Prayer & Praise
DESCRIPTION:
URL:https://provplace.com/event-calendar/prayer-praise-16/
CATEGORIES:Memory Care
END:VEVENT
BEGIN:VEVENT
DTSTART;TZID=America/Chicago:20260111T153000
DTEND;TZID=America/Chicago:20260111T160000
DTSTAMP:20260423T064923
CREATED:20251230T005301Z
LAST-MODIFIED:20260111T012216Z
UID:10002640-1768145400-1768147200@provplace.com
SUMMARY:Bean Bag Toss
DESCRIPTION:
URL:https://provplace.com/event-calendar/bean-bag-toss-22/
CATEGORIES:Memory Care
END:VEVENT
BEGIN:VEVENT
DTSTART;TZID=America/Chicago:20260111T110000
DTEND;TZID=America/Chicago:20260111T111500
DTSTAMP:20260423T064923
CREATED:20251230T005300Z
LAST-MODIFIED:20260111T012216Z
UID:10002639-1768129200-1768130100@provplace.com
SUMMARY:Walking Group
DESCRIPTION:
URL:https://provplace.com/event-calendar/walking-group-215/
LOCATION:2S
CATEGORIES:Memory Care
END:VEVENT
BEGIN:VEVENT
DTSTART;TZID=America/Chicago:20260111T103000
DTEND;TZID=America/Chicago:20260111T110000
DTSTAMP:20260423T064923
CREATED:20251230T005300Z
LAST-MODIFIED:20260111T012216Z
UID:10002638-1768127400-1768129200@provplace.com
SUMMARY:What Am I?
DESCRIPTION:
URL:https://provplace.com/event-calendar/what-am-i-29/
LOCATION:2S
CATEGORIES:Memory Care
END:VEVENT
BEGIN:VEVENT
DTSTART;TZID=America/Chicago:20260110T153000
DTEND;TZID=America/Chicago:20260110T160000
DTSTAMP:20260423T064923
CREATED:20251230T005300Z
LAST-MODIFIED:20260110T012216Z
UID:10002637-1768059000-1768060800@provplace.com
SUMMARY:Balloon Ball
DESCRIPTION:
URL:https://provplace.com/event-calendar/balloon-ball-47/
LOCATION:2S
CATEGORIES:Memory Care
END:VEVENT
BEGIN:VEVENT
DTSTART;TZID=America/Chicago:20260110T133000
DTEND;TZID=America/Chicago:20260110T140000
DTSTAMP:20260423T064923
CREATED:20251214T002225Z
LAST-MODIFIED:20260110T012216Z
UID:10002441-1768051800-1768053600@provplace.com
SUMMARY:Percussion Singalong
DESCRIPTION:
URL:https://provplace.com/event-calendar/percussion-singalong/
LOCATION:2S
CATEGORIES:Memory Care
END:VEVENT
BEGIN:VEVENT
DTSTART;TZID=America/Chicago:20260110T103000
DTEND;TZID=America/Chicago:20260110T110000
DTSTAMP:20260423T064923
CREATED:20251230T005300Z
LAST-MODIFIED:20260110T012216Z
UID:10002636-1768041000-1768042800@provplace.com
SUMMARY:Categories
DESCRIPTION:
URL:https://provplace.com/event-calendar/categories-19/
LOCATION:2S
CATEGORIES:Memory Care
END:VEVENT
BEGIN:VEVENT
DTSTART;TZID=America/Chicago:20260109T160000
DTEND;TZID=America/Chicago:20260109T163000
DTSTAMP:20260423T064923
CREATED:20260101T010717Z
LAST-MODIFIED:20260109T012232Z
UID:10002704-1767974400-1767976200@provplace.com
SUMMARY:Story Time
DESCRIPTION:
URL:https://provplace.com/event-calendar/story-time-3/
LOCATION:2S
CATEGORIES:Memory Care
END:VEVENT
BEGIN:VEVENT
DTSTART;TZID=America/Chicago:20260109T143000
DTEND;TZID=America/Chicago:20260109T150000
DTSTAMP:20260423T064923
CREATED:20251224T003718Z
LAST-MODIFIED:20260109T012232Z
UID:10002489-1767969000-1767970800@provplace.com
SUMMARY:Nail Care
DESCRIPTION:
URL:https://provplace.com/event-calendar/nail-care-26/
LOCATION:2S
CATEGORIES:Memory Care
END:VEVENT
BEGIN:VEVENT
DTSTART;TZID=America/Chicago:20260109T133000
DTEND;TZID=America/Chicago:20260109T140000
DTSTAMP:20260423T064923
CREATED:20260106T012217Z
LAST-MODIFIED:20260109T012232Z
UID:10002744-1767965400-1767967200@provplace.com
SUMMARY:Exercise
DESCRIPTION:
URL:https://provplace.com/event-calendar/exercise-34/
CATEGORIES:Memory Care
END:VEVENT
BEGIN:VEVENT
DTSTART;TZID=America/Chicago:20260109T110000
DTEND;TZID=America/Chicago:20260109T111500
DTSTAMP:20260423T064923
CREATED:20251225T003721Z
LAST-MODIFIED:20260109T012232Z
UID:10002525-1767956400-1767957300@provplace.com
SUMMARY:Walking Group
DESCRIPTION:
URL:https://provplace.com/event-calendar/walking-group-201/
LOCATION:2S
CATEGORIES:Memory Care
END:VEVENT
BEGIN:VEVENT
DTSTART;TZID=America/Chicago:20260109T103000
DTEND;TZID=America/Chicago:20260109T113000
DTSTAMP:20260423T064923
CREATED:20251224T003718Z
LAST-MODIFIED:20260109T012232Z
UID:10002490-1767954600-1767958200@provplace.com
SUMMARY:Talk to Me
DESCRIPTION:
URL:https://provplace.com/event-calendar/talk-to-me-34/
LOCATION:2S
CATEGORIES:Memory Care
END:VEVENT
BEGIN:VEVENT
DTSTART;TZID=America/Chicago:20260109T093000
DTEND;TZID=America/Chicago:20260109T100000
DTSTAMP:20260423T064923
CREATED:20251225T003720Z
LAST-MODIFIED:20260109T012232Z
UID:10002524-1767951000-1767952800@provplace.com
SUMMARY:Bible Study
DESCRIPTION:
URL:https://provplace.com/event-calendar/bible-study-3/
CATEGORIES:Memory Care
END:VEVENT
BEGIN:VEVENT
DTSTART;TZID=America/Chicago:20260108T160000
DTEND;TZID=America/Chicago:20260108T163000
DTSTAMP:20260423T064923
CREATED:20251225T003720Z
LAST-MODIFIED:20260108T012222Z
UID:10002523-1767888000-1767889800@provplace.com
SUMMARY:Bingo
DESCRIPTION:
URL:https://provplace.com/event-calendar/bingo-64/
CATEGORIES:Memory Care
END:VEVENT
BEGIN:VEVENT
DTSTART;TZID=America/Chicago:20260108T141500
DTEND;TZID=America/Chicago:20260108T150000
DTSTAMP:20260423T064923
CREATED:20251214T002225Z
LAST-MODIFIED:20260108T012222Z
UID:10002440-1767881700-1767884400@provplace.com
SUMMARY:Art Adventures
DESCRIPTION:
URL:https://provplace.com/event-calendar/art-adventures-6/
LOCATION:2S
CATEGORIES:Memory Care
END:VEVENT
BEGIN:VEVENT
DTSTART;TZID=America/Chicago:20260108T133000
DTEND;TZID=America/Chicago:20260108T143000
DTSTAMP:20260423T064923
CREATED:20251224T003718Z
LAST-MODIFIED:20260108T012222Z
UID:10002488-1767879000-1767882600@provplace.com
SUMMARY:Balloon Ball
DESCRIPTION:
URL:https://provplace.com/event-calendar/balloon-ball-43/
LOCATION:2S
CATEGORIES:Memory Care
END:VEVENT
BEGIN:VEVENT
DTSTART;TZID=America/Chicago:20260108T110000
DTEND;TZID=America/Chicago:20260108T111500
DTSTAMP:20260423T064923
CREATED:20251225T003720Z
LAST-MODIFIED:20260108T012221Z
UID:10002522-1767870000-1767870900@provplace.com
SUMMARY:Walking Group
DESCRIPTION:
URL:https://provplace.com/event-calendar/walking-group-200/
LOCATION:2S
CATEGORIES:Memory Care
END:VEVENT
BEGIN:VEVENT
DTSTART;TZID=America/Chicago:20260108T103000
DTEND;TZID=America/Chicago:20260108T110000
DTSTAMP:20260423T064923
CREATED:20251210T002234Z
LAST-MODIFIED:20260108T012221Z
UID:10002433-1767868200-1767870000@provplace.com
SUMMARY:Word Games/Trvia
DESCRIPTION:
URL:https://provplace.com/event-calendar/word-games-trvia-2/
LOCATION:2S
CATEGORIES:Memory Care
END:VEVENT
BEGIN:VEVENT
DTSTART;TZID=America/Chicago:20260108T093000
DTEND;TZID=America/Chicago:20260108T100000
DTSTAMP:20260423T064923
CREATED:20260101T010716Z
LAST-MODIFIED:20260108T012221Z
UID:10002703-1767864600-1767866400@provplace.com
SUMMARY:The 12 Rules of Spirituality
DESCRIPTION:
URL:https://provplace.com/event-calendar/the-12-rules-of-spirituality/
LOCATION:2S
CATEGORIES:Memory Care
END:VEVENT
BEGIN:VEVENT
DTSTART;TZID=America/Chicago:20260107T160000
DTEND;TZID=America/Chicago:20260107T163000
DTSTAMP:20260423T064923
CREATED:20251230T005300Z
LAST-MODIFIED:20260107T012231Z
UID:10002635-1767801600-1767803400@provplace.com
SUMMARY:Music Social
DESCRIPTION:
URL:https://provplace.com/event-calendar/music-social-37/
LOCATION:2S
CATEGORIES:Memory Care
END:VEVENT
BEGIN:VEVENT
DTSTART;TZID=America/Chicago:20260107T143000
DTEND;TZID=America/Chicago:20260107T150000
DTSTAMP:20260423T064923
CREATED:20251225T003720Z
LAST-MODIFIED:20260107T012231Z
UID:10002521-1767796200-1767798000@provplace.com
SUMMARY:Coloring Club
DESCRIPTION:
URL:https://provplace.com/event-calendar/coloring-club-30/
CATEGORIES:Memory Care
END:VEVENT
BEGIN:VEVENT
DTSTART;TZID=America/Chicago:20260107T133000
DTEND;TZID=America/Chicago:20260107T140000
DTSTAMP:20260423T064923
CREATED:20260106T012216Z
LAST-MODIFIED:20260107T012231Z
UID:10002743-1767792600-1767794400@provplace.com
SUMMARY:Balloon Ball
DESCRIPTION:
URL:https://provplace.com/event-calendar/exercise-33/
LOCATION:2S
CATEGORIES:Memory Care
END:VEVENT
BEGIN:VEVENT
DTSTART;TZID=America/Chicago:20260107T110000
DTEND;TZID=America/Chicago:20260107T111500
DTSTAMP:20260423T064923
CREATED:20251225T003720Z
LAST-MODIFIED:20260107T012230Z
UID:10002520-1767783600-1767784500@provplace.com
SUMMARY:Walking Group
DESCRIPTION:
URL:https://provplace.com/event-calendar/walking-group-199/
LOCATION:2S
CATEGORIES:Memory Care
END:VEVENT
BEGIN:VEVENT
DTSTART;TZID=America/Chicago:20260107T103000
DTEND;TZID=America/Chicago:20260107T113000
DTSTAMP:20260423T064923
CREATED:20251224T003718Z
LAST-MODIFIED:20260107T012230Z
UID:10002487-1767781800-1767785400@provplace.com
SUMMARY:Hangman
DESCRIPTION:
URL:https://provplace.com/event-calendar/hangman-37/
CATEGORIES:Memory Care
END:VEVENT
BEGIN:VEVENT
DTSTART;TZID=America/Chicago:20260107T093000
DTEND;TZID=America/Chicago:20260107T100000
DTSTAMP:20260423T064923
CREATED:20251225T003720Z
LAST-MODIFIED:20260107T012230Z
UID:10002519-1767778200-1767780000@provplace.com
SUMMARY:Chaplain Chat
DESCRIPTION:
URL:https://provplace.com/event-calendar/chaplain-chat-123/
CATEGORIES:Memory Care
END:VEVENT
BEGIN:VEVENT
DTSTART;TZID=America/Chicago:20260106T180000
DTEND;TZID=America/Chicago:20260106T183000
DTSTAMP:20260423T064923
CREATED:20251216T002231Z
LAST-MODIFIED:20260106T012216Z
UID:10002450-1767722400-1767724200@provplace.com
SUMMARY:Tuesday Motivation
DESCRIPTION:
URL:https://provplace.com/event-calendar/tuesday-motivation-2/
CATEGORIES:Memory Care
END:VEVENT
BEGIN:VEVENT
DTSTART;TZID=America/Chicago:20260106T160000
DTEND;TZID=America/Chicago:20260106T163000
DTSTAMP:20260423T064923
CREATED:20251225T003720Z
LAST-MODIFIED:20260106T012216Z
UID:10002518-1767715200-1767717000@provplace.com
SUMMARY:Teatime Social
DESCRIPTION:
URL:https://provplace.com/event-calendar/teatime-social-9/
CATEGORIES:Memory Care
END:VEVENT
BEGIN:VEVENT
DTSTART;TZID=America/Chicago:20260106T143000
DTEND;TZID=America/Chicago:20260106T153000
DTSTAMP:20260423T064923
CREATED:20251225T003720Z
LAST-MODIFIED:20260106T012216Z
UID:10002517-1767709800-1767713400@provplace.com
SUMMARY:Flower Arranging
DESCRIPTION:
URL:https://provplace.com/event-calendar/flower-arranging-34/
LOCATION:Memory Care
CATEGORIES:Memory Care
END:VEVENT
END:VCALENDAR