BEGIN:VCALENDAR
VERSION:2.0
PRODID:-//Providence Place Senior Living - ECPv6.11.2.1//NONSGML v1.0//EN
CALSCALE:GREGORIAN
METHOD:PUBLISH
X-ORIGINAL-URL:https://provplace.com
X-WR-CALDESC:Events for Providence Place Senior Living
REFRESH-INTERVAL;VALUE=DURATION:PT1H
X-Robots-Tag:noindex
X-PUBLISHED-TTL:PT1H
BEGIN:VTIMEZONE
TZID:America/Chicago
BEGIN:DAYLIGHT
TZOFFSETFROM:-0600
TZOFFSETTO:-0500
TZNAME:CDT
DTSTART:20260308T080000
END:DAYLIGHT
BEGIN:STANDARD
TZOFFSETFROM:-0500
TZOFFSETTO:-0600
TZNAME:CST
DTSTART:20261101T070000
END:STANDARD
END:VTIMEZONE
BEGIN:VEVENT
DTSTART;TZID=America/Chicago:20260116T143000
DTEND;TZID=America/Chicago:20260116T151500
DTSTAMP:20260423T020347
CREATED:20251218T002229Z
LAST-MODIFIED:20260116T025216Z
UID:10002459-1768573800-1768576500@provplace.com
SUMMARY:Concert of the Month: Bill Cagley
DESCRIPTION:
URL:https://provplace.com/event-calendar/concert-of-the-month-bill-cagley/
LOCATION:2 North
CATEGORIES:Long Term Care,Memory Care
END:VEVENT
BEGIN:VEVENT
DTSTART;TZID=America/Chicago:20260116T133000
DTEND;TZID=America/Chicago:20260116T140000
DTSTAMP:20260423T020347
CREATED:20260106T012218Z
LAST-MODIFIED:20260116T012228Z
UID:10002746-1768570200-1768572000@provplace.com
SUMMARY:Exercise
DESCRIPTION:
URL:https://provplace.com/event-calendar/exercise-36/
CATEGORIES:Memory Care
END:VEVENT
BEGIN:VEVENT
DTSTART;TZID=America/Chicago:20260116T110000
DTEND;TZID=America/Chicago:20260116T111500
DTSTAMP:20260423T020347
CREATED:20251225T003722Z
LAST-MODIFIED:20260116T012228Z
UID:10002537-1768561200-1768562100@provplace.com
SUMMARY:Walking Group
DESCRIPTION:
URL:https://provplace.com/event-calendar/walking-group-206/
LOCATION:2S
CATEGORIES:Memory Care
END:VEVENT
BEGIN:VEVENT
DTSTART;TZID=America/Chicago:20260116T103000
DTEND;TZID=America/Chicago:20260116T113000
DTSTAMP:20260423T020347
CREATED:20251224T003719Z
LAST-MODIFIED:20260116T012228Z
UID:10002494-1768559400-1768563000@provplace.com
SUMMARY:Talk to Me
DESCRIPTION:
URL:https://provplace.com/event-calendar/talk-to-me-35/
LOCATION:2S
CATEGORIES:Memory Care
END:VEVENT
BEGIN:VEVENT
DTSTART;TZID=America/Chicago:20260116T103000
DTEND;TZID=America/Chicago:20260116T113000
DTSTAMP:20260423T020347
CREATED:20251224T003719Z
LAST-MODIFIED:20251224T003719Z
UID:10002495-1768559400-1768563000@provplace.com
SUMMARY:Nail Care
DESCRIPTION:
URL:https://provplace.com/event-calendar/nail-care-27/
LOCATION:2S
CATEGORIES:Memory Care
END:VEVENT
BEGIN:VEVENT
DTSTART;TZID=America/Chicago:20260116T093000
DTEND;TZID=America/Chicago:20260116T100000
DTSTAMP:20260423T020347
CREATED:20251225T003722Z
LAST-MODIFIED:20260116T012228Z
UID:10002536-1768555800-1768557600@provplace.com
SUMMARY:Bible Study
DESCRIPTION:
URL:https://provplace.com/event-calendar/bible-study-4/
CATEGORIES:Memory Care
END:VEVENT
BEGIN:VEVENT
DTSTART;TZID=America/Chicago:20260115T160000
DTEND;TZID=America/Chicago:20260115T163000
DTSTAMP:20260423T020347
CREATED:20251225T003722Z
LAST-MODIFIED:20260115T012222Z
UID:10002535-1768492800-1768494600@provplace.com
SUMMARY:Bingo
DESCRIPTION:
URL:https://provplace.com/event-calendar/bingo-65/
CATEGORIES:Memory Care
END:VEVENT
BEGIN:VEVENT
DTSTART;TZID=America/Chicago:20260115T141500
DTEND;TZID=America/Chicago:20260115T150000
DTSTAMP:20260423T020347
CREATED:20251217T002225Z
LAST-MODIFIED:20260115T012222Z
UID:10002457-1768486500-1768489200@provplace.com
SUMMARY:Art Adventures
DESCRIPTION:
URL:https://provplace.com/event-calendar/art-adventures-7/
LOCATION:2S
CATEGORIES:Memory Care
END:VEVENT
BEGIN:VEVENT
DTSTART;TZID=America/Chicago:20260115T133000
DTEND;TZID=America/Chicago:20260115T143000
DTSTAMP:20260423T020347
CREATED:20251224T003719Z
LAST-MODIFIED:20260115T012222Z
UID:10002493-1768483800-1768487400@provplace.com
SUMMARY:Balloon Ball
DESCRIPTION:
URL:https://provplace.com/event-calendar/balloon-ball-44/
LOCATION:2S
CATEGORIES:Memory Care
END:VEVENT
BEGIN:VEVENT
DTSTART;TZID=America/Chicago:20260115T110000
DTEND;TZID=America/Chicago:20260115T111500
DTSTAMP:20260423T020347
CREATED:20251225T003722Z
LAST-MODIFIED:20260115T012222Z
UID:10002534-1768474800-1768475700@provplace.com
SUMMARY:Walking Group
DESCRIPTION:
URL:https://provplace.com/event-calendar/walking-group-205/
LOCATION:2S
CATEGORIES:Memory Care
END:VEVENT
BEGIN:VEVENT
DTSTART;TZID=America/Chicago:20260115T103000
DTEND;TZID=America/Chicago:20260115T110000
DTSTAMP:20260423T020347
CREATED:20251217T002225Z
LAST-MODIFIED:20260115T012222Z
UID:10002456-1768473000-1768474800@provplace.com
SUMMARY:Word Games/Trvia
DESCRIPTION:
URL:https://provplace.com/event-calendar/word-games-trvia-3/
LOCATION:2S
CATEGORIES:Memory Care
END:VEVENT
BEGIN:VEVENT
DTSTART;TZID=America/Chicago:20260115T093000
DTEND;TZID=America/Chicago:20260115T100000
DTSTAMP:20260423T020347
CREATED:20260101T010718Z
LAST-MODIFIED:20260115T012222Z
UID:10002706-1768469400-1768471200@provplace.com
SUMMARY:Spiritual Activity
DESCRIPTION:
URL:https://provplace.com/event-calendar/how-to-read-the-bible-ep-1-5/
LOCATION:2S
CATEGORIES:Memory Care
END:VEVENT
BEGIN:VEVENT
DTSTART;TZID=America/Chicago:20260114T160000
DTEND;TZID=America/Chicago:20260114T163000
DTSTAMP:20260423T020347
CREATED:20251230T005301Z
LAST-MODIFIED:20260114T012218Z
UID:10002642-1768406400-1768408200@provplace.com
SUMMARY:Music Social
DESCRIPTION:
URL:https://provplace.com/event-calendar/music-social-38/
LOCATION:2S
CATEGORIES:Memory Care
END:VEVENT
BEGIN:VEVENT
DTSTART;TZID=America/Chicago:20260114T143000
DTEND;TZID=America/Chicago:20260114T150000
DTSTAMP:20260423T020347
CREATED:20251225T003722Z
LAST-MODIFIED:20260114T012218Z
UID:10002533-1768401000-1768402800@provplace.com
SUMMARY:Coloring Club
DESCRIPTION:
URL:https://provplace.com/event-calendar/coloring-club-31/
CATEGORIES:Memory Care
END:VEVENT
BEGIN:VEVENT
DTSTART;TZID=America/Chicago:20260114T133000
DTEND;TZID=America/Chicago:20260114T140000
DTSTAMP:20260423T020347
CREATED:20260106T012218Z
LAST-MODIFIED:20260114T012218Z
UID:10002745-1768397400-1768399200@provplace.com
SUMMARY:Balloon Ball
DESCRIPTION:
URL:https://provplace.com/event-calendar/exercise-35/
LOCATION:2S
CATEGORIES:Memory Care
END:VEVENT
BEGIN:VEVENT
DTSTART;TZID=America/Chicago:20260114T110000
DTEND;TZID=America/Chicago:20260114T120000
DTSTAMP:20260423T020347
CREATED:20251227T005225Z
LAST-MODIFIED:20260114T025217Z
UID:10002603-1768388400-1768392000@provplace.com
SUMMARY:Applebee's Outing
DESCRIPTION:
URL:https://provplace.com/event-calendar/applebees-outing/
CATEGORIES:Long Term Care,Memory Care
END:VEVENT
BEGIN:VEVENT
DTSTART;TZID=America/Chicago:20260114T110000
DTEND;TZID=America/Chicago:20260114T111500
DTSTAMP:20260423T020347
CREATED:20251225T003722Z
LAST-MODIFIED:20260114T012218Z
UID:10002532-1768388400-1768389300@provplace.com
SUMMARY:Walking Group
DESCRIPTION:
URL:https://provplace.com/event-calendar/walking-group-204/
LOCATION:2S
CATEGORIES:Memory Care
END:VEVENT
BEGIN:VEVENT
DTSTART;TZID=America/Chicago:20260114T103000
DTEND;TZID=America/Chicago:20260114T113000
DTSTAMP:20260423T020347
CREATED:20251224T003719Z
LAST-MODIFIED:20260114T012218Z
UID:10002492-1768386600-1768390200@provplace.com
SUMMARY:Hangman
DESCRIPTION:
URL:https://provplace.com/event-calendar/hangman-38/
CATEGORIES:Memory Care
END:VEVENT
BEGIN:VEVENT
DTSTART;TZID=America/Chicago:20260114T093000
DTEND;TZID=America/Chicago:20260114T100000
DTSTAMP:20260423T020347
CREATED:20251225T003722Z
LAST-MODIFIED:20260114T012218Z
UID:10002531-1768383000-1768384800@provplace.com
SUMMARY:Chaplain Chat
DESCRIPTION:
URL:https://provplace.com/event-calendar/chaplain-chat-124/
CATEGORIES:Memory Care
END:VEVENT
BEGIN:VEVENT
DTSTART;TZID=America/Chicago:20260113T180000
DTEND;TZID=America/Chicago:20260113T183000
DTSTAMP:20260423T020347
CREATED:20251216T002232Z
LAST-MODIFIED:20260113T012217Z
UID:10002451-1768327200-1768329000@provplace.com
SUMMARY:Tuesday Motivation
DESCRIPTION:
URL:https://provplace.com/event-calendar/tuesday-motivation-3/
CATEGORIES:Memory Care
END:VEVENT
BEGIN:VEVENT
DTSTART;TZID=America/Chicago:20260113T160000
DTEND;TZID=America/Chicago:20260113T163000
DTSTAMP:20260423T020347
CREATED:20251225T003722Z
LAST-MODIFIED:20260113T012217Z
UID:10002530-1768320000-1768321800@provplace.com
SUMMARY:Teatime Social
DESCRIPTION:
URL:https://provplace.com/event-calendar/teatime-social-10/
CATEGORIES:Memory Care
END:VEVENT
BEGIN:VEVENT
DTSTART;TZID=America/Chicago:20260113T143000
DTEND;TZID=America/Chicago:20260113T153000
DTSTAMP:20260423T020347
CREATED:20251225T003722Z
LAST-MODIFIED:20260113T012217Z
UID:10002529-1768314600-1768318200@provplace.com
SUMMARY:Flower Arranging
DESCRIPTION:
URL:https://provplace.com/event-calendar/flower-arranging-35/
LOCATION:Memory Care
CATEGORIES:Memory Care
END:VEVENT
BEGIN:VEVENT
DTSTART;TZID=America/Chicago:20260113T133000
DTEND;TZID=America/Chicago:20260113T140000
DTSTAMP:20260423T020347
CREATED:20251215T002224Z
LAST-MODIFIED:20260113T012217Z
UID:10002447-1768311000-1768312800@provplace.com
SUMMARY:Exercise: Weights
DESCRIPTION:
URL:https://provplace.com/event-calendar/exercise-weights-49/
LOCATION:2S
CATEGORIES:Memory Care
END:VEVENT
BEGIN:VEVENT
DTSTART;TZID=America/Chicago:20260113T110000
DTEND;TZID=America/Chicago:20260113T111500
DTSTAMP:20260423T020347
CREATED:20251225T003721Z
LAST-MODIFIED:20260113T012217Z
UID:10002528-1768302000-1768302900@provplace.com
SUMMARY:Walking Group
DESCRIPTION:
URL:https://provplace.com/event-calendar/walking-group-203/
LOCATION:2S
CATEGORIES:Memory Care
END:VEVENT
BEGIN:VEVENT
DTSTART;TZID=America/Chicago:20260113T110000
DTEND;TZID=America/Chicago:20260113T111500
DTSTAMP:20260423T020347
CREATED:20251220T003722Z
LAST-MODIFIED:20251224T003719Z
UID:10002466-1768302000-1768302900@provplace.com
SUMMARY:Walking
DESCRIPTION:
URL:https://provplace.com/event-calendar/walking-9/
LOCATION:2S
CATEGORIES:Memory Care
END:VEVENT
BEGIN:VEVENT
DTSTART;TZID=America/Chicago:20260113T103000
DTEND;TZID=America/Chicago:20260113T113000
DTSTAMP:20260423T020347
CREATED:20260101T010717Z
LAST-MODIFIED:20260113T012217Z
UID:10002705-1768300200-1768303800@provplace.com
SUMMARY:Name 10
DESCRIPTION:
URL:https://provplace.com/event-calendar/name-10-2/
CATEGORIES:Memory Care
END:VEVENT
BEGIN:VEVENT
DTSTART;TZID=America/Chicago:20260113T093000
DTEND;TZID=America/Chicago:20260113T100000
DTSTAMP:20260423T020347
CREATED:20251215T002224Z
LAST-MODIFIED:20260113T012217Z
UID:10002446-1768296600-1768298400@provplace.com
SUMMARY:Spiritual Group
DESCRIPTION:
URL:https://provplace.com/event-calendar/finish-the-lyrics-3/
LOCATION:2S
CATEGORIES:Memory Care
END:VEVENT
BEGIN:VEVENT
DTSTART;TZID=America/Chicago:20260112T160000
DTEND;TZID=America/Chicago:20260112T163000
DTSTAMP:20260423T020347
CREATED:20251230T005301Z
LAST-MODIFIED:20260112T012229Z
UID:10002641-1768233600-1768235400@provplace.com
SUMMARY:Winter Races
DESCRIPTION:
URL:https://provplace.com/event-calendar/winter-races-2/
LOCATION:2S
CATEGORIES:Memory Care
END:VEVENT
BEGIN:VEVENT
DTSTART;TZID=America/Chicago:20260112T143000
DTEND;TZID=America/Chicago:20260112T150000
DTSTAMP:20260423T020347
CREATED:20251214T002225Z
LAST-MODIFIED:20260112T012229Z
UID:10002443-1768228200-1768230000@provplace.com
SUMMARY:Gratitude Dice Game
DESCRIPTION:
URL:https://provplace.com/event-calendar/gratitude-dice-game/
LOCATION:2S
CATEGORIES:Memory Care
END:VEVENT
BEGIN:VEVENT
DTSTART;TZID=America/Chicago:20260112T133000
DTEND;TZID=America/Chicago:20260112T140000
DTSTAMP:20260423T020347
CREATED:20251214T002225Z
LAST-MODIFIED:20260112T012229Z
UID:10002442-1768224600-1768226400@provplace.com
SUMMARY:Balloon Ball & Music
DESCRIPTION:
URL:https://provplace.com/event-calendar/balloon-ball-music/
LOCATION:2S
CATEGORIES:Memory Care
END:VEVENT
END:VCALENDAR