BEGIN:VCALENDAR
VERSION:2.0
PRODID:-//Providence Place Senior Living - ECPv6.11.2.1//NONSGML v1.0//EN
CALSCALE:GREGORIAN
METHOD:PUBLISH
X-ORIGINAL-URL:https://provplace.com
X-WR-CALDESC:Events for Providence Place Senior Living
REFRESH-INTERVAL;VALUE=DURATION:PT1H
X-Robots-Tag:noindex
X-PUBLISHED-TTL:PT1H
BEGIN:VTIMEZONE
TZID:America/Chicago
BEGIN:DAYLIGHT
TZOFFSETFROM:-0600
TZOFFSETTO:-0500
TZNAME:CDT
DTSTART:20260308T080000
END:DAYLIGHT
BEGIN:STANDARD
TZOFFSETFROM:-0500
TZOFFSETTO:-0600
TZNAME:CST
DTSTART:20261101T070000
END:STANDARD
END:VTIMEZONE
BEGIN:VEVENT
DTSTART;TZID=America/Chicago:20260120T143000
DTEND;TZID=America/Chicago:20260120T150000
DTSTAMP:20260422T224503
CREATED:20251222T012218Z
LAST-MODIFIED:20260120T025249Z
UID:10002480-1768919400-1768921200@provplace.com
SUMMARY:Winter Carnival games
DESCRIPTION:
URL:https://provplace.com/event-calendar/winter-carnival-games/
LOCATION:3 North
CATEGORIES:Long Term Care,Memory Care
END:VEVENT
BEGIN:VEVENT
DTSTART;TZID=America/Chicago:20260120T133000
DTEND;TZID=America/Chicago:20260120T140000
DTSTAMP:20260422T224503
CREATED:20251222T003724Z
LAST-MODIFIED:20260120T013726Z
UID:10002477-1768915800-1768917600@provplace.com
SUMMARY:Exercise: Weights
DESCRIPTION:
URL:https://provplace.com/event-calendar/exercise-weights-51/
LOCATION:2S
CATEGORIES:Memory Care
END:VEVENT
BEGIN:VEVENT
DTSTART;TZID=America/Chicago:20260120T110000
DTEND;TZID=America/Chicago:20260120T111500
DTSTAMP:20260422T224503
CREATED:20251225T003723Z
LAST-MODIFIED:20260120T013726Z
UID:10002540-1768906800-1768907700@provplace.com
SUMMARY:Walking Group
DESCRIPTION:
URL:https://provplace.com/event-calendar/walking-group-208/
LOCATION:2S
CATEGORIES:Memory Care
END:VEVENT
BEGIN:VEVENT
DTSTART;TZID=America/Chicago:20260120T110000
DTEND;TZID=America/Chicago:20260120T111500
DTSTAMP:20260422T224503
CREATED:20251222T003724Z
LAST-MODIFIED:20251224T003720Z
UID:10002476-1768906800-1768907700@provplace.com
SUMMARY:Walking
DESCRIPTION:
URL:https://provplace.com/event-calendar/walking-10/
LOCATION:2S
CATEGORIES:Memory Care
END:VEVENT
BEGIN:VEVENT
DTSTART;TZID=America/Chicago:20260120T103000
DTEND;TZID=America/Chicago:20260120T113000
DTSTAMP:20260422T224503
CREATED:20260101T010719Z
LAST-MODIFIED:20260120T013726Z
UID:10002708-1768905000-1768908600@provplace.com
SUMMARY:Name 10
DESCRIPTION:
URL:https://provplace.com/event-calendar/name-10-3/
CATEGORIES:Memory Care
END:VEVENT
BEGIN:VEVENT
DTSTART;TZID=America/Chicago:20260120T093000
DTEND;TZID=America/Chicago:20260120T100000
DTSTAMP:20260422T224503
CREATED:20251222T003724Z
LAST-MODIFIED:20260120T013726Z
UID:10002475-1768901400-1768903200@provplace.com
SUMMARY:Spiritual Talk
DESCRIPTION:
URL:https://provplace.com/event-calendar/winter-poems-read-along/
LOCATION:2S
CATEGORIES:Memory Care
END:VEVENT
BEGIN:VEVENT
DTSTART;TZID=America/Chicago:20260119T153000
DTEND;TZID=America/Chicago:20260119T160000
DTSTAMP:20260422T224503
CREATED:20251230T005303Z
LAST-MODIFIED:20260119T012216Z
UID:10002649-1768836600-1768838400@provplace.com
SUMMARY:Winter Races
DESCRIPTION:
URL:https://provplace.com/event-calendar/winter-races-3/
LOCATION:2S
CATEGORIES:Memory Care
END:VEVENT
BEGIN:VEVENT
DTSTART;TZID=America/Chicago:20260119T143000
DTEND;TZID=America/Chicago:20260119T150000
DTSTAMP:20260422T224503
CREATED:20251221T003723Z
LAST-MODIFIED:20260116T012229Z
UID:10002474-1768833000-1768834800@provplace.com
SUMMARY:Storytime & Poetry
DESCRIPTION:
URL:https://provplace.com/event-calendar/storytime-poetry/
LOCATION:2S
CATEGORIES:Memory Care
END:VEVENT
BEGIN:VEVENT
DTSTART;TZID=America/Chicago:20260119T133000
DTEND;TZID=America/Chicago:20260119T140000
DTSTAMP:20260422T224503
CREATED:20251221T003723Z
LAST-MODIFIED:20260116T012228Z
UID:10002473-1768829400-1768831200@provplace.com
SUMMARY:Balloon Ball & Music
DESCRIPTION:
URL:https://provplace.com/event-calendar/balloon-ball-music-2/
LOCATION:2S
CATEGORIES:Memory Care
END:VEVENT
BEGIN:VEVENT
DTSTART;TZID=America/Chicago:20260119T110000
DTEND;TZID=America/Chicago:20260119T111500
DTSTAMP:20260422T224503
CREATED:20251225T003723Z
LAST-MODIFIED:20260119T012216Z
UID:10002539-1768820400-1768821300@provplace.com
SUMMARY:Walking Group
DESCRIPTION:
URL:https://provplace.com/event-calendar/walking-group-207/
LOCATION:2S
CATEGORIES:Memory Care
END:VEVENT
BEGIN:VEVENT
DTSTART;TZID=America/Chicago:20260119T103000
DTEND;TZID=America/Chicago:20260119T110000
DTSTAMP:20260422T224503
CREATED:20260118T012244Z
LAST-MODIFIED:20260119T012216Z
UID:10002804-1768818600-1768820400@provplace.com
SUMMARY:Hangman
DESCRIPTION:
URL:https://provplace.com/event-calendar/hangman-45/
LOCATION:2S
CATEGORIES:Memory Care
END:VEVENT
BEGIN:VEVENT
DTSTART;TZID=America/Chicago:20260119T103000
DTEND;TZID=America/Chicago:20260119T110000
DTSTAMP:20260422T224503
CREATED:20251224T003719Z
LAST-MODIFIED:20260117T012219Z
UID:10002496-1768818600-1768820400@provplace.com
SUMMARY:Sing and Spin
DESCRIPTION:
URL:https://provplace.com/event-calendar/sing-and-spin-32/
LOCATION:Memory Care
CATEGORIES:Memory Care
END:VEVENT
BEGIN:VEVENT
DTSTART;TZID=America/Chicago:20260119T093000
DTEND;TZID=America/Chicago:20260119T100000
DTSTAMP:20260422T224503
CREATED:20251225T003722Z
LAST-MODIFIED:20260119T012216Z
UID:10002538-1768815000-1768816800@provplace.com
SUMMARY:Prayer & Praise
DESCRIPTION:
URL:https://provplace.com/event-calendar/prayer-praise-17/
CATEGORIES:Memory Care
END:VEVENT
BEGIN:VEVENT
DTSTART;TZID=America/Chicago:20260118T153000
DTEND;TZID=America/Chicago:20260118T160000
DTSTAMP:20260422T224503
CREATED:20251230T005302Z
LAST-MODIFIED:20260118T012244Z
UID:10002648-1768750200-1768752000@provplace.com
SUMMARY:Bean Bag Toss
DESCRIPTION:
URL:https://provplace.com/event-calendar/bean-bag-toss-23/
CATEGORIES:Memory Care
END:VEVENT
BEGIN:VEVENT
DTSTART;TZID=America/Chicago:20260118T110000
DTEND;TZID=America/Chicago:20260118T111500
DTSTAMP:20260422T224503
CREATED:20251230T005302Z
LAST-MODIFIED:20260118T012244Z
UID:10002647-1768734000-1768734900@provplace.com
SUMMARY:Walking Group
DESCRIPTION:
URL:https://provplace.com/event-calendar/walking-group-216/
LOCATION:2S
CATEGORIES:Memory Care
END:VEVENT
BEGIN:VEVENT
DTSTART;TZID=America/Chicago:20260118T103000
DTEND;TZID=America/Chicago:20260118T110000
DTSTAMP:20260422T224503
CREATED:20251230T005302Z
LAST-MODIFIED:20260118T012244Z
UID:10002646-1768732200-1768734000@provplace.com
SUMMARY:What Am I?
DESCRIPTION:
URL:https://provplace.com/event-calendar/what-am-i-30/
LOCATION:2S
CATEGORIES:Memory Care
END:VEVENT
BEGIN:VEVENT
DTSTART;TZID=America/Chicago:20260117T153000
DTEND;TZID=America/Chicago:20260117T160000
DTSTAMP:20260422T224503
CREATED:20251230T005302Z
LAST-MODIFIED:20260117T012218Z
UID:10002645-1768663800-1768665600@provplace.com
SUMMARY:Balloon Ball
DESCRIPTION:
URL:https://provplace.com/event-calendar/balloon-ball-48/
LOCATION:2S
CATEGORIES:Memory Care
END:VEVENT
BEGIN:VEVENT
DTSTART;TZID=America/Chicago:20260117T133000
DTEND;TZID=America/Chicago:20260117T140000
DTSTAMP:20260422T224503
CREATED:20251230T005302Z
LAST-MODIFIED:20260117T012218Z
UID:10002644-1768656600-1768658400@provplace.com
SUMMARY:Music Social; Listener's Choice
DESCRIPTION:
URL:https://provplace.com/event-calendar/sing-spin-2/
LOCATION:2S
CATEGORIES:Memory Care
END:VEVENT
BEGIN:VEVENT
DTSTART;TZID=America/Chicago:20260117T103000
DTEND;TZID=America/Chicago:20260117T110000
DTSTAMP:20260422T224503
CREATED:20251230T005302Z
LAST-MODIFIED:20260117T012218Z
UID:10002643-1768645800-1768647600@provplace.com
SUMMARY:Categories
DESCRIPTION:
URL:https://provplace.com/event-calendar/categories-20/
LOCATION:2S
CATEGORIES:Memory Care
END:VEVENT
BEGIN:VEVENT
DTSTART;TZID=America/Chicago:20260116T160000
DTEND;TZID=America/Chicago:20260116T163000
DTSTAMP:20260422T224503
CREATED:20260101T010718Z
LAST-MODIFIED:20260116T012229Z
UID:10002707-1768579200-1768581000@provplace.com
SUMMARY:Story Time
DESCRIPTION:
URL:https://provplace.com/event-calendar/story-time-4/
LOCATION:2S
CATEGORIES:Memory Care
END:VEVENT
BEGIN:VEVENT
DTSTART;TZID=America/Chicago:20260116T143000
DTEND;TZID=America/Chicago:20260116T151500
DTSTAMP:20260422T224503
CREATED:20251218T002229Z
LAST-MODIFIED:20260116T025216Z
UID:10002459-1768573800-1768576500@provplace.com
SUMMARY:Concert of the Month: Bill Cagley
DESCRIPTION:
URL:https://provplace.com/event-calendar/concert-of-the-month-bill-cagley/
LOCATION:2 North
CATEGORIES:Long Term Care,Memory Care
END:VEVENT
BEGIN:VEVENT
DTSTART;TZID=America/Chicago:20260116T133000
DTEND;TZID=America/Chicago:20260116T140000
DTSTAMP:20260422T224503
CREATED:20260106T012218Z
LAST-MODIFIED:20260116T012228Z
UID:10002746-1768570200-1768572000@provplace.com
SUMMARY:Exercise
DESCRIPTION:
URL:https://provplace.com/event-calendar/exercise-36/
CATEGORIES:Memory Care
END:VEVENT
BEGIN:VEVENT
DTSTART;TZID=America/Chicago:20260116T110000
DTEND;TZID=America/Chicago:20260116T111500
DTSTAMP:20260422T224503
CREATED:20251225T003722Z
LAST-MODIFIED:20260116T012228Z
UID:10002537-1768561200-1768562100@provplace.com
SUMMARY:Walking Group
DESCRIPTION:
URL:https://provplace.com/event-calendar/walking-group-206/
LOCATION:2S
CATEGORIES:Memory Care
END:VEVENT
BEGIN:VEVENT
DTSTART;TZID=America/Chicago:20260116T103000
DTEND;TZID=America/Chicago:20260116T113000
DTSTAMP:20260422T224503
CREATED:20251224T003719Z
LAST-MODIFIED:20260116T012228Z
UID:10002494-1768559400-1768563000@provplace.com
SUMMARY:Talk to Me
DESCRIPTION:
URL:https://provplace.com/event-calendar/talk-to-me-35/
LOCATION:2S
CATEGORIES:Memory Care
END:VEVENT
BEGIN:VEVENT
DTSTART;TZID=America/Chicago:20260116T103000
DTEND;TZID=America/Chicago:20260116T113000
DTSTAMP:20260422T224503
CREATED:20251224T003719Z
LAST-MODIFIED:20251224T003719Z
UID:10002495-1768559400-1768563000@provplace.com
SUMMARY:Nail Care
DESCRIPTION:
URL:https://provplace.com/event-calendar/nail-care-27/
LOCATION:2S
CATEGORIES:Memory Care
END:VEVENT
BEGIN:VEVENT
DTSTART;TZID=America/Chicago:20260116T093000
DTEND;TZID=America/Chicago:20260116T100000
DTSTAMP:20260422T224503
CREATED:20251225T003722Z
LAST-MODIFIED:20260116T012228Z
UID:10002536-1768555800-1768557600@provplace.com
SUMMARY:Bible Study
DESCRIPTION:
URL:https://provplace.com/event-calendar/bible-study-4/
CATEGORIES:Memory Care
END:VEVENT
BEGIN:VEVENT
DTSTART;TZID=America/Chicago:20260115T160000
DTEND;TZID=America/Chicago:20260115T163000
DTSTAMP:20260422T224503
CREATED:20251225T003722Z
LAST-MODIFIED:20260115T012222Z
UID:10002535-1768492800-1768494600@provplace.com
SUMMARY:Bingo
DESCRIPTION:
URL:https://provplace.com/event-calendar/bingo-65/
CATEGORIES:Memory Care
END:VEVENT
BEGIN:VEVENT
DTSTART;TZID=America/Chicago:20260115T141500
DTEND;TZID=America/Chicago:20260115T150000
DTSTAMP:20260422T224503
CREATED:20251217T002225Z
LAST-MODIFIED:20260115T012222Z
UID:10002457-1768486500-1768489200@provplace.com
SUMMARY:Art Adventures
DESCRIPTION:
URL:https://provplace.com/event-calendar/art-adventures-7/
LOCATION:2S
CATEGORIES:Memory Care
END:VEVENT
BEGIN:VEVENT
DTSTART;TZID=America/Chicago:20260115T133000
DTEND;TZID=America/Chicago:20260115T143000
DTSTAMP:20260422T224503
CREATED:20251224T003719Z
LAST-MODIFIED:20260115T012222Z
UID:10002493-1768483800-1768487400@provplace.com
SUMMARY:Balloon Ball
DESCRIPTION:
URL:https://provplace.com/event-calendar/balloon-ball-44/
LOCATION:2S
CATEGORIES:Memory Care
END:VEVENT
BEGIN:VEVENT
DTSTART;TZID=America/Chicago:20260115T110000
DTEND;TZID=America/Chicago:20260115T111500
DTSTAMP:20260422T224503
CREATED:20251225T003722Z
LAST-MODIFIED:20260115T012222Z
UID:10002534-1768474800-1768475700@provplace.com
SUMMARY:Walking Group
DESCRIPTION:
URL:https://provplace.com/event-calendar/walking-group-205/
LOCATION:2S
CATEGORIES:Memory Care
END:VEVENT
END:VCALENDAR