BEGIN:VCALENDAR
VERSION:2.0
PRODID:-//Providence Place Senior Living - ECPv6.11.2.1//NONSGML v1.0//EN
CALSCALE:GREGORIAN
METHOD:PUBLISH
X-ORIGINAL-URL:https://provplace.com
X-WR-CALDESC:Events for Providence Place Senior Living
REFRESH-INTERVAL;VALUE=DURATION:PT1H
X-Robots-Tag:noindex
X-PUBLISHED-TTL:PT1H
BEGIN:VTIMEZONE
TZID:America/Chicago
BEGIN:DAYLIGHT
TZOFFSETFROM:-0600
TZOFFSETTO:-0500
TZNAME:CDT
DTSTART:20260308T080000
END:DAYLIGHT
BEGIN:STANDARD
TZOFFSETFROM:-0500
TZOFFSETTO:-0600
TZNAME:CST
DTSTART:20261101T070000
END:STANDARD
END:VTIMEZONE
BEGIN:VEVENT
DTSTART;TZID=America/Chicago:20260128T160000
DTEND;TZID=America/Chicago:20260128T163000
DTSTAMP:20260422T155053
CREATED:20251230T005305Z
LAST-MODIFIED:20260128T015220Z
UID:10002661-1769616000-1769617800@provplace.com
SUMMARY:Music Social
DESCRIPTION:
URL:https://provplace.com/event-calendar/music-social-40/
LOCATION:2S
CATEGORIES:Memory Care
END:VEVENT
BEGIN:VEVENT
DTSTART;TZID=America/Chicago:20260128T143000
DTEND;TZID=America/Chicago:20260128T150000
DTSTAMP:20260422T155054
CREATED:20251230T005304Z
LAST-MODIFIED:20260128T015220Z
UID:10002660-1769610600-1769612400@provplace.com
SUMMARY:Coloring Club
DESCRIPTION:
URL:https://provplace.com/event-calendar/coloring-club-36/
CATEGORIES:Memory Care
END:VEVENT
BEGIN:VEVENT
DTSTART;TZID=America/Chicago:20260128T133000
DTEND;TZID=America/Chicago:20260128T140000
DTSTAMP:20260422T155054
CREATED:20260106T012222Z
LAST-MODIFIED:20260128T015220Z
UID:10002749-1769607000-1769608800@provplace.com
SUMMARY:Balloon Ball
DESCRIPTION:
URL:https://provplace.com/event-calendar/exercise-39/
LOCATION:2S
CATEGORIES:Memory Care
END:VEVENT
BEGIN:VEVENT
DTSTART;TZID=America/Chicago:20260128T110000
DTEND;TZID=America/Chicago:20260128T111500
DTSTAMP:20260422T155054
CREATED:20251230T005304Z
LAST-MODIFIED:20260128T015220Z
UID:10002659-1769598000-1769598900@provplace.com
SUMMARY:Walking Group
DESCRIPTION:
URL:https://provplace.com/event-calendar/walking-group-218/
LOCATION:2S
CATEGORIES:Memory Care
END:VEVENT
BEGIN:VEVENT
DTSTART;TZID=America/Chicago:20260128T103000
DTEND;TZID=America/Chicago:20260128T113000
DTSTAMP:20260422T155054
CREATED:20251230T005304Z
LAST-MODIFIED:20260128T015220Z
UID:10002658-1769596200-1769599800@provplace.com
SUMMARY:Hangman
DESCRIPTION:
URL:https://provplace.com/event-calendar/hangman-40/
CATEGORIES:Memory Care
END:VEVENT
BEGIN:VEVENT
DTSTART;TZID=America/Chicago:20260128T093000
DTEND;TZID=America/Chicago:20260128T100000
DTSTAMP:20260422T155054
CREATED:20251230T005304Z
LAST-MODIFIED:20260128T015220Z
UID:10002657-1769592600-1769594400@provplace.com
SUMMARY:Chaplain Chat
DESCRIPTION:
URL:https://provplace.com/event-calendar/chaplain-chat-129/
CATEGORIES:Memory Care
END:VEVENT
BEGIN:VEVENT
DTSTART;TZID=America/Chicago:20260127T180000
DTEND;TZID=America/Chicago:20260127T183000
DTSTAMP:20260422T155054
CREATED:20251229T005223Z
LAST-MODIFIED:20260127T015220Z
UID:10002624-1769536800-1769538600@provplace.com
SUMMARY:Tuesday Motivation
DESCRIPTION:
URL:https://provplace.com/event-calendar/tuesday-motivation-5/
CATEGORIES:Memory Care
END:VEVENT
BEGIN:VEVENT
DTSTART;TZID=America/Chicago:20260127T160000
DTEND;TZID=America/Chicago:20260127T163000
DTSTAMP:20260422T155054
CREATED:20251229T005223Z
LAST-MODIFIED:20260127T015220Z
UID:10002623-1769529600-1769531400@provplace.com
SUMMARY:Teatime Social
DESCRIPTION:
URL:https://provplace.com/event-calendar/teatime-social-12/
CATEGORIES:Memory Care
END:VEVENT
BEGIN:VEVENT
DTSTART;TZID=America/Chicago:20260127T143000
DTEND;TZID=America/Chicago:20260127T153000
DTSTAMP:20260422T155054
CREATED:20251229T005223Z
LAST-MODIFIED:20260127T015220Z
UID:10002622-1769524200-1769527800@provplace.com
SUMMARY:Flower Arranging
DESCRIPTION:
URL:https://provplace.com/event-calendar/flower-arranging-37/
LOCATION:Memory Care
CATEGORIES:Memory Care
END:VEVENT
BEGIN:VEVENT
DTSTART;TZID=America/Chicago:20260127T133000
DTEND;TZID=America/Chicago:20260127T140000
DTSTAMP:20260422T155054
CREATED:20251229T005223Z
LAST-MODIFIED:20260127T015220Z
UID:10002621-1769520600-1769522400@provplace.com
SUMMARY:Exercise: Weights
DESCRIPTION:
URL:https://provplace.com/event-calendar/exercise-weights-53/
LOCATION:2S
CATEGORIES:Memory Care
END:VEVENT
BEGIN:VEVENT
DTSTART;TZID=America/Chicago:20260127T110000
DTEND;TZID=America/Chicago:20260127T111500
DTSTAMP:20260422T155054
CREATED:20251229T005223Z
LAST-MODIFIED:20260127T015220Z
UID:10002620-1769511600-1769512500@provplace.com
SUMMARY:Walking Group
DESCRIPTION:
URL:https://provplace.com/event-calendar/walking-group-213/
LOCATION:2S
CATEGORIES:Memory Care
END:VEVENT
BEGIN:VEVENT
DTSTART;TZID=America/Chicago:20260127T103000
DTEND;TZID=America/Chicago:20260127T113000
DTSTAMP:20260422T155054
CREATED:20260101T010720Z
LAST-MODIFIED:20260127T015220Z
UID:10002711-1769509800-1769513400@provplace.com
SUMMARY:Name 10
DESCRIPTION:
URL:https://provplace.com/event-calendar/name-10-4/
CATEGORIES:Memory Care
END:VEVENT
BEGIN:VEVENT
DTSTART;TZID=America/Chicago:20260127T093000
DTEND;TZID=America/Chicago:20260127T100000
DTSTAMP:20260422T155054
CREATED:20251231T010721Z
LAST-MODIFIED:20260127T015220Z
UID:10002679-1769506200-1769508000@provplace.com
SUMMARY:Spiritual Hymns
DESCRIPTION:
URL:https://provplace.com/event-calendar/spiritual-hymns/
LOCATION:2S
CATEGORIES:Memory Care
END:VEVENT
BEGIN:VEVENT
DTSTART;TZID=America/Chicago:20260126T160000
DTEND;TZID=America/Chicago:20260126T163000
DTSTAMP:20260422T155054
CREATED:20251230T005304Z
LAST-MODIFIED:20260117T012219Z
UID:10002656-1769443200-1769445000@provplace.com
SUMMARY:Winter Races
DESCRIPTION:
URL:https://provplace.com/event-calendar/winter-races-4/
LOCATION:2S
CATEGORIES:Memory Care
END:VEVENT
BEGIN:VEVENT
DTSTART;TZID=America/Chicago:20260126T143000
DTEND;TZID=America/Chicago:20260126T150000
DTSTAMP:20260422T155054
CREATED:20251228T005236Z
LAST-MODIFIED:20260126T013737Z
UID:10002613-1769437800-1769439600@provplace.com
SUMMARY:Gratitude Dice Game
DESCRIPTION:
URL:https://provplace.com/event-calendar/gratitude-dice-game-2/
LOCATION:2S
CATEGORIES:Memory Care
END:VEVENT
BEGIN:VEVENT
DTSTART;TZID=America/Chicago:20260126T133000
DTEND;TZID=America/Chicago:20260126T140000
DTSTAMP:20260422T155054
CREATED:20251228T005235Z
LAST-MODIFIED:20260126T013737Z
UID:10002612-1769434200-1769436000@provplace.com
SUMMARY:Balloon Ball & Music
DESCRIPTION:
URL:https://provplace.com/event-calendar/balloon-ball-music-3/
LOCATION:2S
CATEGORIES:Memory Care
END:VEVENT
BEGIN:VEVENT
DTSTART;TZID=America/Chicago:20260126T110000
DTEND;TZID=America/Chicago:20260126T111500
DTSTAMP:20260422T155054
CREATED:20251228T005235Z
LAST-MODIFIED:20260126T013737Z
UID:10002611-1769425200-1769426100@provplace.com
SUMMARY:Walking Group
DESCRIPTION:
URL:https://provplace.com/event-calendar/walking-group-212/
LOCATION:2S
CATEGORIES:Memory Care
END:VEVENT
BEGIN:VEVENT
DTSTART;TZID=America/Chicago:20260126T103000
DTEND;TZID=America/Chicago:20260126T110000
DTSTAMP:20260422T155054
CREATED:20251228T005235Z
LAST-MODIFIED:20260126T013736Z
UID:10002610-1769423400-1769425200@provplace.com
SUMMARY:Sing and Spin
DESCRIPTION:
URL:https://provplace.com/event-calendar/sing-and-spin-33/
LOCATION:Memory Care
CATEGORIES:Memory Care
END:VEVENT
BEGIN:VEVENT
DTSTART;TZID=America/Chicago:20260126T093000
DTEND;TZID=America/Chicago:20260126T100000
DTSTAMP:20260422T155054
CREATED:20251228T005235Z
LAST-MODIFIED:20260126T013736Z
UID:10002609-1769419800-1769421600@provplace.com
SUMMARY:Prayer & Praise
DESCRIPTION:
URL:https://provplace.com/event-calendar/prayer-praise-18/
CATEGORIES:Memory Care
END:VEVENT
BEGIN:VEVENT
DTSTART;TZID=America/Chicago:20260125T153000
DTEND;TZID=America/Chicago:20260125T160000
DTSTAMP:20260422T155054
CREATED:20251230T005304Z
LAST-MODIFIED:20260125T013717Z
UID:10002655-1769355000-1769356800@provplace.com
SUMMARY:Bean Bag Toss
DESCRIPTION:
URL:https://provplace.com/event-calendar/bean-bag-toss-24/
CATEGORIES:Memory Care
END:VEVENT
BEGIN:VEVENT
DTSTART;TZID=America/Chicago:20260125T110000
DTEND;TZID=America/Chicago:20260125T111500
DTSTAMP:20260422T155054
CREATED:20251230T005304Z
LAST-MODIFIED:20260125T013717Z
UID:10002654-1769338800-1769339700@provplace.com
SUMMARY:Walking Group
DESCRIPTION:
URL:https://provplace.com/event-calendar/walking-group-217/
LOCATION:2S
CATEGORIES:Memory Care
END:VEVENT
BEGIN:VEVENT
DTSTART;TZID=America/Chicago:20260125T103000
DTEND;TZID=America/Chicago:20260125T110000
DTSTAMP:20260422T155054
CREATED:20251230T005304Z
LAST-MODIFIED:20260125T013717Z
UID:10002653-1769337000-1769338800@provplace.com
SUMMARY:What Am I?
DESCRIPTION:
URL:https://provplace.com/event-calendar/what-am-i-31/
LOCATION:2S
CATEGORIES:Memory Care
END:VEVENT
BEGIN:VEVENT
DTSTART;TZID=America/Chicago:20260124T153000
DTEND;TZID=America/Chicago:20260124T160000
DTSTAMP:20260422T155054
CREATED:20251230T005304Z
LAST-MODIFIED:20260124T013727Z
UID:10002652-1769268600-1769270400@provplace.com
SUMMARY:Balloon Ball
DESCRIPTION:
URL:https://provplace.com/event-calendar/balloon-ball-49/
LOCATION:2S
CATEGORIES:Memory Care
END:VEVENT
BEGIN:VEVENT
DTSTART;TZID=America/Chicago:20260124T133000
DTEND;TZID=America/Chicago:20260124T140000
DTSTAMP:20260422T155054
CREATED:20251226T005234Z
LAST-MODIFIED:20260124T013727Z
UID:10002599-1769261400-1769263200@provplace.com
SUMMARY:Jokes and Riddles
DESCRIPTION:
URL:https://provplace.com/event-calendar/jokes-and-riddles/
CATEGORIES:Memory Care
END:VEVENT
BEGIN:VEVENT
DTSTART;TZID=America/Chicago:20260124T103000
DTEND;TZID=America/Chicago:20260124T110000
DTSTAMP:20260422T155054
CREATED:20251230T005303Z
LAST-MODIFIED:20260124T013727Z
UID:10002651-1769250600-1769252400@provplace.com
SUMMARY:Categories
DESCRIPTION:
URL:https://provplace.com/event-calendar/categories-21/
LOCATION:2S
CATEGORIES:Memory Care
END:VEVENT
BEGIN:VEVENT
DTSTART;TZID=America/Chicago:20260123T160000
DTEND;TZID=America/Chicago:20260123T163000
DTSTAMP:20260422T155054
CREATED:20260101T010720Z
LAST-MODIFIED:20260123T013754Z
UID:10002710-1769184000-1769185800@provplace.com
SUMMARY:Story Time
DESCRIPTION:
URL:https://provplace.com/event-calendar/story-time-5/
LOCATION:2S
CATEGORIES:Memory Care
END:VEVENT
BEGIN:VEVENT
DTSTART;TZID=America/Chicago:20260123T143000
DTEND;TZID=America/Chicago:20260123T150000
DTSTAMP:20260422T155054
CREATED:20251225T003725Z
LAST-MODIFIED:20260123T025217Z
UID:10002553-1769178600-1769180400@provplace.com
SUMMARY:Winter Carnival Party
DESCRIPTION:
URL:https://provplace.com/event-calendar/winter-carnival-party/
LOCATION:2 North
CATEGORIES:Long Term Care,Memory Care
END:VEVENT
BEGIN:VEVENT
DTSTART;TZID=America/Chicago:20260123T133000
DTEND;TZID=America/Chicago:20260123T140000
DTSTAMP:20260422T155054
CREATED:20260106T012220Z
LAST-MODIFIED:20260123T013753Z
UID:10002748-1769175000-1769176800@provplace.com
SUMMARY:Exercise
DESCRIPTION:
URL:https://provplace.com/event-calendar/exercise-38/
CATEGORIES:Memory Care
END:VEVENT
BEGIN:VEVENT
DTSTART;TZID=America/Chicago:20260123T110000
DTEND;TZID=America/Chicago:20260123T111500
DTSTAMP:20260422T155054
CREATED:20251225T003725Z
LAST-MODIFIED:20260123T013753Z
UID:10002552-1769166000-1769166900@provplace.com
SUMMARY:Walking Group
DESCRIPTION:
URL:https://provplace.com/event-calendar/walking-group-211/
LOCATION:2S
CATEGORIES:Memory Care
END:VEVENT
BEGIN:VEVENT
DTSTART;TZID=America/Chicago:20260123T103000
DTEND;TZID=America/Chicago:20260123T113000
DTSTAMP:20260422T155054
CREATED:20251225T003724Z
LAST-MODIFIED:20260123T013753Z
UID:10002551-1769164200-1769167800@provplace.com
SUMMARY:Talk to Me
DESCRIPTION:
URL:https://provplace.com/event-calendar/talk-to-me-36/
LOCATION:2S
CATEGORIES:Memory Care
END:VEVENT
END:VCALENDAR