BEGIN:VCALENDAR
VERSION:2.0
PRODID:-//Providence Place Senior Living - ECPv6.11.2.1//NONSGML v1.0//EN
CALSCALE:GREGORIAN
METHOD:PUBLISH
X-ORIGINAL-URL:https://provplace.com
X-WR-CALDESC:Events for Providence Place Senior Living
REFRESH-INTERVAL;VALUE=DURATION:PT1H
X-Robots-Tag:noindex
X-PUBLISHED-TTL:PT1H
BEGIN:VTIMEZONE
TZID:America/Chicago
BEGIN:DAYLIGHT
TZOFFSETFROM:-0600
TZOFFSETTO:-0500
TZNAME:CDT
DTSTART:20260308T080000
END:DAYLIGHT
BEGIN:STANDARD
TZOFFSETFROM:-0500
TZOFFSETTO:-0600
TZNAME:CST
DTSTART:20261101T070000
END:STANDARD
END:VTIMEZONE
BEGIN:VEVENT
DTSTART;TZID=America/Chicago:20260201T103000
DTEND;TZID=America/Chicago:20260201T110000
DTSTAMP:20260422T111241
CREATED:20260126T013737Z
LAST-MODIFIED:20260201T022221Z
UID:10002950-1769941800-1769943600@provplace.com
SUMMARY:What Am I?
DESCRIPTION:
URL:https://provplace.com/event-calendar/what-am-i-32/
LOCATION:2S
CATEGORIES:Memory Care
END:VEVENT
BEGIN:VEVENT
DTSTART;TZID=America/Chicago:20260131T153000
DTEND;TZID=America/Chicago:20260131T160000
DTSTAMP:20260422T111241
CREATED:20260102T010731Z
LAST-MODIFIED:20260131T020748Z
UID:10002732-1769873400-1769875200@provplace.com
SUMMARY:Balloon Ball
DESCRIPTION:
URL:https://provplace.com/event-calendar/balloon-ball-51/
LOCATION:2S
CATEGORIES:Memory Care
END:VEVENT
BEGIN:VEVENT
DTSTART;TZID=America/Chicago:20260131T133000
DTEND;TZID=America/Chicago:20260131T143000
DTSTAMP:20260422T111241
CREATED:20260102T010731Z
LAST-MODIFIED:20260131T020748Z
UID:10002731-1769866200-1769869800@provplace.com
SUMMARY:Let's Mingle
DESCRIPTION:
URL:https://provplace.com/event-calendar/lets-mingle/
LOCATION:2S
CATEGORIES:Memory Care
END:VEVENT
BEGIN:VEVENT
DTSTART;TZID=America/Chicago:20260131T103000
DTEND;TZID=America/Chicago:20260131T110000
DTSTAMP:20260422T111241
CREATED:20260102T010731Z
LAST-MODIFIED:20260131T020748Z
UID:10002730-1769855400-1769857200@provplace.com
SUMMARY:Categories
DESCRIPTION:
URL:https://provplace.com/event-calendar/categories-22/
LOCATION:2S
CATEGORIES:Memory Care
END:VEVENT
BEGIN:VEVENT
DTSTART;TZID=America/Chicago:20260130T160000
DTEND;TZID=America/Chicago:20260130T163000
DTSTAMP:20260422T111241
CREATED:20260101T010722Z
LAST-MODIFIED:20260130T020729Z
UID:10002717-1769788800-1769790600@provplace.com
SUMMARY:Story Time
DESCRIPTION:
URL:https://provplace.com/event-calendar/story-time-6/
LOCATION:2S
CATEGORIES:Memory Care
END:VEVENT
BEGIN:VEVENT
DTSTART;TZID=America/Chicago:20260130T143000
DTEND;TZID=America/Chicago:20260130T150000
DTSTAMP:20260422T111241
CREATED:20260101T010722Z
LAST-MODIFIED:20260130T030716Z
UID:10002716-1769783400-1769785200@provplace.com
SUMMARY:January Birthday Party
DESCRIPTION:
URL:https://provplace.com/event-calendar/january-birthday-party/
LOCATION:2 North
CATEGORIES:Long Term Care,Memory Care
END:VEVENT
BEGIN:VEVENT
DTSTART;TZID=America/Chicago:20260130T133000
DTEND;TZID=America/Chicago:20260130T140000
DTSTAMP:20260422T111241
CREATED:20260106T012222Z
LAST-MODIFIED:20260130T020729Z
UID:10002750-1769779800-1769781600@provplace.com
SUMMARY:Exercise
DESCRIPTION:
URL:https://provplace.com/event-calendar/exercise-40/
CATEGORIES:Memory Care
END:VEVENT
BEGIN:VEVENT
DTSTART;TZID=America/Chicago:20260130T110000
DTEND;TZID=America/Chicago:20260130T111500
DTSTAMP:20260422T111241
CREATED:20260101T010721Z
LAST-MODIFIED:20260130T020729Z
UID:10002715-1769770800-1769771700@provplace.com
SUMMARY:Walking Group
DESCRIPTION:
URL:https://provplace.com/event-calendar/walking-group-220/
LOCATION:2S
CATEGORIES:Memory Care
END:VEVENT
BEGIN:VEVENT
DTSTART;TZID=America/Chicago:20260130T103000
DTEND;TZID=America/Chicago:20260130T113000
DTSTAMP:20260422T111241
CREATED:20260101T010721Z
LAST-MODIFIED:20260130T020729Z
UID:10002714-1769769000-1769772600@provplace.com
SUMMARY:Talk to Me
DESCRIPTION:
URL:https://provplace.com/event-calendar/talk-to-me-37/
LOCATION:2S
CATEGORIES:Memory Care
END:VEVENT
BEGIN:VEVENT
DTSTART;TZID=America/Chicago:20260130T093000
DTEND;TZID=America/Chicago:20260130T100000
DTSTAMP:20260422T111241
CREATED:20260101T010721Z
LAST-MODIFIED:20260130T020729Z
UID:10002713-1769765400-1769767200@provplace.com
SUMMARY:Bible Study
DESCRIPTION:
URL:https://provplace.com/event-calendar/bible-study-6/
CATEGORIES:Memory Care
END:VEVENT
BEGIN:VEVENT
DTSTART;TZID=America/Chicago:20260129T160000
DTEND;TZID=America/Chicago:20260129T163000
DTSTAMP:20260422T111241
CREATED:20251231T010722Z
LAST-MODIFIED:20260129T020721Z
UID:10002684-1769702400-1769704200@provplace.com
SUMMARY:Bingo
DESCRIPTION:
URL:https://provplace.com/event-calendar/bingo-71/
CATEGORIES:Memory Care
END:VEVENT
BEGIN:VEVENT
DTSTART;TZID=America/Chicago:20260129T141500
DTEND;TZID=America/Chicago:20260129T150000
DTSTAMP:20260422T111241
CREATED:20251231T010722Z
LAST-MODIFIED:20260129T020720Z
UID:10002683-1769696100-1769698800@provplace.com
SUMMARY:Art Adventures
DESCRIPTION:
URL:https://provplace.com/event-calendar/art-adventures-9/
LOCATION:2S
CATEGORIES:Memory Care
END:VEVENT
BEGIN:VEVENT
DTSTART;TZID=America/Chicago:20260129T133000
DTEND;TZID=America/Chicago:20260129T143000
DTSTAMP:20260422T111241
CREATED:20251231T010722Z
LAST-MODIFIED:20260129T020720Z
UID:10002682-1769693400-1769697000@provplace.com
SUMMARY:Balloon Ball
DESCRIPTION:
URL:https://provplace.com/event-calendar/balloon-ball-50/
LOCATION:2S
CATEGORIES:Memory Care
END:VEVENT
BEGIN:VEVENT
DTSTART;TZID=America/Chicago:20260129T110000
DTEND;TZID=America/Chicago:20260129T111500
DTSTAMP:20260422T111241
CREATED:20251231T010722Z
LAST-MODIFIED:20260129T020720Z
UID:10002681-1769684400-1769685300@provplace.com
SUMMARY:Walking Group
DESCRIPTION:
URL:https://provplace.com/event-calendar/walking-group-219/
LOCATION:2S
CATEGORIES:Memory Care
END:VEVENT
BEGIN:VEVENT
DTSTART;TZID=America/Chicago:20260129T103000
DTEND;TZID=America/Chicago:20260129T110000
DTSTAMP:20260422T111241
CREATED:20251231T010722Z
LAST-MODIFIED:20260129T020720Z
UID:10002680-1769682600-1769684400@provplace.com
SUMMARY:Word Games/Trvia
DESCRIPTION:
URL:https://provplace.com/event-calendar/word-games-trvia-5/
LOCATION:2S
CATEGORIES:Memory Care
END:VEVENT
BEGIN:VEVENT
DTSTART;TZID=America/Chicago:20260129T093000
DTEND;TZID=America/Chicago:20260129T100000
DTSTAMP:20260422T111241
CREATED:20260101T010721Z
LAST-MODIFIED:20260129T020720Z
UID:10002712-1769679000-1769680800@provplace.com
SUMMARY:Chakra Healing Music
DESCRIPTION:
URL:https://provplace.com/event-calendar/hymn-sing-along/
LOCATION:2S
CATEGORIES:Memory Care
END:VEVENT
BEGIN:VEVENT
DTSTART;TZID=America/Chicago:20260128T160000
DTEND;TZID=America/Chicago:20260128T163000
DTSTAMP:20260422T111241
CREATED:20251230T005305Z
LAST-MODIFIED:20260128T015220Z
UID:10002661-1769616000-1769617800@provplace.com
SUMMARY:Music Social
DESCRIPTION:
URL:https://provplace.com/event-calendar/music-social-40/
LOCATION:2S
CATEGORIES:Memory Care
END:VEVENT
BEGIN:VEVENT
DTSTART;TZID=America/Chicago:20260128T143000
DTEND;TZID=America/Chicago:20260128T150000
DTSTAMP:20260422T111241
CREATED:20251230T005304Z
LAST-MODIFIED:20260128T015220Z
UID:10002660-1769610600-1769612400@provplace.com
SUMMARY:Coloring Club
DESCRIPTION:
URL:https://provplace.com/event-calendar/coloring-club-36/
CATEGORIES:Memory Care
END:VEVENT
BEGIN:VEVENT
DTSTART;TZID=America/Chicago:20260128T133000
DTEND;TZID=America/Chicago:20260128T140000
DTSTAMP:20260422T111241
CREATED:20260106T012222Z
LAST-MODIFIED:20260128T015220Z
UID:10002749-1769607000-1769608800@provplace.com
SUMMARY:Balloon Ball
DESCRIPTION:
URL:https://provplace.com/event-calendar/exercise-39/
LOCATION:2S
CATEGORIES:Memory Care
END:VEVENT
BEGIN:VEVENT
DTSTART;TZID=America/Chicago:20260128T110000
DTEND;TZID=America/Chicago:20260128T111500
DTSTAMP:20260422T111241
CREATED:20251230T005304Z
LAST-MODIFIED:20260128T015220Z
UID:10002659-1769598000-1769598900@provplace.com
SUMMARY:Walking Group
DESCRIPTION:
URL:https://provplace.com/event-calendar/walking-group-218/
LOCATION:2S
CATEGORIES:Memory Care
END:VEVENT
BEGIN:VEVENT
DTSTART;TZID=America/Chicago:20260128T103000
DTEND;TZID=America/Chicago:20260128T113000
DTSTAMP:20260422T111241
CREATED:20251230T005304Z
LAST-MODIFIED:20260128T015220Z
UID:10002658-1769596200-1769599800@provplace.com
SUMMARY:Hangman
DESCRIPTION:
URL:https://provplace.com/event-calendar/hangman-40/
CATEGORIES:Memory Care
END:VEVENT
BEGIN:VEVENT
DTSTART;TZID=America/Chicago:20260128T093000
DTEND;TZID=America/Chicago:20260128T100000
DTSTAMP:20260422T111241
CREATED:20251230T005304Z
LAST-MODIFIED:20260128T015220Z
UID:10002657-1769592600-1769594400@provplace.com
SUMMARY:Chaplain Chat
DESCRIPTION:
URL:https://provplace.com/event-calendar/chaplain-chat-129/
CATEGORIES:Memory Care
END:VEVENT
BEGIN:VEVENT
DTSTART;TZID=America/Chicago:20260127T180000
DTEND;TZID=America/Chicago:20260127T183000
DTSTAMP:20260422T111241
CREATED:20251229T005223Z
LAST-MODIFIED:20260127T015220Z
UID:10002624-1769536800-1769538600@provplace.com
SUMMARY:Tuesday Motivation
DESCRIPTION:
URL:https://provplace.com/event-calendar/tuesday-motivation-5/
CATEGORIES:Memory Care
END:VEVENT
BEGIN:VEVENT
DTSTART;TZID=America/Chicago:20260127T160000
DTEND;TZID=America/Chicago:20260127T163000
DTSTAMP:20260422T111241
CREATED:20251229T005223Z
LAST-MODIFIED:20260127T015220Z
UID:10002623-1769529600-1769531400@provplace.com
SUMMARY:Teatime Social
DESCRIPTION:
URL:https://provplace.com/event-calendar/teatime-social-12/
CATEGORIES:Memory Care
END:VEVENT
BEGIN:VEVENT
DTSTART;TZID=America/Chicago:20260127T143000
DTEND;TZID=America/Chicago:20260127T153000
DTSTAMP:20260422T111241
CREATED:20251229T005223Z
LAST-MODIFIED:20260127T015220Z
UID:10002622-1769524200-1769527800@provplace.com
SUMMARY:Flower Arranging
DESCRIPTION:
URL:https://provplace.com/event-calendar/flower-arranging-37/
LOCATION:Memory Care
CATEGORIES:Memory Care
END:VEVENT
BEGIN:VEVENT
DTSTART;TZID=America/Chicago:20260127T133000
DTEND;TZID=America/Chicago:20260127T140000
DTSTAMP:20260422T111241
CREATED:20251229T005223Z
LAST-MODIFIED:20260127T015220Z
UID:10002621-1769520600-1769522400@provplace.com
SUMMARY:Exercise: Weights
DESCRIPTION:
URL:https://provplace.com/event-calendar/exercise-weights-53/
LOCATION:2S
CATEGORIES:Memory Care
END:VEVENT
BEGIN:VEVENT
DTSTART;TZID=America/Chicago:20260127T110000
DTEND;TZID=America/Chicago:20260127T111500
DTSTAMP:20260422T111241
CREATED:20251229T005223Z
LAST-MODIFIED:20260127T015220Z
UID:10002620-1769511600-1769512500@provplace.com
SUMMARY:Walking Group
DESCRIPTION:
URL:https://provplace.com/event-calendar/walking-group-213/
LOCATION:2S
CATEGORIES:Memory Care
END:VEVENT
BEGIN:VEVENT
DTSTART;TZID=America/Chicago:20260127T103000
DTEND;TZID=America/Chicago:20260127T113000
DTSTAMP:20260422T111241
CREATED:20260101T010720Z
LAST-MODIFIED:20260127T015220Z
UID:10002711-1769509800-1769513400@provplace.com
SUMMARY:Name 10
DESCRIPTION:
URL:https://provplace.com/event-calendar/name-10-4/
CATEGORIES:Memory Care
END:VEVENT
BEGIN:VEVENT
DTSTART;TZID=America/Chicago:20260127T093000
DTEND;TZID=America/Chicago:20260127T100000
DTSTAMP:20260422T111241
CREATED:20251231T010721Z
LAST-MODIFIED:20260127T015220Z
UID:10002679-1769506200-1769508000@provplace.com
SUMMARY:Spiritual Hymns
DESCRIPTION:
URL:https://provplace.com/event-calendar/spiritual-hymns/
LOCATION:2S
CATEGORIES:Memory Care
END:VEVENT
BEGIN:VEVENT
DTSTART;TZID=America/Chicago:20260126T160000
DTEND;TZID=America/Chicago:20260126T163000
DTSTAMP:20260422T111241
CREATED:20251230T005304Z
LAST-MODIFIED:20260117T012219Z
UID:10002656-1769443200-1769445000@provplace.com
SUMMARY:Winter Races
DESCRIPTION:
URL:https://provplace.com/event-calendar/winter-races-4/
LOCATION:2S
CATEGORIES:Memory Care
END:VEVENT
END:VCALENDAR