BEGIN:VCALENDAR
VERSION:2.0
PRODID:-//Providence Place Senior Living - ECPv6.11.2.1//NONSGML v1.0//EN
CALSCALE:GREGORIAN
METHOD:PUBLISH
X-ORIGINAL-URL:https://provplace.com
X-WR-CALDESC:Events for Providence Place Senior Living
REFRESH-INTERVAL;VALUE=DURATION:PT1H
X-Robots-Tag:noindex
X-PUBLISHED-TTL:PT1H
BEGIN:VTIMEZONE
TZID:America/Chicago
BEGIN:DAYLIGHT
TZOFFSETFROM:-0600
TZOFFSETTO:-0500
TZNAME:CDT
DTSTART:20260308T080000
END:DAYLIGHT
BEGIN:STANDARD
TZOFFSETFROM:-0500
TZOFFSETTO:-0600
TZNAME:CST
DTSTART:20261101T070000
END:STANDARD
END:VTIMEZONE
BEGIN:VEVENT
DTSTART;TZID=America/Chicago:20260206T093000
DTEND;TZID=America/Chicago:20260206T100000
DTSTAMP:20260422T061017
CREATED:20260123T013756Z
LAST-MODIFIED:20260206T022224Z
UID:10002856-1770370200-1770372000@provplace.com
SUMMARY:Bible Study
DESCRIPTION:
URL:https://provplace.com/event-calendar/bible-study-7/
CATEGORIES:Memory Care
END:VEVENT
BEGIN:VEVENT
DTSTART;TZID=America/Chicago:20260205T160000
DTEND;TZID=America/Chicago:20260205T163000
DTSTAMP:20260422T061017
CREATED:20260123T013756Z
LAST-MODIFIED:20260205T022218Z
UID:10002855-1770307200-1770309000@provplace.com
SUMMARY:Bingo
DESCRIPTION:
URL:https://provplace.com/event-calendar/bingo-73/
CATEGORIES:Memory Care
END:VEVENT
BEGIN:VEVENT
DTSTART;TZID=America/Chicago:20260205T141500
DTEND;TZID=America/Chicago:20260205T150000
DTSTAMP:20260422T061017
CREATED:20260123T013756Z
LAST-MODIFIED:20260205T022218Z
UID:10002854-1770300900-1770303600@provplace.com
SUMMARY:Art Adventures
DESCRIPTION:
URL:https://provplace.com/event-calendar/art-adventures-10/
LOCATION:2S
CATEGORIES:Memory Care
END:VEVENT
BEGIN:VEVENT
DTSTART;TZID=America/Chicago:20260205T133000
DTEND;TZID=America/Chicago:20260205T143000
DTSTAMP:20260422T061017
CREATED:20260107T012238Z
LAST-MODIFIED:20260205T022218Z
UID:10002755-1770298200-1770301800@provplace.com
SUMMARY:Balloon Ball
DESCRIPTION:
URL:https://provplace.com/event-calendar/balloon-ball-52/
LOCATION:2S
CATEGORIES:Memory Care
END:VEVENT
BEGIN:VEVENT
DTSTART;TZID=America/Chicago:20260205T110000
DTEND;TZID=America/Chicago:20260205T111500
DTSTAMP:20260422T061017
CREATED:20260107T012238Z
LAST-MODIFIED:20260205T022218Z
UID:10002754-1770289200-1770290100@provplace.com
SUMMARY:Walking Group
DESCRIPTION:
URL:https://provplace.com/event-calendar/walking-group-224/
LOCATION:2S
CATEGORIES:Memory Care
END:VEVENT
BEGIN:VEVENT
DTSTART;TZID=America/Chicago:20260205T103000
DTEND;TZID=America/Chicago:20260205T110000
DTSTAMP:20260422T061017
CREATED:20260116T012232Z
LAST-MODIFIED:20260205T022218Z
UID:10002780-1770287400-1770289200@provplace.com
SUMMARY:Jeopardy!
DESCRIPTION:
URL:https://provplace.com/event-calendar/jeopardy-13/
LOCATION:2S
CATEGORIES:Memory Care
END:VEVENT
BEGIN:VEVENT
DTSTART;TZID=America/Chicago:20260205T093000
DTEND;TZID=America/Chicago:20260205T100000
DTSTAMP:20260422T061017
CREATED:20260128T015221Z
LAST-MODIFIED:20260205T022218Z
UID:10002995-1770283800-1770285600@provplace.com
SUMMARY:Reading: Old Turtle
DESCRIPTION:
URL:https://provplace.com/event-calendar/thats-the-spirit/
LOCATION:2S
CATEGORIES:Memory Care
END:VEVENT
BEGIN:VEVENT
DTSTART;TZID=America/Chicago:20260204T160000
DTEND;TZID=America/Chicago:20260204T163000
DTSTAMP:20260422T061017
CREATED:20260123T013756Z
LAST-MODIFIED:20260204T022215Z
UID:10002853-1770220800-1770222600@provplace.com
SUMMARY:Music Jam: Listener's Choice
DESCRIPTION:
URL:https://provplace.com/event-calendar/music-jam-listeners-choice/
LOCATION:2S
CATEGORIES:Memory Care
END:VEVENT
BEGIN:VEVENT
DTSTART;TZID=America/Chicago:20260204T143000
DTEND;TZID=America/Chicago:20260204T150000
DTSTAMP:20260422T061017
CREATED:20260123T013756Z
LAST-MODIFIED:20260204T022215Z
UID:10002852-1770215400-1770217200@provplace.com
SUMMARY:Coloring Club
DESCRIPTION:
URL:https://provplace.com/event-calendar/coloring-club-41/
CATEGORIES:Memory Care
END:VEVENT
BEGIN:VEVENT
DTSTART;TZID=America/Chicago:20260204T133000
DTEND;TZID=America/Chicago:20260204T140000
DTSTAMP:20260422T061017
CREATED:20260128T015221Z
LAST-MODIFIED:20260204T022215Z
UID:10002994-1770211800-1770213600@provplace.com
SUMMARY:Balloon Ball
DESCRIPTION:
URL:https://provplace.com/event-calendar/balloon-ball-59/
LOCATION:2S
CATEGORIES:Memory Care
END:VEVENT
BEGIN:VEVENT
DTSTART;TZID=America/Chicago:20260204T110000
DTEND;TZID=America/Chicago:20260204T111500
DTSTAMP:20260422T061017
CREATED:20260106T012223Z
LAST-MODIFIED:20260204T022215Z
UID:10002752-1770202800-1770203700@provplace.com
SUMMARY:Walking Group
DESCRIPTION:
URL:https://provplace.com/event-calendar/walking-group-223/
LOCATION:2S
CATEGORIES:Memory Care
END:VEVENT
BEGIN:VEVENT
DTSTART;TZID=America/Chicago:20260204T103000
DTEND;TZID=America/Chicago:20260204T113000
DTSTAMP:20260422T061017
CREATED:20260106T012223Z
LAST-MODIFIED:20260204T022215Z
UID:10002751-1770201000-1770204600@provplace.com
SUMMARY:Hangman
DESCRIPTION:
URL:https://provplace.com/event-calendar/hangman-43/
CATEGORIES:Memory Care
END:VEVENT
BEGIN:VEVENT
DTSTART;TZID=America/Chicago:20260204T093000
DTEND;TZID=America/Chicago:20260204T100000
DTSTAMP:20260422T061017
CREATED:20260123T013756Z
LAST-MODIFIED:20260204T022215Z
UID:10002851-1770197400-1770199200@provplace.com
SUMMARY:Chaplain Chat
DESCRIPTION:
URL:https://provplace.com/event-calendar/chaplain-chat-131/
CATEGORIES:Memory Care
END:VEVENT
BEGIN:VEVENT
DTSTART;TZID=America/Chicago:20260203T180000
DTEND;TZID=America/Chicago:20260203T183000
DTSTAMP:20260422T061017
CREATED:20260123T013756Z
LAST-MODIFIED:20260203T022221Z
UID:10002850-1770141600-1770143400@provplace.com
SUMMARY:Tuesday Motivation
DESCRIPTION:
URL:https://provplace.com/event-calendar/tuesday-motivation-6/
CATEGORIES:Memory Care
END:VEVENT
BEGIN:VEVENT
DTSTART;TZID=America/Chicago:20260203T160000
DTEND;TZID=America/Chicago:20260203T163000
DTSTAMP:20260422T061017
CREATED:20260105T012247Z
LAST-MODIFIED:20260203T022221Z
UID:10002740-1770134400-1770136200@provplace.com
SUMMARY:Teatime Social
DESCRIPTION:
URL:https://provplace.com/event-calendar/teatime-social-13/
CATEGORIES:Memory Care
END:VEVENT
BEGIN:VEVENT
DTSTART;TZID=America/Chicago:20260203T143000
DTEND;TZID=America/Chicago:20260203T153000
DTSTAMP:20260422T061017
CREATED:20260123T013755Z
LAST-MODIFIED:20260203T022221Z
UID:10002849-1770129000-1770132600@provplace.com
SUMMARY:Flower Arranging
DESCRIPTION:
URL:https://provplace.com/event-calendar/flower-arranging-38/
LOCATION:Memory Care
CATEGORIES:Memory Care
END:VEVENT
BEGIN:VEVENT
DTSTART;TZID=America/Chicago:20260203T143000
DTEND;TZID=America/Chicago:20260203T153000
DTSTAMP:20260422T061017
CREATED:20260117T012220Z
LAST-MODIFIED:20260203T030723Z
UID:10002801-1770129000-1770132600@provplace.com
SUMMARY:Reiki With Jane
DESCRIPTION:
URL:https://provplace.com/event-calendar/reiki-with-jane/
CATEGORIES:Long Term Care,Memory Care
END:VEVENT
BEGIN:VEVENT
DTSTART;TZID=America/Chicago:20260203T133000
DTEND;TZID=America/Chicago:20260203T140000
DTSTAMP:20260422T061017
CREATED:20260116T012232Z
LAST-MODIFIED:20260203T022221Z
UID:10002779-1770125400-1770127200@provplace.com
SUMMARY:Exercise: Weights
DESCRIPTION:
URL:https://provplace.com/event-calendar/exercise-weights-55/
LOCATION:2S
CATEGORIES:Memory Care
END:VEVENT
BEGIN:VEVENT
DTSTART;TZID=America/Chicago:20260203T110000
DTEND;TZID=America/Chicago:20260203T111500
DTSTAMP:20260422T061017
CREATED:20260105T012246Z
LAST-MODIFIED:20260203T022221Z
UID:10002739-1770116400-1770117300@provplace.com
SUMMARY:Walking Group
DESCRIPTION:
URL:https://provplace.com/event-calendar/walking-group-222/
LOCATION:2S
CATEGORIES:Memory Care
END:VEVENT
BEGIN:VEVENT
DTSTART;TZID=America/Chicago:20260203T103000
DTEND;TZID=America/Chicago:20260203T113000
DTSTAMP:20260422T061017
CREATED:20260123T013755Z
LAST-MODIFIED:20260203T022221Z
UID:10002848-1770114600-1770118200@provplace.com
SUMMARY:Name 10
DESCRIPTION:
URL:https://provplace.com/event-calendar/name-10-5/
CATEGORIES:Memory Care
END:VEVENT
BEGIN:VEVENT
DTSTART;TZID=America/Chicago:20260203T093000
DTEND;TZID=America/Chicago:20260203T100000
DTSTAMP:20260422T061017
CREATED:20260123T013755Z
LAST-MODIFIED:20260203T022221Z
UID:10002847-1770111000-1770112800@provplace.com
SUMMARY:Favorite Hymns
DESCRIPTION:
URL:https://provplace.com/event-calendar/spiritual-group/
LOCATION:2S
CATEGORIES:Memory Care
END:VEVENT
BEGIN:VEVENT
DTSTART;TZID=America/Chicago:20260202T160000
DTEND;TZID=America/Chicago:20260202T163000
DTSTAMP:20260422T061017
CREATED:20260122T013720Z
LAST-MODIFIED:20260202T022226Z
UID:10002834-1770048000-1770049800@provplace.com
SUMMARY:February Races
DESCRIPTION:
URL:https://provplace.com/event-calendar/february-races/
LOCATION:2S
CATEGORIES:Memory Care
END:VEVENT
BEGIN:VEVENT
DTSTART;TZID=America/Chicago:20260202T143000
DTEND;TZID=America/Chicago:20260202T150000
DTSTAMP:20260422T061017
CREATED:20260123T013755Z
LAST-MODIFIED:20260202T022226Z
UID:10002846-1770042600-1770044400@provplace.com
SUMMARY:Storytime
DESCRIPTION:
URL:https://provplace.com/event-calendar/storytime-10/
LOCATION:2S
CATEGORIES:Memory Care
END:VEVENT
BEGIN:VEVENT
DTSTART;TZID=America/Chicago:20260202T133000
DTEND;TZID=America/Chicago:20260202T140000
DTSTAMP:20260422T061017
CREATED:20260123T013755Z
LAST-MODIFIED:20260202T022226Z
UID:10002845-1770039000-1770040800@provplace.com
SUMMARY:Noodle Stretch & Dance
DESCRIPTION:
URL:https://provplace.com/event-calendar/balloon-ball-55/
LOCATION:2S
CATEGORIES:Memory Care
END:VEVENT
BEGIN:VEVENT
DTSTART;TZID=America/Chicago:20260202T110000
DTEND;TZID=America/Chicago:20260202T111500
DTSTAMP:20260422T061017
CREATED:20260104T012225Z
LAST-MODIFIED:20260202T022225Z
UID:10002737-1770030000-1770030900@provplace.com
SUMMARY:Walking Group
DESCRIPTION:
URL:https://provplace.com/event-calendar/walking-group-221/
LOCATION:2S
CATEGORIES:Memory Care
END:VEVENT
BEGIN:VEVENT
DTSTART;TZID=America/Chicago:20260202T103000
DTEND;TZID=America/Chicago:20260202T110000
DTSTAMP:20260422T061017
CREATED:20260104T012224Z
LAST-MODIFIED:20260128T015220Z
UID:10002736-1770028200-1770030000@provplace.com
SUMMARY:Sing and Spin
DESCRIPTION:
URL:https://provplace.com/event-calendar/sing-and-spin-34/
LOCATION:Memory Care
CATEGORIES:Memory Care
END:VEVENT
BEGIN:VEVENT
DTSTART;TZID=America/Chicago:20260202T093000
DTEND;TZID=America/Chicago:20260202T100000
DTSTAMP:20260422T061017
CREATED:20260123T013755Z
LAST-MODIFIED:20260202T022225Z
UID:10002844-1770024600-1770026400@provplace.com
SUMMARY:Prayer & Praise
DESCRIPTION:
URL:https://provplace.com/event-calendar/prayer-praise-19/
CATEGORIES:Memory Care
END:VEVENT
BEGIN:VEVENT
DTSTART;TZID=America/Chicago:20260201T153000
DTEND;TZID=America/Chicago:20260201T160000
DTSTAMP:20260422T061017
CREATED:20260126T013737Z
LAST-MODIFIED:20260201T022221Z
UID:10002952-1769959800-1769961600@provplace.com
SUMMARY:Bean Bag Toss
DESCRIPTION:
URL:https://provplace.com/event-calendar/bean-bag-toss-25/
LOCATION:2S
CATEGORIES:Memory Care
END:VEVENT
BEGIN:VEVENT
DTSTART;TZID=America/Chicago:20260201T110000
DTEND;TZID=America/Chicago:20260201T111500
DTSTAMP:20260422T061017
CREATED:20260126T013737Z
LAST-MODIFIED:20260201T022221Z
UID:10002951-1769943600-1769944500@provplace.com
SUMMARY:Walking Group
DESCRIPTION:
URL:https://provplace.com/event-calendar/walking-group-237/
LOCATION:2S
CATEGORIES:Memory Care
END:VEVENT
BEGIN:VEVENT
DTSTART;TZID=America/Chicago:20260201T103000
DTEND;TZID=America/Chicago:20260201T110000
DTSTAMP:20260422T061017
CREATED:20260126T013737Z
LAST-MODIFIED:20260201T022221Z
UID:10002950-1769941800-1769943600@provplace.com
SUMMARY:What Am I?
DESCRIPTION:
URL:https://provplace.com/event-calendar/what-am-i-32/
LOCATION:2S
CATEGORIES:Memory Care
END:VEVENT
END:VCALENDAR