BEGIN:VCALENDAR
VERSION:2.0
PRODID:-//Providence Place Senior Living - ECPv6.11.2.1//NONSGML v1.0//EN
CALSCALE:GREGORIAN
METHOD:PUBLISH
X-WR-CALNAME:Providence Place Senior Living
X-ORIGINAL-URL:https://provplace.com
X-WR-CALDESC:Events for Providence Place Senior Living
REFRESH-INTERVAL;VALUE=DURATION:PT1H
X-Robots-Tag:noindex
X-PUBLISHED-TTL:PT1H
BEGIN:VTIMEZONE
TZID:America/Chicago
BEGIN:DAYLIGHT
TZOFFSETFROM:-0600
TZOFFSETTO:-0500
TZNAME:CDT
DTSTART:20260308T080000
END:DAYLIGHT
BEGIN:STANDARD
TZOFFSETFROM:-0500
TZOFFSETTO:-0600
TZNAME:CST
DTSTART:20261101T070000
END:STANDARD
END:VTIMEZONE
BEGIN:VEVENT
DTSTART;TZID=America/Chicago:20260212T143000
DTEND;TZID=America/Chicago:20260212T150000
DTSTAMP:20260421T233120
CREATED:20260116T025222Z
LAST-MODIFIED:20260212T030718Z
UID:10002799-1770906600-1770908400@provplace.com
SUMMARY:Olympic Hockey
DESCRIPTION:
URL:https://provplace.com/event-calendar/arts-and-crafts-frames/
LOCATION:2 North
CATEGORIES:Long Term Care,Memory Care
END:VEVENT
BEGIN:VEVENT
DTSTART;TZID=America/Chicago:20260212T141500
DTEND;TZID=America/Chicago:20260212T150000
DTSTAMP:20260421T233120
CREATED:20260123T013758Z
LAST-MODIFIED:20260128T015223Z
UID:10002868-1770905700-1770908400@provplace.com
SUMMARY:Art Adventures
DESCRIPTION:
URL:https://provplace.com/event-calendar/art-adventures-11/
LOCATION:2S
CATEGORIES:Memory Care
END:VEVENT
BEGIN:VEVENT
DTSTART;TZID=America/Chicago:20260212T133000
DTEND;TZID=America/Chicago:20260212T143000
DTSTAMP:20260421T233120
CREATED:20260114T012224Z
LAST-MODIFIED:20260212T023719Z
UID:10002773-1770903000-1770906600@provplace.com
SUMMARY:Balloon Ball
DESCRIPTION:
URL:https://provplace.com/event-calendar/balloon-ball-53/
LOCATION:2S
CATEGORIES:Memory Care
END:VEVENT
BEGIN:VEVENT
DTSTART;TZID=America/Chicago:20260212T110000
DTEND;TZID=America/Chicago:20260212T111500
DTSTAMP:20260421T233120
CREATED:20260114T012224Z
LAST-MODIFIED:20260212T023719Z
UID:10002772-1770894000-1770894900@provplace.com
SUMMARY:Walking Group
DESCRIPTION:
URL:https://provplace.com/event-calendar/walking-group-229/
LOCATION:2S
CATEGORIES:Memory Care
END:VEVENT
BEGIN:VEVENT
DTSTART;TZID=America/Chicago:20260212T103000
DTEND;TZID=America/Chicago:20260212T110000
DTSTAMP:20260421T233120
CREATED:20260116T012234Z
LAST-MODIFIED:20260212T023719Z
UID:10002786-1770892200-1770894000@provplace.com
SUMMARY:Jeopardy!
DESCRIPTION:
URL:https://provplace.com/event-calendar/jeopardy-14/
LOCATION:2S
CATEGORIES:Memory Care
END:VEVENT
BEGIN:VEVENT
DTSTART;TZID=America/Chicago:20260212T093000
DTEND;TZID=America/Chicago:20260212T100000
DTSTAMP:20260421T233120
CREATED:20260128T015223Z
LAST-MODIFIED:20260130T020734Z
UID:10002997-1770888600-1770890400@provplace.com
SUMMARY:Reflections of Love
DESCRIPTION:
URL:https://provplace.com/event-calendar/thats-the-spirit-2/
LOCATION:2S
CATEGORIES:Memory Care
END:VEVENT
BEGIN:VEVENT
DTSTART;TZID=America/Chicago:20260211T160000
DTEND;TZID=America/Chicago:20260211T163000
DTSTAMP:20260421T233120
CREATED:20260123T013758Z
LAST-MODIFIED:20260211T023721Z
UID:10002867-1770825600-1770827400@provplace.com
SUMMARY:Music Jam: Listener's Choice
DESCRIPTION:
URL:https://provplace.com/event-calendar/music-jam-listeners-choice-2/
LOCATION:2S
CATEGORIES:Memory Care
END:VEVENT
BEGIN:VEVENT
DTSTART;TZID=America/Chicago:20260211T143000
DTEND;TZID=America/Chicago:20260211T153000
DTSTAMP:20260421T233120
CREATED:20260123T013758Z
LAST-MODIFIED:20260211T030718Z
UID:10002865-1770820200-1770823800@provplace.com
SUMMARY:Olympic Jeopardy
DESCRIPTION:
URL:https://provplace.com/event-calendar/olympic-jeopardy/
LOCATION:2 North
CATEGORIES:Long Term Care,Memory Care
END:VEVENT
BEGIN:VEVENT
DTSTART;TZID=America/Chicago:20260211T143000
DTEND;TZID=America/Chicago:20260211T150000
DTSTAMP:20260421T233120
CREATED:20260123T013758Z
LAST-MODIFIED:20260127T015224Z
UID:10002866-1770820200-1770822000@provplace.com
SUMMARY:Coloring Club
DESCRIPTION:
URL:https://provplace.com/event-calendar/coloring-club-42/
CATEGORIES:Memory Care
END:VEVENT
BEGIN:VEVENT
DTSTART;TZID=America/Chicago:20260211T133000
DTEND;TZID=America/Chicago:20260211T140000
DTSTAMP:20260421T233120
CREATED:20260128T015223Z
LAST-MODIFIED:20260211T023721Z
UID:10002996-1770816600-1770818400@provplace.com
SUMMARY:Balloon Ball
DESCRIPTION:
URL:https://provplace.com/event-calendar/balloon-ball-60/
LOCATION:2S
CATEGORIES:Memory Care
END:VEVENT
BEGIN:VEVENT
DTSTART;TZID=America/Chicago:20260211T110000
DTEND;TZID=America/Chicago:20260211T111500
DTSTAMP:20260421T233120
CREATED:20260113T012222Z
LAST-MODIFIED:20260211T023721Z
UID:10002770-1770807600-1770808500@provplace.com
SUMMARY:Walking Group
DESCRIPTION:
URL:https://provplace.com/event-calendar/walking-group-228/
LOCATION:2S
CATEGORIES:Memory Care
END:VEVENT
BEGIN:VEVENT
DTSTART;TZID=America/Chicago:20260211T103000
DTEND;TZID=America/Chicago:20260211T113000
DTSTAMP:20260421T233120
CREATED:20260113T012222Z
LAST-MODIFIED:20260211T023721Z
UID:10002769-1770805800-1770809400@provplace.com
SUMMARY:Hangman
DESCRIPTION:
URL:https://provplace.com/event-calendar/hangman-44/
CATEGORIES:Memory Care
END:VEVENT
BEGIN:VEVENT
DTSTART;TZID=America/Chicago:20260211T093000
DTEND;TZID=America/Chicago:20260211T100000
DTSTAMP:20260421T233120
CREATED:20260123T013758Z
LAST-MODIFIED:20260211T023721Z
UID:10002864-1770802200-1770804000@provplace.com
SUMMARY:Chaplain Chat
DESCRIPTION:
URL:https://provplace.com/event-calendar/chaplain-chat-132/
CATEGORIES:Memory Care
END:VEVENT
BEGIN:VEVENT
DTSTART;TZID=America/Chicago:20260210T180000
DTEND;TZID=America/Chicago:20260210T183000
DTSTAMP:20260421T233120
CREATED:20260123T013758Z
LAST-MODIFIED:20260210T022219Z
UID:10002863-1770746400-1770748200@provplace.com
SUMMARY:Tuesday Motivation
DESCRIPTION:
URL:https://provplace.com/event-calendar/tuesday-motivation-7/
CATEGORIES:Memory Care
END:VEVENT
BEGIN:VEVENT
DTSTART;TZID=America/Chicago:20260210T160000
DTEND;TZID=America/Chicago:20260210T163000
DTSTAMP:20260421T233120
CREATED:20260112T012237Z
LAST-MODIFIED:20260210T022219Z
UID:10002766-1770739200-1770741000@provplace.com
SUMMARY:Teatime Social
DESCRIPTION:
URL:https://provplace.com/event-calendar/teatime-social-14/
CATEGORIES:Memory Care
END:VEVENT
BEGIN:VEVENT
DTSTART;TZID=America/Chicago:20260210T143000
DTEND;TZID=America/Chicago:20260210T153000
DTSTAMP:20260421T233120
CREATED:20260117T012221Z
LAST-MODIFIED:20260210T030721Z
UID:10002802-1770733800-1770737400@provplace.com
SUMMARY:Reiki With Jane
DESCRIPTION:
URL:https://provplace.com/event-calendar/reiki-with-jane-2/
CATEGORIES:Long Term Care,Memory Care
END:VEVENT
BEGIN:VEVENT
DTSTART;TZID=America/Chicago:20260210T143000
DTEND;TZID=America/Chicago:20260210T150000
DTSTAMP:20260421T233120
CREATED:20260123T013758Z
LAST-MODIFIED:20260210T030721Z
UID:10002862-1770733800-1770735600@provplace.com
SUMMARY:Olympic Speed Skating Race
DESCRIPTION:
URL:https://provplace.com/event-calendar/olympic-speed-skating-race/
LOCATION:2 North
CATEGORIES:Long Term Care,Memory Care
END:VEVENT
BEGIN:VEVENT
DTSTART;TZID=America/Chicago:20260210T133000
DTEND;TZID=America/Chicago:20260210T140000
DTSTAMP:20260421T233120
CREATED:20260116T012233Z
LAST-MODIFIED:20260210T022218Z
UID:10002785-1770730200-1770732000@provplace.com
SUMMARY:Exercise: Weights
DESCRIPTION:
URL:https://provplace.com/event-calendar/exercise-weights-56/
LOCATION:2S
CATEGORIES:Memory Care
END:VEVENT
BEGIN:VEVENT
DTSTART;TZID=America/Chicago:20260210T110000
DTEND;TZID=America/Chicago:20260210T111500
DTSTAMP:20260421T233120
CREATED:20260112T012237Z
LAST-MODIFIED:20260210T022218Z
UID:10002765-1770721200-1770722100@provplace.com
SUMMARY:Walking Group
DESCRIPTION:
URL:https://provplace.com/event-calendar/walking-group-227/
LOCATION:2S
CATEGORIES:Memory Care
END:VEVENT
BEGIN:VEVENT
DTSTART;TZID=America/Chicago:20260210T103000
DTEND;TZID=America/Chicago:20260210T113000
DTSTAMP:20260421T233120
CREATED:20260123T013758Z
LAST-MODIFIED:20260210T022218Z
UID:10002861-1770719400-1770723000@provplace.com
SUMMARY:Name 10
DESCRIPTION:
URL:https://provplace.com/event-calendar/name-10-6/
CATEGORIES:Memory Care
END:VEVENT
BEGIN:VEVENT
DTSTART;TZID=America/Chicago:20260210T093000
DTEND;TZID=America/Chicago:20260210T101500
DTSTAMP:20260421T233120
CREATED:20260123T013758Z
LAST-MODIFIED:20260210T022218Z
UID:10002860-1770715800-1770718500@provplace.com
SUMMARY:Valentines Craft!
DESCRIPTION:
URL:https://provplace.com/event-calendar/spiritual-group-2/
LOCATION:2S
CATEGORIES:Memory Care
END:VEVENT
BEGIN:VEVENT
DTSTART;TZID=America/Chicago:20260209T160000
DTEND;TZID=America/Chicago:20260209T163000
DTSTAMP:20260421T233120
CREATED:20260122T013721Z
LAST-MODIFIED:20260209T022221Z
UID:10002835-1770652800-1770654600@provplace.com
SUMMARY:February Races
DESCRIPTION:
URL:https://provplace.com/event-calendar/february-races-2/
LOCATION:2S
CATEGORIES:Memory Care
END:VEVENT
BEGIN:VEVENT
DTSTART;TZID=America/Chicago:20260209T143000
DTEND;TZID=America/Chicago:20260209T150000
DTSTAMP:20260421T233120
CREATED:20260129T020723Z
LAST-MODIFIED:20260209T022221Z
UID:10003017-1770647400-1770649200@provplace.com
SUMMARY:Storytime
DESCRIPTION:
URL:https://provplace.com/event-calendar/storytime-11/
LOCATION:2S
CATEGORIES:Memory Care
END:VEVENT
BEGIN:VEVENT
DTSTART;TZID=America/Chicago:20260209T133000
DTEND;TZID=America/Chicago:20260209T140000
DTSTAMP:20260421T233120
CREATED:20260123T013757Z
LAST-MODIFIED:20260209T030718Z
UID:10002858-1770643800-1770645600@provplace.com
SUMMARY:Olympic Basketball
DESCRIPTION:
URL:https://provplace.com/event-calendar/olympic-basketball/
LOCATION:2 North
CATEGORIES:Long Term Care,Memory Care
END:VEVENT
BEGIN:VEVENT
DTSTART;TZID=America/Chicago:20260209T133000
DTEND;TZID=America/Chicago:20260209T140000
DTSTAMP:20260421T233120
CREATED:20260123T013757Z
LAST-MODIFIED:20260127T015223Z
UID:10002859-1770643800-1770645600@provplace.com
SUMMARY:Balloon Ball
DESCRIPTION:
URL:https://provplace.com/event-calendar/balloon-ball-56/
LOCATION:2S
CATEGORIES:Memory Care
END:VEVENT
BEGIN:VEVENT
DTSTART;TZID=America/Chicago:20260209T110000
DTEND;TZID=America/Chicago:20260209T111500
DTSTAMP:20260421T233120
CREATED:20260111T012220Z
LAST-MODIFIED:20260209T022220Z
UID:10002763-1770634800-1770635700@provplace.com
SUMMARY:Walking Group
DESCRIPTION:
URL:https://provplace.com/event-calendar/walking-group-226/
LOCATION:2S
CATEGORIES:Memory Care
END:VEVENT
BEGIN:VEVENT
DTSTART;TZID=America/Chicago:20260209T103000
DTEND;TZID=America/Chicago:20260209T110000
DTSTAMP:20260421T233120
CREATED:20260203T022222Z
LAST-MODIFIED:20260209T022220Z
UID:10003053-1770633000-1770634800@provplace.com
SUMMARY:Spin and Sing
DESCRIPTION:
URL:https://provplace.com/event-calendar/spin-and-sing-10/
LOCATION:2S
CATEGORIES:Memory Care
END:VEVENT
BEGIN:VEVENT
DTSTART;TZID=America/Chicago:20260209T103000
DTEND;TZID=America/Chicago:20260209T110000
DTSTAMP:20260421T233120
CREATED:20260111T012220Z
LAST-MODIFIED:20260128T015222Z
UID:10002762-1770633000-1770634800@provplace.com
SUMMARY:Sing and Spin
DESCRIPTION:
URL:https://provplace.com/event-calendar/sing-and-spin-35/
LOCATION:Memory Care
CATEGORIES:Memory Care
END:VEVENT
BEGIN:VEVENT
DTSTART;TZID=America/Chicago:20260209T093000
DTEND;TZID=America/Chicago:20260209T100000
DTSTAMP:20260421T233120
CREATED:20260123T013757Z
LAST-MODIFIED:20260209T022220Z
UID:10002857-1770629400-1770631200@provplace.com
SUMMARY:Prayer & Praise
DESCRIPTION:
URL:https://provplace.com/event-calendar/prayer-praise-20/
CATEGORIES:Memory Care
END:VEVENT
BEGIN:VEVENT
DTSTART;TZID=America/Chicago:20260208T153000
DTEND;TZID=America/Chicago:20260208T160000
DTSTAMP:20260421T233120
CREATED:20260126T013739Z
LAST-MODIFIED:20260208T022223Z
UID:10002956-1770564600-1770566400@provplace.com
SUMMARY:Bean Bag Toss
DESCRIPTION:
URL:https://provplace.com/event-calendar/bean-bag-toss-26/
LOCATION:2S
CATEGORIES:Memory Care
END:VEVENT
END:VCALENDAR