BEGIN:VCALENDAR
VERSION:2.0
PRODID:-//Providence Place Senior Living - ECPv6.11.2.1//NONSGML v1.0//EN
CALSCALE:GREGORIAN
METHOD:PUBLISH
X-WR-CALNAME:Providence Place Senior Living
X-ORIGINAL-URL:https://provplace.com
X-WR-CALDESC:Events for Providence Place Senior Living
REFRESH-INTERVAL;VALUE=DURATION:PT1H
X-Robots-Tag:noindex
X-PUBLISHED-TTL:PT1H
BEGIN:VTIMEZONE
TZID:America/Chicago
BEGIN:DAYLIGHT
TZOFFSETFROM:-0600
TZOFFSETTO:-0500
TZNAME:CDT
DTSTART:20260308T080000
END:DAYLIGHT
BEGIN:STANDARD
TZOFFSETFROM:-0500
TZOFFSETTO:-0600
TZNAME:CST
DTSTART:20261101T070000
END:STANDARD
END:VTIMEZONE
BEGIN:VEVENT
DTSTART;TZID=America/Chicago:20260216T133000
DTEND;TZID=America/Chicago:20260216T140000
DTSTAMP:20260421T200102
CREATED:20260123T013759Z
LAST-MODIFIED:20260127T015225Z
UID:10002874-1771248600-1771250400@provplace.com
SUMMARY:Balloon Ball
DESCRIPTION:
URL:https://provplace.com/event-calendar/balloon-ball-57/
LOCATION:2S
CATEGORIES:Memory Care
END:VEVENT
BEGIN:VEVENT
DTSTART;TZID=America/Chicago:20260216T133000
DTEND;TZID=America/Chicago:20260216T140000
DTSTAMP:20260421T200102
CREATED:20260122T013722Z
LAST-MODIFIED:20260216T025219Z
UID:10002836-1771248600-1771250400@provplace.com
SUMMARY:February Races
DESCRIPTION:
URL:https://provplace.com/event-calendar/february-races-3/
LOCATION:2S
CATEGORIES:Memory Care
END:VEVENT
BEGIN:VEVENT
DTSTART;TZID=America/Chicago:20260216T110000
DTEND;TZID=America/Chicago:20260216T111500
DTSTAMP:20260421T200102
CREATED:20260118T012249Z
LAST-MODIFIED:20260216T025219Z
UID:10002806-1771239600-1771240500@provplace.com
SUMMARY:Walking Group
DESCRIPTION:
URL:https://provplace.com/event-calendar/walking-group-231/
LOCATION:2S
CATEGORIES:Memory Care
END:VEVENT
BEGIN:VEVENT
DTSTART;TZID=America/Chicago:20260216T103000
DTEND;TZID=America/Chicago:20260216T110000
DTSTAMP:20260421T200102
CREATED:20260203T022223Z
LAST-MODIFIED:20260206T022230Z
UID:10003054-1771237800-1771239600@provplace.com
SUMMARY:Spin and Sing
DESCRIPTION:
URL:https://provplace.com/event-calendar/spin-and-sing-11/
LOCATION:2S
CATEGORIES:Memory Care
END:VEVENT
BEGIN:VEVENT
DTSTART;TZID=America/Chicago:20260216T103000
DTEND;TZID=America/Chicago:20260216T110000
DTSTAMP:20260421T200102
CREATED:20260118T012249Z
LAST-MODIFIED:20260216T025219Z
UID:10002805-1771237800-1771239600@provplace.com
SUMMARY:Finish the Lyrics
DESCRIPTION:
URL:https://provplace.com/event-calendar/sing-and-spin-36/
LOCATION:Memory Care
CATEGORIES:Memory Care
END:VEVENT
BEGIN:VEVENT
DTSTART;TZID=America/Chicago:20260216T093000
DTEND;TZID=America/Chicago:20260216T100000
DTSTAMP:20260421T200102
CREATED:20260123T013759Z
LAST-MODIFIED:20260128T015224Z
UID:10002873-1771234200-1771236000@provplace.com
SUMMARY:Prayer & Praise
DESCRIPTION:
URL:https://provplace.com/event-calendar/prayer-praise-21/
CATEGORIES:Memory Care
END:VEVENT
BEGIN:VEVENT
DTSTART;TZID=America/Chicago:20260215T153000
DTEND;TZID=America/Chicago:20260215T160000
DTSTAMP:20260421T200102
CREATED:20260126T013742Z
LAST-MODIFIED:20260215T025218Z
UID:10002959-1771169400-1771171200@provplace.com
SUMMARY:Bean Bag Toss
DESCRIPTION:
URL:https://provplace.com/event-calendar/bean-bag-toss-27/
LOCATION:2S
CATEGORIES:Memory Care
END:VEVENT
BEGIN:VEVENT
DTSTART;TZID=America/Chicago:20260215T110000
DTEND;TZID=America/Chicago:20260215T111500
DTSTAMP:20260421T200102
CREATED:20260126T013741Z
LAST-MODIFIED:20260215T025218Z
UID:10002958-1771153200-1771154100@provplace.com
SUMMARY:Walking Group
DESCRIPTION:
URL:https://provplace.com/event-calendar/walking-group-239/
LOCATION:2S
CATEGORIES:Memory Care
END:VEVENT
BEGIN:VEVENT
DTSTART;TZID=America/Chicago:20260215T103000
DTEND;TZID=America/Chicago:20260215T110000
DTSTAMP:20260421T200102
CREATED:20260126T013741Z
LAST-MODIFIED:20260215T025217Z
UID:10002957-1771151400-1771153200@provplace.com
SUMMARY:What Am I?
DESCRIPTION:
URL:https://provplace.com/event-calendar/what-am-i-34/
LOCATION:2S
CATEGORIES:Memory Care
END:VEVENT
BEGIN:VEVENT
DTSTART;TZID=America/Chicago:20260214T153000
DTEND;TZID=America/Chicago:20260214T160000
DTSTAMP:20260421T200102
CREATED:20260123T013759Z
LAST-MODIFIED:20260214T030724Z
UID:10002872-1771083000-1771084800@provplace.com
SUMMARY:Valentine's Day Social
DESCRIPTION:
URL:https://provplace.com/event-calendar/valentines-day-social/
LOCATION:2 North
CATEGORIES:Long Term Care,Memory Care
END:VEVENT
BEGIN:VEVENT
DTSTART;TZID=America/Chicago:20260214T143000
DTEND;TZID=America/Chicago:20260214T150000
DTSTAMP:20260421T200102
CREATED:20260116T012234Z
LAST-MODIFIED:20260214T025218Z
UID:10002790-1771079400-1771081200@provplace.com
SUMMARY:Lets Move!
DESCRIPTION:
URL:https://provplace.com/event-calendar/lets-move-2/
LOCATION:2S
CATEGORIES:Memory Care
END:VEVENT
BEGIN:VEVENT
DTSTART;TZID=America/Chicago:20260214T093000
DTEND;TZID=America/Chicago:20260214T100000
DTSTAMP:20260421T200102
CREATED:20260116T012234Z
LAST-MODIFIED:20260214T025218Z
UID:10002789-1771061400-1771063200@provplace.com
SUMMARY:Categories!
DESCRIPTION:
URL:https://provplace.com/event-calendar/categories-24/
LOCATION:2S
CATEGORIES:Memory Care
END:VEVENT
BEGIN:VEVENT
DTSTART;TZID=America/Chicago:20260213T160000
DTEND;TZID=America/Chicago:20260213T160000
DTSTAMP:20260421T200102
CREATED:20260116T012234Z
LAST-MODIFIED:20260213T023721Z
UID:10002788-1770998400-1770998400@provplace.com
SUMMARY:Story Time: Little House in the Big Woods
DESCRIPTION:
URL:https://provplace.com/event-calendar/story-time-little-house-in-the-big-woods-2/
LOCATION:2S
CATEGORIES:Memory Care
END:VEVENT
BEGIN:VEVENT
DTSTART;TZID=America/Chicago:20260213T143000
DTEND;TZID=America/Chicago:20260213T150000
DTSTAMP:20260421T200102
CREATED:20260123T013759Z
LAST-MODIFIED:20260213T030717Z
UID:10002871-1770993000-1770994800@provplace.com
SUMMARY:Olympic Closing Ceremony
DESCRIPTION:
URL:https://provplace.com/event-calendar/olympic-closing-ceremony/
LOCATION:2 North
CATEGORIES:Long Term Care,Memory Care
END:VEVENT
BEGIN:VEVENT
DTSTART;TZID=America/Chicago:20260213T143000
DTEND;TZID=America/Chicago:20260213T150000
DTSTAMP:20260421T200102
CREATED:20260115T012228Z
LAST-MODIFIED:20260122T013721Z
UID:10002777-1770993000-1770994800@provplace.com
SUMMARY:Nail Care
DESCRIPTION:
URL:https://provplace.com/event-calendar/nail-care-29/
LOCATION:2S
CATEGORIES:Memory Care
END:VEVENT
BEGIN:VEVENT
DTSTART;TZID=America/Chicago:20260213T133000
DTEND;TZID=America/Chicago:20260213T140000
DTSTAMP:20260421T200102
CREATED:20260116T012234Z
LAST-MODIFIED:20260213T023720Z
UID:10002787-1770989400-1770991200@provplace.com
SUMMARY:Chair Exercise
DESCRIPTION:
URL:https://provplace.com/event-calendar/chair-exercise-15/
LOCATION:2S
CATEGORIES:Memory Care
END:VEVENT
BEGIN:VEVENT
DTSTART;TZID=America/Chicago:20260213T110000
DTEND;TZID=America/Chicago:20260213T111500
DTSTAMP:20260421T200102
CREATED:20260115T012227Z
LAST-MODIFIED:20260213T023720Z
UID:10002776-1770980400-1770981300@provplace.com
SUMMARY:Walking Group
DESCRIPTION:
URL:https://provplace.com/event-calendar/walking-group-230/
LOCATION:2S
CATEGORIES:Memory Care
END:VEVENT
BEGIN:VEVENT
DTSTART;TZID=America/Chicago:20260213T103000
DTEND;TZID=America/Chicago:20260213T113000
DTSTAMP:20260421T200102
CREATED:20260115T012227Z
LAST-MODIFIED:20260213T023720Z
UID:10002775-1770978600-1770982200@provplace.com
SUMMARY:Talk to Me
DESCRIPTION:
URL:https://provplace.com/event-calendar/talk-to-me-39/
LOCATION:2S
CATEGORIES:Memory Care
END:VEVENT
BEGIN:VEVENT
DTSTART;TZID=America/Chicago:20260213T093000
DTEND;TZID=America/Chicago:20260213T100000
DTSTAMP:20260421T200102
CREATED:20260123T013758Z
LAST-MODIFIED:20260213T023720Z
UID:10002870-1770975000-1770976800@provplace.com
SUMMARY:Bible Study
DESCRIPTION:
URL:https://provplace.com/event-calendar/bible-study-8/
CATEGORIES:Memory Care
END:VEVENT
BEGIN:VEVENT
DTSTART;TZID=America/Chicago:20260212T160000
DTEND;TZID=America/Chicago:20260212T163000
DTSTAMP:20260421T200102
CREATED:20260123T013758Z
LAST-MODIFIED:20260212T023720Z
UID:10002869-1770912000-1770913800@provplace.com
SUMMARY:Bingo
DESCRIPTION:
URL:https://provplace.com/event-calendar/bingo-74/
CATEGORIES:Memory Care
END:VEVENT
BEGIN:VEVENT
DTSTART;TZID=America/Chicago:20260212T143000
DTEND;TZID=America/Chicago:20260212T150000
DTSTAMP:20260421T200102
CREATED:20260116T025222Z
LAST-MODIFIED:20260212T030718Z
UID:10002799-1770906600-1770908400@provplace.com
SUMMARY:Olympic Hockey
DESCRIPTION:
URL:https://provplace.com/event-calendar/arts-and-crafts-frames/
LOCATION:2 North
CATEGORIES:Long Term Care,Memory Care
END:VEVENT
BEGIN:VEVENT
DTSTART;TZID=America/Chicago:20260212T141500
DTEND;TZID=America/Chicago:20260212T150000
DTSTAMP:20260421T200102
CREATED:20260123T013758Z
LAST-MODIFIED:20260128T015223Z
UID:10002868-1770905700-1770908400@provplace.com
SUMMARY:Art Adventures
DESCRIPTION:
URL:https://provplace.com/event-calendar/art-adventures-11/
LOCATION:2S
CATEGORIES:Memory Care
END:VEVENT
BEGIN:VEVENT
DTSTART;TZID=America/Chicago:20260212T133000
DTEND;TZID=America/Chicago:20260212T143000
DTSTAMP:20260421T200102
CREATED:20260114T012224Z
LAST-MODIFIED:20260212T023719Z
UID:10002773-1770903000-1770906600@provplace.com
SUMMARY:Balloon Ball
DESCRIPTION:
URL:https://provplace.com/event-calendar/balloon-ball-53/
LOCATION:2S
CATEGORIES:Memory Care
END:VEVENT
BEGIN:VEVENT
DTSTART;TZID=America/Chicago:20260212T110000
DTEND;TZID=America/Chicago:20260212T111500
DTSTAMP:20260421T200102
CREATED:20260114T012224Z
LAST-MODIFIED:20260212T023719Z
UID:10002772-1770894000-1770894900@provplace.com
SUMMARY:Walking Group
DESCRIPTION:
URL:https://provplace.com/event-calendar/walking-group-229/
LOCATION:2S
CATEGORIES:Memory Care
END:VEVENT
BEGIN:VEVENT
DTSTART;TZID=America/Chicago:20260212T103000
DTEND;TZID=America/Chicago:20260212T110000
DTSTAMP:20260421T200102
CREATED:20260116T012234Z
LAST-MODIFIED:20260212T023719Z
UID:10002786-1770892200-1770894000@provplace.com
SUMMARY:Jeopardy!
DESCRIPTION:
URL:https://provplace.com/event-calendar/jeopardy-14/
LOCATION:2S
CATEGORIES:Memory Care
END:VEVENT
BEGIN:VEVENT
DTSTART;TZID=America/Chicago:20260212T093000
DTEND;TZID=America/Chicago:20260212T100000
DTSTAMP:20260421T200102
CREATED:20260128T015223Z
LAST-MODIFIED:20260130T020734Z
UID:10002997-1770888600-1770890400@provplace.com
SUMMARY:Reflections of Love
DESCRIPTION:
URL:https://provplace.com/event-calendar/thats-the-spirit-2/
LOCATION:2S
CATEGORIES:Memory Care
END:VEVENT
BEGIN:VEVENT
DTSTART;TZID=America/Chicago:20260211T160000
DTEND;TZID=America/Chicago:20260211T163000
DTSTAMP:20260421T200102
CREATED:20260123T013758Z
LAST-MODIFIED:20260211T023721Z
UID:10002867-1770825600-1770827400@provplace.com
SUMMARY:Music Jam: Listener's Choice
DESCRIPTION:
URL:https://provplace.com/event-calendar/music-jam-listeners-choice-2/
LOCATION:2S
CATEGORIES:Memory Care
END:VEVENT
BEGIN:VEVENT
DTSTART;TZID=America/Chicago:20260211T143000
DTEND;TZID=America/Chicago:20260211T153000
DTSTAMP:20260421T200102
CREATED:20260123T013758Z
LAST-MODIFIED:20260211T030718Z
UID:10002865-1770820200-1770823800@provplace.com
SUMMARY:Olympic Jeopardy
DESCRIPTION:
URL:https://provplace.com/event-calendar/olympic-jeopardy/
LOCATION:2 North
CATEGORIES:Long Term Care,Memory Care
END:VEVENT
BEGIN:VEVENT
DTSTART;TZID=America/Chicago:20260211T143000
DTEND;TZID=America/Chicago:20260211T150000
DTSTAMP:20260421T200102
CREATED:20260123T013758Z
LAST-MODIFIED:20260127T015224Z
UID:10002866-1770820200-1770822000@provplace.com
SUMMARY:Coloring Club
DESCRIPTION:
URL:https://provplace.com/event-calendar/coloring-club-42/
CATEGORIES:Memory Care
END:VEVENT
BEGIN:VEVENT
DTSTART;TZID=America/Chicago:20260211T133000
DTEND;TZID=America/Chicago:20260211T140000
DTSTAMP:20260421T200102
CREATED:20260128T015223Z
LAST-MODIFIED:20260211T023721Z
UID:10002996-1770816600-1770818400@provplace.com
SUMMARY:Balloon Ball
DESCRIPTION:
URL:https://provplace.com/event-calendar/balloon-ball-60/
LOCATION:2S
CATEGORIES:Memory Care
END:VEVENT
END:VCALENDAR