BEGIN:VCALENDAR
VERSION:2.0
PRODID:-//Providence Place Senior Living - ECPv6.11.2.1//NONSGML v1.0//EN
CALSCALE:GREGORIAN
METHOD:PUBLISH
X-ORIGINAL-URL:https://provplace.com
X-WR-CALDESC:Events for Providence Place Senior Living
REFRESH-INTERVAL;VALUE=DURATION:PT1H
X-Robots-Tag:noindex
X-PUBLISHED-TTL:PT1H
BEGIN:VTIMEZONE
TZID:America/Chicago
BEGIN:DAYLIGHT
TZOFFSETFROM:-0600
TZOFFSETTO:-0500
TZNAME:CDT
DTSTART:20260308T080000
END:DAYLIGHT
BEGIN:STANDARD
TZOFFSETFROM:-0500
TZOFFSETTO:-0600
TZNAME:CST
DTSTART:20261101T070000
END:STANDARD
END:VTIMEZONE
BEGIN:VEVENT
DTSTART;TZID=America/Chicago:20260219T133000
DTEND;TZID=America/Chicago:20260219T143000
DTSTAMP:20260421T165034
CREATED:20260121T013727Z
LAST-MODIFIED:20260219T032231Z
UID:10002826-1771507800-1771511400@provplace.com
SUMMARY:Balloon Ball
DESCRIPTION:
URL:https://provplace.com/event-calendar/balloon-ball-54/
LOCATION:2S
CATEGORIES:Memory Care
END:VEVENT
BEGIN:VEVENT
DTSTART;TZID=America/Chicago:20260219T110000
DTEND;TZID=America/Chicago:20260219T111500
DTSTAMP:20260421T165034
CREATED:20260121T013727Z
LAST-MODIFIED:20260219T032230Z
UID:10002825-1771498800-1771499700@provplace.com
SUMMARY:Walking Group
DESCRIPTION:
URL:https://provplace.com/event-calendar/walking-group-234/
LOCATION:2S
CATEGORIES:Memory Care
END:VEVENT
BEGIN:VEVENT
DTSTART;TZID=America/Chicago:20260219T103000
DTEND;TZID=America/Chicago:20260219T110000
DTSTAMP:20260421T165035
CREATED:20260121T013727Z
LAST-MODIFIED:20260219T032230Z
UID:10002824-1771497000-1771498800@provplace.com
SUMMARY:Jeopardy!
DESCRIPTION:
URL:https://provplace.com/event-calendar/jeopardy-15/
LOCATION:2S
CATEGORIES:Memory Care
END:VEVENT
BEGIN:VEVENT
DTSTART;TZID=America/Chicago:20260219T093000
DTEND;TZID=America/Chicago:20260219T100000
DTSTAMP:20260421T165035
CREATED:20260128T015224Z
LAST-MODIFIED:20260219T032229Z
UID:10002999-1771493400-1771495200@provplace.com
SUMMARY:Reflections of Life: The Secret Joy of an Ordinary Life
DESCRIPTION:
URL:https://provplace.com/event-calendar/thats-the-spirit-3/
LOCATION:2S
CATEGORIES:Memory Care
END:VEVENT
BEGIN:VEVENT
DTSTART;TZID=America/Chicago:20260218T160000
DTEND;TZID=America/Chicago:20260218T163000
DTSTAMP:20260421T165035
CREATED:20260123T013800Z
LAST-MODIFIED:20260218T032221Z
UID:10002881-1771430400-1771432200@provplace.com
SUMMARY:Music Jam: Listener's Choice
DESCRIPTION:
URL:https://provplace.com/event-calendar/music-jam-listeners-choice-3/
LOCATION:2S
CATEGORIES:Memory Care
END:VEVENT
BEGIN:VEVENT
DTSTART;TZID=America/Chicago:20260218T143000
DTEND;TZID=America/Chicago:20260218T150000
DTSTAMP:20260421T165035
CREATED:20260123T013800Z
LAST-MODIFIED:20260218T032220Z
UID:10002880-1771425000-1771426800@provplace.com
SUMMARY:Coloring Club
DESCRIPTION:
URL:https://provplace.com/event-calendar/coloring-club-43/
CATEGORIES:Memory Care
END:VEVENT
BEGIN:VEVENT
DTSTART;TZID=America/Chicago:20260218T133000
DTEND;TZID=America/Chicago:20260218T140000
DTSTAMP:20260421T165035
CREATED:20260128T015224Z
LAST-MODIFIED:20260218T032220Z
UID:10002998-1771421400-1771423200@provplace.com
SUMMARY:Balloon Ball
DESCRIPTION:
URL:https://provplace.com/event-calendar/balloon-ball-61/
LOCATION:2S
CATEGORIES:Memory Care
END:VEVENT
BEGIN:VEVENT
DTSTART;TZID=America/Chicago:20260218T110000
DTEND;TZID=America/Chicago:20260218T111500
DTSTAMP:20260421T165035
CREATED:20260120T013730Z
LAST-MODIFIED:20260218T032220Z
UID:10002820-1771412400-1771413300@provplace.com
SUMMARY:Walking Group
DESCRIPTION:
URL:https://provplace.com/event-calendar/walking-group-233/
LOCATION:2S
CATEGORIES:Memory Care
END:VEVENT
BEGIN:VEVENT
DTSTART;TZID=America/Chicago:20260218T103000
DTEND;TZID=America/Chicago:20260218T113000
DTSTAMP:20260421T165035
CREATED:20260120T013730Z
LAST-MODIFIED:20260218T032220Z
UID:10002819-1771410600-1771414200@provplace.com
SUMMARY:Hangman
DESCRIPTION:
URL:https://provplace.com/event-calendar/hangman-46/
CATEGORIES:Memory Care
END:VEVENT
BEGIN:VEVENT
DTSTART;TZID=America/Chicago:20260218T093000
DTEND;TZID=America/Chicago:20260218T100000
DTSTAMP:20260421T165035
CREATED:20260123T013759Z
LAST-MODIFIED:20260218T032220Z
UID:10002879-1771407000-1771408800@provplace.com
SUMMARY:Chaplain Chat
DESCRIPTION:
URL:https://provplace.com/event-calendar/chaplain-chat-133/
CATEGORIES:Memory Care
END:VEVENT
BEGIN:VEVENT
DTSTART;TZID=America/Chicago:20260217T180000
DTEND;TZID=America/Chicago:20260217T183000
DTSTAMP:20260421T165035
CREATED:20260123T013759Z
LAST-MODIFIED:20260217T030720Z
UID:10002878-1771351200-1771353000@provplace.com
SUMMARY:Tuesday Motivation
DESCRIPTION:
URL:https://provplace.com/event-calendar/tuesday-motivation-8/
CATEGORIES:Memory Care
END:VEVENT
BEGIN:VEVENT
DTSTART;TZID=America/Chicago:20260217T160000
DTEND;TZID=America/Chicago:20260217T163000
DTSTAMP:20260421T165035
CREATED:20260119T012221Z
LAST-MODIFIED:20260217T030720Z
UID:10002813-1771344000-1771345800@provplace.com
SUMMARY:Teatime Social
DESCRIPTION:
URL:https://provplace.com/event-calendar/teatime-social-15/
CATEGORIES:Memory Care
END:VEVENT
BEGIN:VEVENT
DTSTART;TZID=America/Chicago:20260217T143000
DTEND;TZID=America/Chicago:20260217T153000
DTSTAMP:20260421T165035
CREATED:20260123T013759Z
LAST-MODIFIED:20260217T030720Z
UID:10002877-1771338600-1771342200@provplace.com
SUMMARY:Flower Arranging
DESCRIPTION:
URL:https://provplace.com/event-calendar/flower-arranging-39/
LOCATION:Memory Care
CATEGORIES:Memory Care
END:VEVENT
BEGIN:VEVENT
DTSTART;TZID=America/Chicago:20260217T143000
DTEND;TZID=America/Chicago:20260217T153000
DTSTAMP:20260421T165035
CREATED:20260119T012221Z
LAST-MODIFIED:20260217T031315Z
UID:10002812-1771338600-1771342200@provplace.com
SUMMARY:Reiki With Jane
DESCRIPTION:
URL:https://provplace.com/event-calendar/reiki-with-jane-3/
CATEGORIES:Long Term Care,Memory Care
END:VEVENT
BEGIN:VEVENT
DTSTART;TZID=America/Chicago:20260217T133000
DTEND;TZID=America/Chicago:20260217T140000
DTSTAMP:20260421T165035
CREATED:20260119T012221Z
LAST-MODIFIED:20260217T030720Z
UID:10002811-1771335000-1771336800@provplace.com
SUMMARY:Exercise: Weights
DESCRIPTION:
URL:https://provplace.com/event-calendar/exercise-weights-59/
LOCATION:2S
CATEGORIES:Memory Care
END:VEVENT
BEGIN:VEVENT
DTSTART;TZID=America/Chicago:20260217T110000
DTEND;TZID=America/Chicago:20260217T111500
DTSTAMP:20260421T165035
CREATED:20260119T012220Z
LAST-MODIFIED:20260217T030720Z
UID:10002810-1771326000-1771326900@provplace.com
SUMMARY:Walking Group
DESCRIPTION:
URL:https://provplace.com/event-calendar/walking-group-232/
LOCATION:2S
CATEGORIES:Memory Care
END:VEVENT
BEGIN:VEVENT
DTSTART;TZID=America/Chicago:20260217T103000
DTEND;TZID=America/Chicago:20260217T113000
DTSTAMP:20260421T165035
CREATED:20260123T013759Z
LAST-MODIFIED:20260217T030719Z
UID:10002876-1771324200-1771327800@provplace.com
SUMMARY:Name 10
DESCRIPTION:
URL:https://provplace.com/event-calendar/name-10-7/
CATEGORIES:Memory Care
END:VEVENT
BEGIN:VEVENT
DTSTART;TZID=America/Chicago:20260217T093000
DTEND;TZID=America/Chicago:20260217T101500
DTSTAMP:20260421T165035
CREATED:20260123T013759Z
LAST-MODIFIED:20260127T015225Z
UID:10002875-1771320600-1771323300@provplace.com
SUMMARY:Spiritual Group
DESCRIPTION:
URL:https://provplace.com/event-calendar/spiritual-group-3/
LOCATION:2S
CATEGORIES:Memory Care
END:VEVENT
BEGIN:VEVENT
DTSTART;TZID=America/Chicago:20260217T093000
DTEND;TZID=America/Chicago:20260217T100000
DTSTAMP:20260421T165035
CREATED:20260129T020726Z
LAST-MODIFIED:20260217T030719Z
UID:10003018-1771320600-1771322400@provplace.com
SUMMARY:Poetry Reading
DESCRIPTION:
URL:https://provplace.com/event-calendar/poetry-reading/
LOCATION:2S
CATEGORIES:Memory Care
END:VEVENT
BEGIN:VEVENT
DTSTART;TZID=America/Chicago:20260216T133000
DTEND;TZID=America/Chicago:20260216T140000
DTSTAMP:20260421T165035
CREATED:20260123T013759Z
LAST-MODIFIED:20260127T015225Z
UID:10002874-1771248600-1771250400@provplace.com
SUMMARY:Balloon Ball
DESCRIPTION:
URL:https://provplace.com/event-calendar/balloon-ball-57/
LOCATION:2S
CATEGORIES:Memory Care
END:VEVENT
BEGIN:VEVENT
DTSTART;TZID=America/Chicago:20260216T133000
DTEND;TZID=America/Chicago:20260216T140000
DTSTAMP:20260421T165035
CREATED:20260122T013722Z
LAST-MODIFIED:20260216T025219Z
UID:10002836-1771248600-1771250400@provplace.com
SUMMARY:February Races
DESCRIPTION:
URL:https://provplace.com/event-calendar/february-races-3/
LOCATION:2S
CATEGORIES:Memory Care
END:VEVENT
BEGIN:VEVENT
DTSTART;TZID=America/Chicago:20260216T110000
DTEND;TZID=America/Chicago:20260216T111500
DTSTAMP:20260421T165035
CREATED:20260118T012249Z
LAST-MODIFIED:20260216T025219Z
UID:10002806-1771239600-1771240500@provplace.com
SUMMARY:Walking Group
DESCRIPTION:
URL:https://provplace.com/event-calendar/walking-group-231/
LOCATION:2S
CATEGORIES:Memory Care
END:VEVENT
BEGIN:VEVENT
DTSTART;TZID=America/Chicago:20260216T103000
DTEND;TZID=America/Chicago:20260216T110000
DTSTAMP:20260421T165035
CREATED:20260203T022223Z
LAST-MODIFIED:20260206T022230Z
UID:10003054-1771237800-1771239600@provplace.com
SUMMARY:Spin and Sing
DESCRIPTION:
URL:https://provplace.com/event-calendar/spin-and-sing-11/
LOCATION:2S
CATEGORIES:Memory Care
END:VEVENT
BEGIN:VEVENT
DTSTART;TZID=America/Chicago:20260216T103000
DTEND;TZID=America/Chicago:20260216T110000
DTSTAMP:20260421T165035
CREATED:20260118T012249Z
LAST-MODIFIED:20260216T025219Z
UID:10002805-1771237800-1771239600@provplace.com
SUMMARY:Finish the Lyrics
DESCRIPTION:
URL:https://provplace.com/event-calendar/sing-and-spin-36/
LOCATION:Memory Care
CATEGORIES:Memory Care
END:VEVENT
BEGIN:VEVENT
DTSTART;TZID=America/Chicago:20260216T093000
DTEND;TZID=America/Chicago:20260216T100000
DTSTAMP:20260421T165035
CREATED:20260123T013759Z
LAST-MODIFIED:20260128T015224Z
UID:10002873-1771234200-1771236000@provplace.com
SUMMARY:Prayer & Praise
DESCRIPTION:
URL:https://provplace.com/event-calendar/prayer-praise-21/
CATEGORIES:Memory Care
END:VEVENT
BEGIN:VEVENT
DTSTART;TZID=America/Chicago:20260215T153000
DTEND;TZID=America/Chicago:20260215T160000
DTSTAMP:20260421T165035
CREATED:20260126T013742Z
LAST-MODIFIED:20260215T025218Z
UID:10002959-1771169400-1771171200@provplace.com
SUMMARY:Bean Bag Toss
DESCRIPTION:
URL:https://provplace.com/event-calendar/bean-bag-toss-27/
LOCATION:2S
CATEGORIES:Memory Care
END:VEVENT
BEGIN:VEVENT
DTSTART;TZID=America/Chicago:20260215T110000
DTEND;TZID=America/Chicago:20260215T111500
DTSTAMP:20260421T165035
CREATED:20260126T013741Z
LAST-MODIFIED:20260215T025218Z
UID:10002958-1771153200-1771154100@provplace.com
SUMMARY:Walking Group
DESCRIPTION:
URL:https://provplace.com/event-calendar/walking-group-239/
LOCATION:2S
CATEGORIES:Memory Care
END:VEVENT
BEGIN:VEVENT
DTSTART;TZID=America/Chicago:20260215T103000
DTEND;TZID=America/Chicago:20260215T110000
DTSTAMP:20260421T165035
CREATED:20260126T013741Z
LAST-MODIFIED:20260215T025217Z
UID:10002957-1771151400-1771153200@provplace.com
SUMMARY:What Am I?
DESCRIPTION:
URL:https://provplace.com/event-calendar/what-am-i-34/
LOCATION:2S
CATEGORIES:Memory Care
END:VEVENT
BEGIN:VEVENT
DTSTART;TZID=America/Chicago:20260214T153000
DTEND;TZID=America/Chicago:20260214T160000
DTSTAMP:20260421T165035
CREATED:20260123T013759Z
LAST-MODIFIED:20260214T030724Z
UID:10002872-1771083000-1771084800@provplace.com
SUMMARY:Valentine's Day Social
DESCRIPTION:
URL:https://provplace.com/event-calendar/valentines-day-social/
LOCATION:2 North
CATEGORIES:Long Term Care,Memory Care
END:VEVENT
BEGIN:VEVENT
DTSTART;TZID=America/Chicago:20260214T143000
DTEND;TZID=America/Chicago:20260214T150000
DTSTAMP:20260421T165035
CREATED:20260116T012234Z
LAST-MODIFIED:20260214T025218Z
UID:10002790-1771079400-1771081200@provplace.com
SUMMARY:Lets Move!
DESCRIPTION:
URL:https://provplace.com/event-calendar/lets-move-2/
LOCATION:2S
CATEGORIES:Memory Care
END:VEVENT
END:VCALENDAR