BEGIN:VCALENDAR
VERSION:2.0
PRODID:-//Providence Place Senior Living - ECPv6.11.2.1//NONSGML v1.0//EN
CALSCALE:GREGORIAN
METHOD:PUBLISH
X-WR-CALNAME:Providence Place Senior Living
X-ORIGINAL-URL:https://provplace.com
X-WR-CALDESC:Events for Providence Place Senior Living
REFRESH-INTERVAL;VALUE=DURATION:PT1H
X-Robots-Tag:noindex
X-PUBLISHED-TTL:PT1H
BEGIN:VTIMEZONE
TZID:America/Chicago
BEGIN:DAYLIGHT
TZOFFSETFROM:-0600
TZOFFSETTO:-0500
TZNAME:CDT
DTSTART:20260308T080000
END:DAYLIGHT
BEGIN:STANDARD
TZOFFSETFROM:-0500
TZOFFSETTO:-0600
TZNAME:CST
DTSTART:20261101T070000
END:STANDARD
END:VTIMEZONE
BEGIN:VEVENT
DTSTART;TZID=America/Chicago:20260225T110000
DTEND;TZID=America/Chicago:20260225T111500
DTSTAMP:20260421T093407
CREATED:20260127T015227Z
LAST-MODIFIED:20260225T035228Z
UID:10002983-1772017200-1772018100@provplace.com
SUMMARY:Walking Group
DESCRIPTION:
URL:https://provplace.com/event-calendar/walking-group-242/
LOCATION:2S
CATEGORIES:Memory Care
END:VEVENT
BEGIN:VEVENT
DTSTART;TZID=America/Chicago:20260225T103000
DTEND;TZID=America/Chicago:20260225T113000
DTSTAMP:20260421T093407
CREATED:20260127T015227Z
LAST-MODIFIED:20260225T035228Z
UID:10002982-1772015400-1772019000@provplace.com
SUMMARY:Hangman
DESCRIPTION:
URL:https://provplace.com/event-calendar/hangman-47/
CATEGORIES:Memory Care
END:VEVENT
BEGIN:VEVENT
DTSTART;TZID=America/Chicago:20260225T093000
DTEND;TZID=America/Chicago:20260225T100000
DTSTAMP:20260421T093407
CREATED:20260127T015227Z
LAST-MODIFIED:20260225T035228Z
UID:10002981-1772011800-1772013600@provplace.com
SUMMARY:Chaplain Chat
DESCRIPTION:
URL:https://provplace.com/event-calendar/chaplain-chat-137/
CATEGORIES:Memory Care
END:VEVENT
BEGIN:VEVENT
DTSTART;TZID=America/Chicago:20260224T180000
DTEND;TZID=America/Chicago:20260224T183000
DTSTAMP:20260421T093407
CREATED:20260126T013744Z
LAST-MODIFIED:20260224T035217Z
UID:10002970-1771956000-1771957800@provplace.com
SUMMARY:Tuesday Motivation
DESCRIPTION:
URL:https://provplace.com/event-calendar/tuesday-motivation-9/
CATEGORIES:Memory Care
END:VEVENT
BEGIN:VEVENT
DTSTART;TZID=America/Chicago:20260224T160000
DTEND;TZID=America/Chicago:20260224T163000
DTSTAMP:20260421T093407
CREATED:20260126T013744Z
LAST-MODIFIED:20260224T035217Z
UID:10002969-1771948800-1771950600@provplace.com
SUMMARY:Teatime Social
DESCRIPTION:
URL:https://provplace.com/event-calendar/teatime-social-16/
CATEGORIES:Memory Care
END:VEVENT
BEGIN:VEVENT
DTSTART;TZID=America/Chicago:20260224T143000
DTEND;TZID=America/Chicago:20260224T153000
DTSTAMP:20260421T093407
CREATED:20260126T013744Z
LAST-MODIFIED:20260224T035226Z
UID:10002967-1771943400-1771947000@provplace.com
SUMMARY:Reiki With Jane
DESCRIPTION:
URL:https://provplace.com/event-calendar/reiki-with-jane-4/
CATEGORIES:Long Term Care,Memory Care
END:VEVENT
BEGIN:VEVENT
DTSTART;TZID=America/Chicago:20260224T143000
DTEND;TZID=America/Chicago:20260224T153000
DTSTAMP:20260421T093407
CREATED:20260126T013744Z
LAST-MODIFIED:20260224T035217Z
UID:10002968-1771943400-1771947000@provplace.com
SUMMARY:Flower Arranging
DESCRIPTION:
URL:https://provplace.com/event-calendar/flower-arranging-40/
LOCATION:Memory Care
CATEGORIES:Memory Care
END:VEVENT
BEGIN:VEVENT
DTSTART;TZID=America/Chicago:20260224T133000
DTEND;TZID=America/Chicago:20260224T140000
DTSTAMP:20260421T093407
CREATED:20260126T013744Z
LAST-MODIFIED:20260224T035217Z
UID:10002966-1771939800-1771941600@provplace.com
SUMMARY:Exercise: Weights
DESCRIPTION:
URL:https://provplace.com/event-calendar/exercise-weights-61/
LOCATION:2S
CATEGORIES:Memory Care
END:VEVENT
BEGIN:VEVENT
DTSTART;TZID=America/Chicago:20260224T110000
DTEND;TZID=America/Chicago:20260224T111500
DTSTAMP:20260421T093407
CREATED:20260126T013744Z
LAST-MODIFIED:20260224T035217Z
UID:10002965-1771930800-1771931700@provplace.com
SUMMARY:Walking Group
DESCRIPTION:
URL:https://provplace.com/event-calendar/walking-group-241/
LOCATION:2S
CATEGORIES:Memory Care
END:VEVENT
BEGIN:VEVENT
DTSTART;TZID=America/Chicago:20260224T103000
DTEND;TZID=America/Chicago:20260224T113000
DTSTAMP:20260421T093407
CREATED:20260126T013744Z
LAST-MODIFIED:20260224T035217Z
UID:10002964-1771929000-1771932600@provplace.com
SUMMARY:Name 10
DESCRIPTION:
URL:https://provplace.com/event-calendar/name-10-8/
CATEGORIES:Memory Care
END:VEVENT
BEGIN:VEVENT
DTSTART;TZID=America/Chicago:20260224T093000
DTEND;TZID=America/Chicago:20260224T100000
DTSTAMP:20260421T093407
CREATED:20260126T013744Z
LAST-MODIFIED:20260224T035217Z
UID:10002963-1771925400-1771927200@provplace.com
SUMMARY:The Sacred in Art
DESCRIPTION:
URL:https://provplace.com/event-calendar/spiritual-group-4/
LOCATION:2S
CATEGORIES:Memory Care
END:VEVENT
BEGIN:VEVENT
DTSTART;TZID=America/Chicago:20260223T160000
DTEND;TZID=America/Chicago:20260223T163000
DTSTAMP:20260421T093407
CREATED:20260125T013725Z
LAST-MODIFIED:20260223T033741Z
UID:10002943-1771862400-1771864200@provplace.com
SUMMARY:February Races
DESCRIPTION:
URL:https://provplace.com/event-calendar/february-races-4/
LOCATION:2S
CATEGORIES:Memory Care
END:VEVENT
BEGIN:VEVENT
DTSTART;TZID=America/Chicago:20260223T143000
DTEND;TZID=America/Chicago:20260223T150000
DTSTAMP:20260421T093407
CREATED:20260125T013725Z
LAST-MODIFIED:20260223T033741Z
UID:10002942-1771857000-1771858800@provplace.com
SUMMARY:Story Time
DESCRIPTION:
URL:https://provplace.com/event-calendar/winter-poems/
LOCATION:2S
CATEGORIES:Memory Care
END:VEVENT
BEGIN:VEVENT
DTSTART;TZID=America/Chicago:20260223T133000
DTEND;TZID=America/Chicago:20260223T140000
DTSTAMP:20260421T093407
CREATED:20260128T015226Z
LAST-MODIFIED:20260223T033741Z
UID:10003000-1771853400-1771855200@provplace.com
SUMMARY:Exercise
DESCRIPTION:
URL:https://provplace.com/event-calendar/volleyball/
LOCATION:2S
CATEGORIES:Memory Care
END:VEVENT
BEGIN:VEVENT
DTSTART;TZID=America/Chicago:20260223T133000
DTEND;TZID=America/Chicago:20260223T140000
DTSTAMP:20260421T093407
CREATED:20260125T013725Z
LAST-MODIFIED:20260127T015227Z
UID:10002941-1771853400-1771855200@provplace.com
SUMMARY:Balloon Ball
DESCRIPTION:
URL:https://provplace.com/event-calendar/balloon-ball-58/
LOCATION:2S
CATEGORIES:Memory Care
END:VEVENT
BEGIN:VEVENT
DTSTART;TZID=America/Chicago:20260223T110000
DTEND;TZID=America/Chicago:20260223T111500
DTSTAMP:20260421T093407
CREATED:20260125T013725Z
LAST-MODIFIED:20260223T033741Z
UID:10002940-1771844400-1771845300@provplace.com
SUMMARY:Walking Group
DESCRIPTION:
URL:https://provplace.com/event-calendar/walking-group-236/
LOCATION:2S
CATEGORIES:Memory Care
END:VEVENT
BEGIN:VEVENT
DTSTART;TZID=America/Chicago:20260223T103000
DTEND;TZID=America/Chicago:20260223T110000
DTSTAMP:20260421T093407
CREATED:20260203T022225Z
LAST-MODIFIED:20260223T033741Z
UID:10003055-1771842600-1771844400@provplace.com
SUMMARY:Spin and Sing
DESCRIPTION:
URL:https://provplace.com/event-calendar/spin-and-sing-12/
LOCATION:2S
CATEGORIES:Memory Care
END:VEVENT
BEGIN:VEVENT
DTSTART;TZID=America/Chicago:20260223T103000
DTEND;TZID=America/Chicago:20260223T110000
DTSTAMP:20260421T093407
CREATED:20260125T013725Z
LAST-MODIFIED:20260128T015226Z
UID:10002939-1771842600-1771844400@provplace.com
SUMMARY:Sing and Spin
DESCRIPTION:
URL:https://provplace.com/event-calendar/sing-and-spin-37/
LOCATION:Memory Care
CATEGORIES:Memory Care
END:VEVENT
BEGIN:VEVENT
DTSTART;TZID=America/Chicago:20260223T093000
DTEND;TZID=America/Chicago:20260223T100000
DTSTAMP:20260421T093407
CREATED:20260125T013725Z
LAST-MODIFIED:20260223T033741Z
UID:10002938-1771839000-1771840800@provplace.com
SUMMARY:Prayer & Praise
DESCRIPTION:
URL:https://provplace.com/event-calendar/prayer-praise-22/
CATEGORIES:Memory Care
END:VEVENT
BEGIN:VEVENT
DTSTART;TZID=America/Chicago:20260222T153000
DTEND;TZID=America/Chicago:20260222T160000
DTSTAMP:20260421T093407
CREATED:20260126T013743Z
LAST-MODIFIED:20260222T032216Z
UID:10002962-1771774200-1771776000@provplace.com
SUMMARY:Bean Bag Toss
DESCRIPTION:
URL:https://provplace.com/event-calendar/bean-bag-toss-28/
LOCATION:2S
CATEGORIES:Memory Care
END:VEVENT
BEGIN:VEVENT
DTSTART;TZID=America/Chicago:20260222T110000
DTEND;TZID=America/Chicago:20260222T111500
DTSTAMP:20260421T093407
CREATED:20260126T013743Z
LAST-MODIFIED:20260222T032216Z
UID:10002961-1771758000-1771758900@provplace.com
SUMMARY:Walking Group
DESCRIPTION:
URL:https://provplace.com/event-calendar/walking-group-240/
LOCATION:2S
CATEGORIES:Memory Care
END:VEVENT
BEGIN:VEVENT
DTSTART;TZID=America/Chicago:20260222T103000
DTEND;TZID=America/Chicago:20260222T110000
DTSTAMP:20260421T093407
CREATED:20260126T013743Z
LAST-MODIFIED:20260222T032216Z
UID:10002960-1771756200-1771758000@provplace.com
SUMMARY:What Am I?
DESCRIPTION:
URL:https://provplace.com/event-calendar/what-am-i-35/
LOCATION:2S
CATEGORIES:Memory Care
END:VEVENT
BEGIN:VEVENT
DTSTART;TZID=America/Chicago:20260221T153000
DTEND;TZID=America/Chicago:20260221T160000
DTSTAMP:20260421T093407
CREATED:20260123T013800Z
LAST-MODIFIED:20260221T032217Z
UID:10002887-1771687800-1771689600@provplace.com
SUMMARY:Lets Move!
DESCRIPTION:
URL:https://provplace.com/event-calendar/lets-move-3/
LOCATION:2S
CATEGORIES:Memory Care
END:VEVENT
BEGIN:VEVENT
DTSTART;TZID=America/Chicago:20260221T133000
DTEND;TZID=America/Chicago:20260221T143000
DTSTAMP:20260421T093407
CREATED:20260123T013800Z
LAST-MODIFIED:20260221T032217Z
UID:10002886-1771680600-1771684200@provplace.com
SUMMARY:Shirley Temple Social
DESCRIPTION:
URL:https://provplace.com/event-calendar/shirley-temple-social-2/
CATEGORIES:Memory Care
END:VEVENT
BEGIN:VEVENT
DTSTART;TZID=America/Chicago:20260221T093000
DTEND;TZID=America/Chicago:20260221T100000
DTSTAMP:20260421T093407
CREATED:20260123T013800Z
LAST-MODIFIED:20260221T032217Z
UID:10002885-1771666200-1771668000@provplace.com
SUMMARY:Categories!
DESCRIPTION:
URL:https://provplace.com/event-calendar/categories-25/
LOCATION:2S
CATEGORIES:Memory Care
END:VEVENT
BEGIN:VEVENT
DTSTART;TZID=America/Chicago:20260220T160000
DTEND;TZID=America/Chicago:20260220T160000
DTSTAMP:20260421T093407
CREATED:20260122T013723Z
LAST-MODIFIED:20260220T032218Z
UID:10002842-1771603200-1771603200@provplace.com
SUMMARY:Story Time: Little House in the Big Woods
DESCRIPTION:
URL:https://provplace.com/event-calendar/story-time-little-house-in-the-big-woods-3/
LOCATION:2S
CATEGORIES:Memory Care
END:VEVENT
BEGIN:VEVENT
DTSTART;TZID=America/Chicago:20260220T143000
DTEND;TZID=America/Chicago:20260220T151500
DTSTAMP:20260421T093407
CREATED:20260122T013722Z
LAST-MODIFIED:20260220T033724Z
UID:10002840-1771597800-1771600500@provplace.com
SUMMARY:Concert of the Month: Ethan Ostrow
DESCRIPTION:
URL:https://provplace.com/event-calendar/concert-of-the-month-ethan-ostrow-2/
LOCATION:2N
CATEGORIES:Long Term Care,Memory Care
END:VEVENT
BEGIN:VEVENT
DTSTART;TZID=America/Chicago:20260220T143000
DTEND;TZID=America/Chicago:20260220T150000
DTSTAMP:20260421T093407
CREATED:20260122T013723Z
LAST-MODIFIED:20260122T013723Z
UID:10002841-1771597800-1771599600@provplace.com
SUMMARY:Nail Care
DESCRIPTION:
URL:https://provplace.com/event-calendar/nail-care-30/
LOCATION:2S
CATEGORIES:Memory Care
END:VEVENT
BEGIN:VEVENT
DTSTART;TZID=America/Chicago:20260220T133000
DTEND;TZID=America/Chicago:20260220T140000
DTSTAMP:20260421T093407
CREATED:20260122T013722Z
LAST-MODIFIED:20260220T032218Z
UID:10002839-1771594200-1771596000@provplace.com
SUMMARY:Chair Exercise
DESCRIPTION:
URL:https://provplace.com/event-calendar/chair-exercise-16/
LOCATION:2S
CATEGORIES:Memory Care
END:VEVENT
BEGIN:VEVENT
DTSTART;TZID=America/Chicago:20260220T110000
DTEND;TZID=America/Chicago:20260220T111500
DTSTAMP:20260421T093407
CREATED:20260122T013722Z
LAST-MODIFIED:20260220T032218Z
UID:10002838-1771585200-1771586100@provplace.com
SUMMARY:Walking Group
DESCRIPTION:
URL:https://provplace.com/event-calendar/walking-group-235/
LOCATION:2S
CATEGORIES:Memory Care
END:VEVENT
END:VCALENDAR