BEGIN:VCALENDAR
VERSION:2.0
PRODID:-//Providence Place Senior Living - ECPv6.11.2.1//NONSGML v1.0//EN
CALSCALE:GREGORIAN
METHOD:PUBLISH
X-WR-CALNAME:Providence Place Senior Living
X-ORIGINAL-URL:https://provplace.com
X-WR-CALDESC:Events for Providence Place Senior Living
REFRESH-INTERVAL;VALUE=DURATION:PT1H
X-Robots-Tag:noindex
X-PUBLISHED-TTL:PT1H
BEGIN:VTIMEZONE
TZID:America/Chicago
BEGIN:DAYLIGHT
TZOFFSETFROM:-0600
TZOFFSETTO:-0500
TZNAME:CDT
DTSTART:20260308T080000
END:DAYLIGHT
BEGIN:STANDARD
TZOFFSETFROM:-0500
TZOFFSETTO:-0600
TZNAME:CST
DTSTART:20261101T070000
END:STANDARD
END:VTIMEZONE
BEGIN:VEVENT
DTSTART;TZID=America/Chicago:20260520T141500
DTEND;TZID=America/Chicago:20260520T144500
DTSTAMP:20260422T165549
CREATED:20260421T082648Z
LAST-MODIFIED:20260422T084138Z
UID:10003820-1779286500-1779288300@provplace.com
SUMMARY:Coloring Club
DESCRIPTION:
URL:https://provplace.com/event-calendar/coloring-club-67/
LOCATION:3 North
CATEGORIES:Long Term Care
END:VEVENT
BEGIN:VEVENT
DTSTART;TZID=America/Chicago:20260520T150000
DTEND;TZID=America/Chicago:20260520T160000
DTSTAMP:20260422T165549
CREATED:20260421T082648Z
LAST-MODIFIED:20260422T084138Z
UID:10003821-1779289200-1779292800@provplace.com
SUMMARY:Meditation Group
DESCRIPTION:
URL:https://provplace.com/event-calendar/meditation-group-52/
LOCATION:Meditation Room
CATEGORIES:Long Term Care
END:VEVENT
BEGIN:VEVENT
DTSTART;TZID=America/Chicago:20260520T190000
DTEND;TZID=America/Chicago:20260520T210000
DTSTAMP:20260422T165549
CREATED:20260421T082649Z
LAST-MODIFIED:20260422T084138Z
UID:10003822-1779303600-1779310800@provplace.com
SUMMARY:Netflix Night
DESCRIPTION:
URL:https://provplace.com/event-calendar/netflix-night-79/
LOCATION:3 North
CATEGORIES:Long Term Care
END:VEVENT
BEGIN:VEVENT
DTSTART;TZID=America/Chicago:20260521T093000
DTEND;TZID=America/Chicago:20260521T100000
DTSTAMP:20260422T165549
CREATED:20260422T082853Z
LAST-MODIFIED:20260422T084138Z
UID:10003837-1779355800-1779357600@provplace.com
SUMMARY:Manicures
DESCRIPTION:
URL:https://provplace.com/event-calendar/manicures-74/
LOCATION:2 North
CATEGORIES:Long Term Care
END:VEVENT
BEGIN:VEVENT
DTSTART;TZID=America/Chicago:20260521T100000
DTEND;TZID=America/Chicago:20260521T110000
DTSTAMP:20260422T165549
CREATED:20260422T082853Z
LAST-MODIFIED:20260422T084139Z
UID:10003838-1779357600-1779361200@provplace.com
SUMMARY:GrandFriends Visit
DESCRIPTION:
URL:https://provplace.com/event-calendar/grandfriends-visit-36/
LOCATION:3S
CATEGORIES:Long Term Care
END:VEVENT
BEGIN:VEVENT
DTSTART;TZID=America/Chicago:20260521T133000
DTEND;TZID=America/Chicago:20260521T140000
DTSTAMP:20260422T165549
CREATED:20260422T082853Z
LAST-MODIFIED:20260422T084142Z
UID:10003839-1779370200-1779372000@provplace.com
SUMMARY:Piranhas: Practice
DESCRIPTION:
URL:https://provplace.com/event-calendar/piranhas-practice-72/
LOCATION:3 North
CATEGORIES:Long Term Care
END:VEVENT
BEGIN:VEVENT
DTSTART;TZID=America/Chicago:20260521T143000
DTEND;TZID=America/Chicago:20260521T150000
DTSTAMP:20260422T165549
CREATED:20260422T082853Z
LAST-MODIFIED:20260422T084142Z
UID:10003840-1779373800-1779375600@provplace.com
SUMMARY:Arts and Crafts: Terra Cotta Pots
DESCRIPTION:
URL:https://provplace.com/event-calendar/arts-and-crafts-terra-cotta-pots/
LOCATION:3 North
CATEGORIES:Long Term Care
END:VEVENT
BEGIN:VEVENT
DTSTART;TZID=America/Chicago:20260521T153000
DTEND;TZID=America/Chicago:20260521T160000
DTSTAMP:20260422T165549
CREATED:20260422T082853Z
LAST-MODIFIED:20260422T084143Z
UID:10003841-1779377400-1779379200@provplace.com
SUMMARY:Coming of Age Rituals
DESCRIPTION:
URL:https://provplace.com/event-calendar/coming-of-age-rituals-2/
LOCATION:3 North
CATEGORIES:Long Term Care
END:VEVENT
END:VCALENDAR