BEGIN:VCALENDAR
VERSION:2.0
PRODID:-//Providence Place Senior Living - ECPv6.11.2.1//NONSGML v1.0//EN
CALSCALE:GREGORIAN
METHOD:PUBLISH
X-ORIGINAL-URL:https://provplace.com
X-WR-CALDESC:Events for Providence Place Senior Living
REFRESH-INTERVAL;VALUE=DURATION:PT1H
X-Robots-Tag:noindex
X-PUBLISHED-TTL:PT1H
BEGIN:VTIMEZONE
TZID:America/Chicago
BEGIN:DAYLIGHT
TZOFFSETFROM:-0600
TZOFFSETTO:-0500
TZNAME:CDT
DTSTART:20260308T080000
END:DAYLIGHT
BEGIN:STANDARD
TZOFFSETFROM:-0500
TZOFFSETTO:-0600
TZNAME:CST
DTSTART:20261101T070000
END:STANDARD
END:VTIMEZONE
BEGIN:VEVENT
DTSTART;TZID=America/Chicago:20260518T093000
DTEND;TZID=America/Chicago:20260518T100000
DTSTAMP:20260420T122929
CREATED:20260419T081140Z
LAST-MODIFIED:20260420T081345Z
UID:10003797-1779096600-1779098400@provplace.com
SUMMARY:This Day in History
DESCRIPTION:
URL:https://provplace.com/event-calendar/this-day-in-history-33/
LOCATION:3 North
CATEGORIES:Long Term Care
END:VEVENT
BEGIN:VEVENT
DTSTART;TZID=America/Chicago:20260518T103000
DTEND;TZID=America/Chicago:20260518T110000
DTSTAMP:20260420T122929
CREATED:20260419T081140Z
LAST-MODIFIED:20260420T081346Z
UID:10003798-1779100200-1779102000@provplace.com
SUMMARY:Prayer and Praise
DESCRIPTION:
URL:https://provplace.com/event-calendar/prayer-and-praise-71/
LOCATION:1S
CATEGORIES:Long Term Care
END:VEVENT
BEGIN:VEVENT
DTSTART;TZID=America/Chicago:20260518T133000
DTEND;TZID=America/Chicago:20260518T140000
DTSTAMP:20260420T122929
CREATED:20260419T081141Z
LAST-MODIFIED:20260420T081346Z
UID:10003799-1779111000-1779112800@provplace.com
SUMMARY:Exercise: Balls
DESCRIPTION:
URL:https://provplace.com/event-calendar/exercise-balls-74/
LOCATION:3 North
CATEGORIES:Long Term Care
END:VEVENT
BEGIN:VEVENT
DTSTART;TZID=America/Chicago:20260518T143000
DTEND;TZID=America/Chicago:20260518T153000
DTSTAMP:20260420T122929
CREATED:20260419T081141Z
LAST-MODIFIED:20260420T081357Z
UID:10003795-1779114600-1779118200@provplace.com
SUMMARY:Bingo
DESCRIPTION:
URL:https://provplace.com/event-calendar/bingo-103/
LOCATION:2 North
CATEGORIES:Long Term Care
END:VEVENT
BEGIN:VEVENT
DTSTART;TZID=America/Chicago:20260518T190000
DTEND;TZID=America/Chicago:20260518T200000
DTSTAMP:20260420T122929
CREATED:20260419T081142Z
LAST-MODIFIED:20260420T081357Z
UID:10003796-1779130800-1779134400@provplace.com
SUMMARY:Game Night
DESCRIPTION:
URL:https://provplace.com/event-calendar/game-night-52/
LOCATION:3 North
CATEGORIES:Long Term Care
END:VEVENT
BEGIN:VEVENT
DTSTART;TZID=America/Chicago:20260519T093000
DTEND;TZID=America/Chicago:20260519T100000
DTSTAMP:20260420T122929
CREATED:20260420T081200Z
LAST-MODIFIED:20260420T081357Z
UID:10003815-1779183000-1779184800@provplace.com
SUMMARY:Exercise: Weights
DESCRIPTION:
URL:https://provplace.com/event-calendar/exercise-weights-89/
LOCATION:3 North
CATEGORIES:Long Term Care
END:VEVENT
BEGIN:VEVENT
DTSTART;TZID=America/Chicago:20260519T103000
DTEND;TZID=America/Chicago:20260519T110000
DTSTAMP:20260420T122929
CREATED:20260420T081200Z
LAST-MODIFIED:20260420T081357Z
UID:10003816-1779186600-1779188400@provplace.com
SUMMARY:News and Views
DESCRIPTION:
URL:https://provplace.com/event-calendar/news-and-views-53/
LOCATION:3 North
CATEGORIES:Long Term Care
END:VEVENT
BEGIN:VEVENT
DTSTART;TZID=America/Chicago:20260519T130000
DTEND;TZID=America/Chicago:20260519T140000
DTSTAMP:20260420T122929
CREATED:20260420T081201Z
LAST-MODIFIED:20260420T081357Z
UID:10003809-1779195600-1779199200@provplace.com
SUMMARY:Piranhas: Robot Soccer
DESCRIPTION:
URL:https://provplace.com/event-calendar/piranhas-robot-soccer-5/
LOCATION:3 North
CATEGORIES:Long Term Care
END:VEVENT
BEGIN:VEVENT
DTSTART;TZID=America/Chicago:20260519T143000
DTEND;TZID=America/Chicago:20260519T150000
DTSTAMP:20260420T122929
CREATED:20260420T081201Z
LAST-MODIFIED:20260420T081357Z
UID:10003811-1779201000-1779202800@provplace.com
SUMMARY:Chef's Talk
DESCRIPTION:
URL:https://provplace.com/event-calendar/chefs-talk-14/
LOCATION:2 North
CATEGORIES:Long Term Care
END:VEVENT
BEGIN:VEVENT
DTSTART;TZID=America/Chicago:20260519T153000
DTEND;TZID=America/Chicago:20260519T160000
DTSTAMP:20260420T122929
CREATED:20260420T081202Z
LAST-MODIFIED:20260420T081357Z
UID:10003813-1779204600-1779206400@provplace.com
SUMMARY:Sip and Social
DESCRIPTION:
URL:https://provplace.com/event-calendar/sip-and-social-49/
LOCATION:3 North
CATEGORIES:Long Term Care
END:VEVENT
END:VCALENDAR