BEGIN:VCALENDAR
VERSION:2.0
PRODID:-//Providence Place Senior Living - ECPv6.11.2.1//NONSGML v1.0//EN
CALSCALE:GREGORIAN
METHOD:PUBLISH
X-WR-CALNAME:Providence Place Senior Living
X-ORIGINAL-URL:https://provplace.com
X-WR-CALDESC:Events for Providence Place Senior Living
REFRESH-INTERVAL;VALUE=DURATION:PT1H
X-Robots-Tag:noindex
X-PUBLISHED-TTL:PT1H
BEGIN:VTIMEZONE
TZID:America/Chicago
BEGIN:DAYLIGHT
TZOFFSETFROM:-0600
TZOFFSETTO:-0500
TZNAME:CDT
DTSTART:20260308T080000
END:DAYLIGHT
BEGIN:STANDARD
TZOFFSETFROM:-0500
TZOFFSETTO:-0600
TZNAME:CST
DTSTART:20261101T070000
END:STANDARD
END:VTIMEZONE
BEGIN:VEVENT
DTSTART;TZID=America/Chicago:20260516T093000
DTEND;TZID=America/Chicago:20260516T100000
DTSTAMP:20260419T180146
CREATED:20260417T081137Z
LAST-MODIFIED:20260419T081200Z
UID:10003786-1778923800-1778925600@provplace.com
SUMMARY:Name That Tune
DESCRIPTION:
URL:https://provplace.com/event-calendar/name-that-tune-9/
LOCATION:2S
CATEGORIES:Memory Care
END:VEVENT
BEGIN:VEVENT
DTSTART;TZID=America/Chicago:20260516T103000
DTEND;TZID=America/Chicago:20260516T110000
DTSTAMP:20260419T180146
CREATED:20260417T075640Z
LAST-MODIFIED:20260419T081139Z
UID:10003776-1778927400-1778929200@provplace.com
SUMMARY:Piranhas Practice
DESCRIPTION:
URL:https://provplace.com/event-calendar/piranhas-practice-71/
LOCATION:3 North
CATEGORIES:Long Term Care
END:VEVENT
BEGIN:VEVENT
DTSTART;TZID=America/Chicago:20260516T103000
DTEND;TZID=America/Chicago:20260516T110000
DTSTAMP:20260419T180146
CREATED:20260417T081137Z
LAST-MODIFIED:20260419T081200Z
UID:10003787-1778927400-1778929200@provplace.com
SUMMARY:Let's Move!
DESCRIPTION:
URL:https://provplace.com/event-calendar/lets-move-14/
LOCATION:2S
CATEGORIES:Memory Care
END:VEVENT
BEGIN:VEVENT
DTSTART;TZID=America/Chicago:20260516T143000
DTEND;TZID=America/Chicago:20260516T150000
DTSTAMP:20260419T180146
CREATED:20260417T075640Z
LAST-MODIFIED:20260419T081140Z
UID:10003777-1778941800-1778943600@provplace.com
SUMMARY:Pokeno
DESCRIPTION:
URL:https://provplace.com/event-calendar/pokeno-53/
LOCATION:2 North
CATEGORIES:Long Term Care
END:VEVENT
END:VCALENDAR