BEGIN:VCALENDAR
VERSION:2.0
PRODID:-//Providence Place Senior Living - ECPv6.11.2.1//NONSGML v1.0//EN
CALSCALE:GREGORIAN
METHOD:PUBLISH
X-WR-CALNAME:Providence Place Senior Living
X-ORIGINAL-URL:https://provplace.com
X-WR-CALDESC:Events for Providence Place Senior Living
REFRESH-INTERVAL;VALUE=DURATION:PT1H
X-Robots-Tag:noindex
X-PUBLISHED-TTL:PT1H
BEGIN:VTIMEZONE
TZID:America/Chicago
BEGIN:DAYLIGHT
TZOFFSETFROM:-0600
TZOFFSETTO:-0500
TZNAME:CDT
DTSTART:20260308T080000
END:DAYLIGHT
BEGIN:STANDARD
TZOFFSETFROM:-0500
TZOFFSETTO:-0600
TZNAME:CST
DTSTART:20261101T070000
END:STANDARD
END:VTIMEZONE
BEGIN:VEVENT
DTSTART;TZID=America/Chicago:20260424T093000
DTEND;TZID=America/Chicago:20260424T100000
DTSTAMP:20260424T013114
CREATED:20260326T055638Z
LAST-MODIFIED:20260423T084125Z
UID:10003577-1777023000-1777024800@provplace.com
SUMMARY:Tableball
DESCRIPTION:
URL:https://provplace.com/event-calendar/tableball-5/
LOCATION:3 North
CATEGORIES:Long Term Care
END:VEVENT
BEGIN:VEVENT
DTSTART;TZID=America/Chicago:20260424T093000
DTEND;TZID=America/Chicago:20260424T100000
DTSTAMP:20260424T013114
CREATED:20260326T061231Z
LAST-MODIFIED:20260423T082631Z
UID:10003587-1777023000-1777024800@provplace.com
SUMMARY:Bible Study
DESCRIPTION:
URL:https://provplace.com/event-calendar/bible-study-18/
CATEGORIES:Memory Care
END:VEVENT
BEGIN:VEVENT
DTSTART;TZID=America/Chicago:20260424T103000
DTEND;TZID=America/Chicago:20260424T110000
DTSTAMP:20260424T013114
CREATED:20260326T055638Z
LAST-MODIFIED:20260423T084125Z
UID:10003578-1777026600-1777028400@provplace.com
SUMMARY:Devotions
DESCRIPTION:
URL:https://provplace.com/event-calendar/devotions-84/
LOCATION:1S
CATEGORIES:Long Term Care
END:VEVENT
BEGIN:VEVENT
DTSTART;TZID=America/Chicago:20260424T103000
DTEND;TZID=America/Chicago:20260424T113000
DTSTAMP:20260424T013114
CREATED:20260326T061231Z
LAST-MODIFIED:20260423T082632Z
UID:10003588-1777026600-1777030200@provplace.com
SUMMARY:Talk to Me
DESCRIPTION:
URL:https://provplace.com/event-calendar/talk-to-me-49/
LOCATION:2S
CATEGORIES:Memory Care
END:VEVENT
BEGIN:VEVENT
DTSTART;TZID=America/Chicago:20260424T110000
DTEND;TZID=America/Chicago:20260424T111500
DTSTAMP:20260424T013114
CREATED:20260326T061231Z
LAST-MODIFIED:20260423T082632Z
UID:10003589-1777028400-1777029300@provplace.com
SUMMARY:Walking Group
DESCRIPTION:
URL:https://provplace.com/event-calendar/walking-group-295/
LOCATION:2S
CATEGORIES:Memory Care
END:VEVENT
BEGIN:VEVENT
DTSTART;TZID=America/Chicago:20260424T130000
DTEND;TZID=America/Chicago:20260424T133000
DTSTAMP:20260424T013114
CREATED:20260326T055639Z
LAST-MODIFIED:20260423T084125Z
UID:10003579-1777035600-1777037400@provplace.com
SUMMARY:Really Big Show
DESCRIPTION:
URL:https://provplace.com/event-calendar/really-big-show-28/
LOCATION:3 North
CATEGORIES:Long Term Care
END:VEVENT
BEGIN:VEVENT
DTSTART;TZID=America/Chicago:20260424T133000
DTEND;TZID=America/Chicago:20260424T140000
DTSTAMP:20260424T013114
CREATED:20260326T061231Z
LAST-MODIFIED:20260423T082632Z
UID:10003590-1777037400-1777039200@provplace.com
SUMMARY:Chair Exercise
DESCRIPTION:
URL:https://provplace.com/event-calendar/chair-exercise-25/
LOCATION:2S
CATEGORIES:Memory Care
END:VEVENT
BEGIN:VEVENT
DTSTART;TZID=America/Chicago:20260424T143000
DTEND;TZID=America/Chicago:20260424T150000
DTSTAMP:20260424T013114
CREATED:20260326T055639Z
LAST-MODIFIED:20260423T084125Z
UID:10003580-1777041000-1777042800@provplace.com
SUMMARY:April Birthday Party
DESCRIPTION:
URL:https://provplace.com/event-calendar/april-birthday-party/
LOCATION:2 North
CATEGORIES:Long Term Care,Memory Care
END:VEVENT
BEGIN:VEVENT
DTSTART;TZID=America/Chicago:20260424T160000
DTEND;TZID=America/Chicago:20260424T163000
DTSTAMP:20260424T013114
CREATED:20260326T055639Z
LAST-MODIFIED:20260423T084125Z
UID:10003581-1777046400-1777048200@provplace.com
SUMMARY:Uno
DESCRIPTION:
URL:https://provplace.com/event-calendar/uno-46/
LOCATION:2 North
CATEGORIES:Long Term Care
END:VEVENT
BEGIN:VEVENT
DTSTART;TZID=America/Chicago:20260424T160000
DTEND;TZID=America/Chicago:20260424T163000
DTSTAMP:20260424T013114
CREATED:20260326T061232Z
LAST-MODIFIED:20260423T082643Z
UID:10003591-1777046400-1777048200@provplace.com
SUMMARY:Story Time
DESCRIPTION:
URL:https://provplace.com/event-calendar/story-time-14/
LOCATION:2S
CATEGORIES:Memory Care
END:VEVENT
BEGIN:VEVENT
DTSTART;TZID=America/Chicago:20260424T190000
DTEND;TZID=America/Chicago:20260424T200000
DTSTAMP:20260424T013114
CREATED:20260326T055639Z
LAST-MODIFIED:20260423T084123Z
UID:10003582-1777057200-1777060800@provplace.com
SUMMARY:Karaoke Night
DESCRIPTION:
URL:https://provplace.com/event-calendar/karaoke-night-50/
LOCATION:3 North
CATEGORIES:Long Term Care
END:VEVENT
END:VCALENDAR