BEGIN:VCALENDAR
VERSION:2.0
PRODID:-//Providence Place Senior Living - ECPv6.11.2.1//NONSGML v1.0//EN
CALSCALE:GREGORIAN
METHOD:PUBLISH
X-ORIGINAL-URL:https://provplace.com
X-WR-CALDESC:Events for Providence Place Senior Living
REFRESH-INTERVAL;VALUE=DURATION:PT1H
X-Robots-Tag:noindex
X-PUBLISHED-TTL:PT1H
BEGIN:VTIMEZONE
TZID:America/Chicago
BEGIN:DAYLIGHT
TZOFFSETFROM:-0600
TZOFFSETTO:-0500
TZNAME:CDT
DTSTART:20260308T080000
END:DAYLIGHT
BEGIN:STANDARD
TZOFFSETFROM:-0500
TZOFFSETTO:-0600
TZNAME:CST
DTSTART:20261101T070000
END:STANDARD
END:VTIMEZONE
BEGIN:VEVENT
DTSTART;TZID=America/Chicago:20260402T093000
DTEND;TZID=America/Chicago:20260402T100000
DTSTAMP:20260419T162828
CREATED:20260311T050741Z
LAST-MODIFIED:20260326T061257Z
UID:10003380-1775122200-1775124000@provplace.com
SUMMARY:Guided Meditation
DESCRIPTION:
URL:https://provplace.com/event-calendar/guided-meditation/
LOCATION:2S
CATEGORIES:Memory Care
END:VEVENT
BEGIN:VEVENT
DTSTART;TZID=America/Chicago:20260402T093000
DTEND;TZID=America/Chicago:20260402T100000
DTSTAMP:20260419T162828
CREATED:20260313T045701Z
LAST-MODIFIED:20260402T062622Z
UID:10003408-1775122200-1775124000@provplace.com
SUMMARY:Manicures
DESCRIPTION:
URL:https://provplace.com/event-calendar/manicures-67/
LOCATION:3 North
CATEGORIES:Long Term Care
END:VEVENT
BEGIN:VEVENT
DTSTART;TZID=America/Chicago:20260402T093000
DTEND;TZID=America/Chicago:20260402T100000
DTSTAMP:20260419T162828
CREATED:20260327T062737Z
LAST-MODIFIED:20260402T064129Z
UID:10003595-1775122200-1775124000@provplace.com
SUMMARY:Help\, Thanks\, Wow
DESCRIPTION:
URL:https://provplace.com/event-calendar/help-thanks-wow/
LOCATION:2S
CATEGORIES:Memory Care
END:VEVENT
BEGIN:VEVENT
DTSTART;TZID=America/Chicago:20260402T100000
DTEND;TZID=America/Chicago:20260402T110000
DTSTAMP:20260419T162828
CREATED:20260312T045726Z
LAST-MODIFIED:20260402T062622Z
UID:10003394-1775124000-1775127600@provplace.com
SUMMARY:GrandFriends Visit
DESCRIPTION:
URL:https://provplace.com/event-calendar/grandfriends-visit-29/
LOCATION:3S
CATEGORIES:Long Term Care
END:VEVENT
BEGIN:VEVENT
DTSTART;TZID=America/Chicago:20260402T103000
DTEND;TZID=America/Chicago:20260402T110000
DTSTAMP:20260419T162828
CREATED:20260311T050742Z
LAST-MODIFIED:20260402T064129Z
UID:10003381-1775125800-1775127600@provplace.com
SUMMARY:Jeopardy!
DESCRIPTION:
URL:https://provplace.com/event-calendar/jeopardy-23/
LOCATION:2S
CATEGORIES:Memory Care
END:VEVENT
BEGIN:VEVENT
DTSTART;TZID=America/Chicago:20260402T110000
DTEND;TZID=America/Chicago:20260402T111500
DTSTAMP:20260419T162828
CREATED:20260304T040818Z
LAST-MODIFIED:20260402T064129Z
UID:10003344-1775127600-1775128500@provplace.com
SUMMARY:Walking Group
DESCRIPTION:
URL:https://provplace.com/event-calendar/walking-group-277/
LOCATION:2S
CATEGORIES:Memory Care
END:VEVENT
BEGIN:VEVENT
DTSTART;TZID=America/Chicago:20260402T133000
DTEND;TZID=America/Chicago:20260402T140000
DTSTAMP:20260419T162828
CREATED:20260304T040819Z
LAST-MODIFIED:20260402T064129Z
UID:10003345-1775136600-1775138400@provplace.com
SUMMARY:Balloon Ball
DESCRIPTION:
URL:https://provplace.com/event-calendar/balloon-ball-72/
LOCATION:2S
CATEGORIES:Memory Care
END:VEVENT
BEGIN:VEVENT
DTSTART;TZID=America/Chicago:20260402T133000
DTEND;TZID=America/Chicago:20260402T140000
DTSTAMP:20260419T162828
CREATED:20260324T055637Z
LAST-MODIFIED:20260402T062622Z
UID:10003533-1775136600-1775138400@provplace.com
SUMMARY:Piranhas: Practice
DESCRIPTION:
URL:https://provplace.com/event-calendar/piranhas-practice-60/
LOCATION:3 North
CATEGORIES:Long Term Care
END:VEVENT
BEGIN:VEVENT
DTSTART;TZID=America/Chicago:20260402T140000
DTEND;TZID=America/Chicago:20260402T150000
DTSTAMP:20260419T162828
CREATED:20260304T042323Z
LAST-MODIFIED:20260402T062622Z
UID:10003350-1775138400-1775142000@provplace.com
SUMMARY:Virtual Learning
DESCRIPTION:
URL:https://provplace.com/event-calendar/virtual-learning-3/
LOCATION:3 North
CATEGORIES:Long Term Care
END:VEVENT
BEGIN:VEVENT
DTSTART;TZID=America/Chicago:20260402T141500
DTEND;TZID=America/Chicago:20260402T150000
DTSTAMP:20260419T162828
CREATED:20260311T050742Z
LAST-MODIFIED:20260402T064129Z
UID:10003382-1775139300-1775142000@provplace.com
SUMMARY:Art Adventures
DESCRIPTION:
URL:https://provplace.com/event-calendar/art-adventures-18/
LOCATION:2S
CATEGORIES:Memory Care
END:VEVENT
BEGIN:VEVENT
DTSTART;TZID=America/Chicago:20260402T153000
DTEND;TZID=America/Chicago:20260402T160000
DTSTAMP:20260419T162828
CREATED:20260304T042324Z
LAST-MODIFIED:20260402T062622Z
UID:10003351-1775143800-1775145600@provplace.com
SUMMARY:Astrology with Jane and Liza
DESCRIPTION:
URL:https://provplace.com/event-calendar/astrology-with-jane-and-liza-3/
LOCATION:3 North
CATEGORIES:Long Term Care
END:VEVENT
BEGIN:VEVENT
DTSTART;TZID=America/Chicago:20260402T160000
DTEND;TZID=America/Chicago:20260402T163000
DTSTAMP:20260419T162828
CREATED:20260319T054146Z
LAST-MODIFIED:20260402T064129Z
UID:10003474-1775145600-1775147400@provplace.com
SUMMARY:Bingo
DESCRIPTION:
URL:https://provplace.com/event-calendar/bingo-92/
CATEGORIES:Memory Care
END:VEVENT
END:VCALENDAR