BEGIN:VCALENDAR
VERSION:2.0
PRODID:-//Providence Place Senior Living - ECPv6.11.2.1//NONSGML v1.0//EN
CALSCALE:GREGORIAN
METHOD:PUBLISH
X-ORIGINAL-URL:https://provplace.com
X-WR-CALDESC:Events for Providence Place Senior Living
REFRESH-INTERVAL;VALUE=DURATION:PT1H
X-Robots-Tag:noindex
X-PUBLISHED-TTL:PT1H
BEGIN:VTIMEZONE
TZID:America/Chicago
BEGIN:DAYLIGHT
TZOFFSETFROM:-0600
TZOFFSETTO:-0500
TZNAME:CDT
DTSTART:20260308T080000
END:DAYLIGHT
BEGIN:STANDARD
TZOFFSETFROM:-0500
TZOFFSETTO:-0600
TZNAME:CST
DTSTART:20261101T070000
END:STANDARD
END:VTIMEZONE
BEGIN:VEVENT
DTSTART;TZID=America/Chicago:20260329T103000
DTEND;TZID=America/Chicago:20260329T110000
DTSTAMP:20260419T175334
CREATED:20260228T035239Z
LAST-MODIFIED:20260329T062623Z
UID:10003290-1774780200-1774782000@provplace.com
SUMMARY:What Am I?
DESCRIPTION:
URL:https://provplace.com/event-calendar/what-am-i-40/
LOCATION:2S
CATEGORIES:Memory Care
END:VEVENT
BEGIN:VEVENT
DTSTART;TZID=America/Chicago:20260329T110000
DTEND;TZID=America/Chicago:20260329T111500
DTSTAMP:20260419T175334
CREATED:20260228T035239Z
LAST-MODIFIED:20260329T062623Z
UID:10003291-1774782000-1774782900@provplace.com
SUMMARY:Walking Group
DESCRIPTION:
URL:https://provplace.com/event-calendar/walking-group-253/
LOCATION:2S
CATEGORIES:Memory Care
END:VEVENT
BEGIN:VEVENT
DTSTART;TZID=America/Chicago:20260329T133000
DTEND;TZID=America/Chicago:20260329T140000
DTSTAMP:20260419T175334
CREATED:20260228T040747Z
LAST-MODIFIED:20260329T055738Z
UID:10003293-1774791000-1774792800@provplace.com
SUMMARY:Music Jam: Listener's Choice
DESCRIPTION:
URL:https://provplace.com/event-calendar/music-jam-listeners-choice-19/
LOCATION:3 North
CATEGORIES:Long Term Care
END:VEVENT
BEGIN:VEVENT
DTSTART;TZID=America/Chicago:20260329T153000
DTEND;TZID=America/Chicago:20260329T160000
DTSTAMP:20260419T175334
CREATED:20260228T035240Z
LAST-MODIFIED:20260329T062623Z
UID:10003292-1774798200-1774800000@provplace.com
SUMMARY:Bean Bag Toss
DESCRIPTION:
URL:https://provplace.com/event-calendar/bean-bag-toss-33/
LOCATION:2S
CATEGORIES:Memory Care
END:VEVENT
END:VCALENDAR